From mboxrd@z Thu Jan 1 00:00:00 1970 Return-Path: Received: from mails.dpdk.org (mails.dpdk.org [217.70.189.124]) by inbox.dpdk.org (Postfix) with ESMTP id 0994848927 for ; Mon, 13 Oct 2025 15:32:26 +0200 (CEST) Received: from mails.dpdk.org (localhost [127.0.0.1]) by mails.dpdk.org (Postfix) with ESMTP id CDAD94028C; Mon, 13 Oct 2025 15:32:25 +0200 (CEST) Received: from mail-io1-f100.google.com (mail-io1-f100.google.com [209.85.166.100]) by mails.dpdk.org (Postfix) with ESMTP id A9A794028C for ; Mon, 13 Oct 2025 15:32:24 +0200 (CEST) Received: by mail-io1-f100.google.com with SMTP id ca18e2360f4ac-93e2c9821fcso251208139f.3 for ; Mon, 13 Oct 2025 06:32:24 -0700 (PDT) DKIM-Signature: v=1; a=rsa-sha256; c=relaxed/relaxed; d=iol.unh.edu; s=unh-iol; t=1760362344; x=1760967144; darn=dpdk.org; h=references:in-reply-to:cc:to:from:subject:message-id:date:from:to :cc:subject:date:message-id:reply-to; bh=uPk7rgVeNd3eHMEPoXn0ZSAmsP8u+W0p9U8PFE1rHXQ=; b=BRDDeoZ12FI18MEHgWjfOR65WGTwuoRRB9bU/fguyD3cjuvKukxJU2Iko4hk+kJ0iY gqmuU5bObUfLJKPTMbrUHhUHxYGBoS+JGmenQ8IIpp+5EvoYZDHvR1tPHv3pdh5rEHq5 wP34ibuM/sXhqwVfb5o4f4nDXJPiS9F5rwgfM= X-Google-DKIM-Signature: v=1; a=rsa-sha256; c=relaxed/relaxed; d=1e100.net; s=20230601; t=1760362344; x=1760967144; h=references:in-reply-to:cc:to:from:subject:message-id:date :x-gm-message-state:from:to:cc:subject:date:message-id:reply-to; bh=uPk7rgVeNd3eHMEPoXn0ZSAmsP8u+W0p9U8PFE1rHXQ=; b=JH2Z+HSqL7ZhWHbGEkEMj0fztXf7eURAS2w/kz7pal9G/ixwTrW+cPQsf7e0YsBS2C DzdjRNfR6CIGcmB1dHXOY2WWHVZm/zyXzbEdkwL0ucoogidBr0Ut/jLf3qUUp37w4mz4 ps67QPLMX7rNEuk2L5bwOna1gBv8bc7+Q3ONd5JO2ELZdC7IvQdHNPCe6imphyeHJ7lu yzoCqCnZGNvH/UYdoVWnTbj7/BqxqBhXyfEnsn1sGmRkR8ixIBP2cjGlqc+VvGYoZCFZ 855lGmcDf/vhUroQhA+BdeB1b2WGZNIs5yM6hToByWKwCMjYUww5g3ii2lKUCU3vdBlB kEkw== X-Gm-Message-State: AOJu0Yz+Qv8Pj52d7I/DuWW0kFFu40WCEydkl9K8vZMEuXwh10VM3Z05 T8MT+q1j4FdbQKzoJkUV1stnPtwfORyEgd+pU4x5YQwjIjyTYR4B9bwr8eqp8nMXHrt3uxtJ1md 7UuSC292t1PdgTFB5mDmDVvD0TrpZFff/aoMd/746DlWR X-Gm-Gg: ASbGncvxh51Qm9B7dZP9Wzd/zhxZPY1vWFepngRQkEGVy8jwrWWL5ABEbnB3vc250ED MqJDFj6ze2q/InlrrCr0JkyZwxrMNh6oRtUaYo15orxyEz+nYwErUzagNnUd+/Y2hAG6KdTG5NN p6AIVsOx7G87v7KQF6a9cllca5mxXdovgzsUcSaxMC7BSAPej3Z5pgqlDeuyaLmdHN9tgPJsoiN r+RQhKtd/7+nQcD/xlmwofD9hhdv1xRaZweK4CBfjxoTThNB/kUAj506m3QLCNGAvRp1dFY6dh3 S4OyzLcpgGyIb0hclSQkoWljEsaKyPpu0DqD6UNE7Kn/W5Vq9cDXBxXlzpf9RaBZ6pW2U8/x X-Google-Smtp-Source: AGHT+IGRXSPhGAaYpu5YzySv4KNykobI1IxVh4LWNKHaJt+NazrWJGr2L16ncl+TMopDgAzsCzOpFBYx/2aD X-Received: by 2002:a05:6602:2c0d:b0:876:adf1:b263 with SMTP id ca18e2360f4ac-93bd1886848mr2648576839f.6.1760362343829; Mon, 13 Oct 2025 06:32:23 -0700 (PDT) Received: from postal.iol.unh.edu (postal.iol.unh.edu. [132.177.123.84]) by smtp-relay.gmail.com with ESMTPS id ca18e2360f4ac-93e25950898sm63635239f.5.2025.10.13.06.32.23 (version=TLS1_2 cipher=ECDHE-ECDSA-AES128-GCM-SHA256 bits=128/128); Mon, 13 Oct 2025 06:32:23 -0700 (PDT) X-Relaying-Domain: iol.unh.edu Date: Mon, 13 Oct 2025 06:32:23 -0700 (PDT) Message-ID: <68ecff67.5e0a0220.207411.f352SMTPIN_ADDED_MISSING@mx.google.com> Received: from [172.21.0.2] (unknown [172.18.0.240]) by postal.iol.unh.edu (Postfix) with ESMTP id 696996051830; Mon, 13 Oct 2025 09:32:23 -0400 (EDT) Subject: |SUCCESS| pw157495-157494 [PATCH] [v4,4/4] dma/acc: add doc From: dpdklab@iol.unh.edu To: Test Report Cc: dpdk-test-reports@iol.unh.edu In-Reply-To: <20251013091157.1145-5-fengchengwen@huawei.com> References: <20251013091157.1145-5-fengchengwen@huawei.com> Content-Type: text/plain X-BeenThere: test-report@dpdk.org X-Mailman-Version: 2.1.29 Precedence: list List-Id: automatic DPDK test reports List-Unsubscribe: , List-Archive: List-Post: List-Help: List-Subscribe: , Errors-To: test-report-bounces@dpdk.org Test-Label: iol-compile-arm64-testing Test-Status: SUCCESS http://dpdk.org/patch/157494 _Testing PASS_ Submitter: Chengwen Feng Date: Monday, October 13 2025 09:11:57 DPDK git baseline: Repo:dpdk Branch: master CommitID:2b403dd8fb37d0ba13723e44ffc7ee2c2795f838 157495-157494 --> testing pass Upstream job id: Generic-DPDK-Compile-Meson#433709 Test environment and result as below: +------------------------------+--------------------+ | Environment | dpdk_meson_compile | +==============================+====================+ | Ubuntu 20.04 | PASS | +------------------------------+--------------------+ | Red Hat Enterprise Linux 9.5 | PASS | +------------------------------+--------------------+ | Fedora Linux 42 | PASS | +------------------------------+--------------------+ | CentOS Stream 9 | PASS | +------------------------------+--------------------+ | Ubuntu 24.04 | PASS | +------------------------------+--------------------+ | CentOS Stream 10 | PASS | +------------------------------+--------------------+ | Ubuntu 22.04 | PASS | +------------------------------+--------------------+ | Debian GNU/Linux 12 | PASS | +------------------------------+--------------------+ Ubuntu 20.04 Kernel: 5.15 Compiler: gcc gcc (Ubuntu 9.4.0-1ubuntu1~20.04.2) 9.4.0 Red Hat Enterprise Linux 9.5 Kernel: 5.4 Compiler: gcc gcc (GCC) 11.5.0 20240719 (Red Hat 11.5.0-2) Fedora Linux 42 Kernel: 5.4 Compiler: clang gcc (GCC) 15.2.1 20250808 (Red Hat 15.2.1-1) CentOS Stream 9 Kernel: 5.4 Compiler: gcc gcc (GCC) 11.5.0 20240719 (Red Hat 11.5.0-11) Ubuntu 24.04 Kernel: 5.4 Compiler: gcc gcc (Ubuntu 13.3.0-6ubuntu2~24.04) 13.3.0 CentOS Stream 10 Kernel: 5.4 Compiler: gcc gcc (GCC) 14.2.1 20250110 (Red Hat 14.2.1-8) Ubuntu 22.04 Kernel: 5.4 Compiler: gcc gcc (Ubuntu 11.4.0-1ubuntu1~22.04) 11.4.0 Debian GNU/Linux 12 Kernel: 5.4 Compiler: gcc gcc (Debian 12.2.0-14+deb12u1) 12.2.0 To view detailed results, visit: https://lab.dpdk.org/results/dashboard/patchsets/34262/ UNH-IOL DPDK Community Lab To manage your email subscriptions, visit: https://lab.dpdk.org/results/dashboard/preferences/subscriptions/