From mboxrd@z Thu Jan 1 00:00:00 1970 Return-Path: Received: from mails.dpdk.org (mails.dpdk.org [217.70.189.124]) by inbox.dpdk.org (Postfix) with ESMTP id E4F7E48927 for ; Mon, 13 Oct 2025 15:55:48 +0200 (CEST) Received: from mails.dpdk.org (localhost [127.0.0.1]) by mails.dpdk.org (Postfix) with ESMTP id AB7A94028C; Mon, 13 Oct 2025 15:55:48 +0200 (CEST) Received: from mail-pg1-f225.google.com (mail-pg1-f225.google.com [209.85.215.225]) by mails.dpdk.org (Postfix) with ESMTP id 1D5F34028C for ; Mon, 13 Oct 2025 15:55:47 +0200 (CEST) Received: by mail-pg1-f225.google.com with SMTP id 41be03b00d2f7-b554bb615dcso2851307a12.1 for ; Mon, 13 Oct 2025 06:55:47 -0700 (PDT) DKIM-Signature: v=1; a=rsa-sha256; c=relaxed/relaxed; d=iol.unh.edu; s=unh-iol; t=1760363746; x=1760968546; darn=dpdk.org; h=references:in-reply-to:cc:to:from:subject:message-id:date:from:to :cc:subject:date:message-id:reply-to; bh=MXcupr7H5TPn4L9aKe8h2WV8353NIEyzKheD6on2LYE=; b=U0w+uf+uDlm3EAAIH8ZB6jiwAL62qCHvfIxorwRmAGntYZtLkBa6IXB92WvlpFf7on WQNtS99JOVHof8keaza6Mzc1Rt2YSHpYvqzRt1Pu3Ja+ZGa5tjF7Y1FDB9dL0N7q7Z5X 9jxA0LWrHSCataRKk9TKBvRfTRLalBJOAW7k4= X-Google-DKIM-Signature: v=1; a=rsa-sha256; c=relaxed/relaxed; d=1e100.net; s=20230601; t=1760363746; x=1760968546; h=references:in-reply-to:cc:to:from:subject:message-id:date :x-gm-message-state:from:to:cc:subject:date:message-id:reply-to; bh=MXcupr7H5TPn4L9aKe8h2WV8353NIEyzKheD6on2LYE=; b=ZFLrkquNcpB36qeXBy+ecx/LLsy9QXI5C2ZiB44qTF6dT3BHCejYrd57vo6DSDCgFw ieBQdargG2HF6fAFdwksW962drLxxpyvR0HishTF/ZPsDPshHxye9qrNlhuJ49nFWGsW 8dysI2ZYyJWyKPHoNJPelGKYSBnIo1trZWDJ7gJQBHP0Quhc/BW4zar/nWpXGc2jUlKV oiya2eiAbKzKz1VFG9uyOJdJxFUKu4JfMVUVcoLkjb6MBicZe50Tl2to5vMoaizkRN2r HQoVHhQW5ZDZNmmJ8Kx2sSSxoAIHBzQb4vDseK9BzxitHaN3Hun0NHOA+3kiDVtAFVZ8 400A== X-Gm-Message-State: AOJu0YwCm8OjGQkqkKgwMgAsD0tTFPjX84q/kUwcSdVSO8BlxlcfQhLC QijQBHfe9DbjuwFRCEN/S0kBdMEpjBju9ko0okBlLzhlihKCUCwvdI5Ahchl9ARZHbJoLHo/1j0 XcVlS4+enAWok9ewXT7bFsbL2JHrSsgpGz1tFaGC9TKjy X-Gm-Gg: ASbGncv1LtbXCpFEhc5LabGAlV5idvAqutS/W2oypE8UaspuXKVkmeaZXD2/gIYIj7g 7Ykjo+yg6XM+8PReCxDiY1GazD0o7kyihKt8wCvyxsHQ3dYXegoDXuwZZv0YwfaBTbcqjRCjEV3 bgVOOwQtpisH8tpVE24wWTAumXI7U3Dhv0FBnGO0vSQWblyGVhF55pa2VzXnztaIfwiHpfOqg/k kgRL689VONjtTFpLRRmkgkoboSkZEs9LDU+F9IUQX7UOga55wK9QCelSJk5TVA86LQcQgFlOvLz Ehj9ht5A7PPNGiV2Pl+cDgDHstDHGLo3DCXCyB5h6xo0ry95smCzPWn7mV3pN6uslMor3yoM X-Google-Smtp-Source: AGHT+IES//pnxEjwNiOS2gyxjWVZ9re4xxl1DzH+z1tSVhs2lyGiXF3Nvx3XlsD6qvzLz2AWZcQ3GnYVXpRZ X-Received: by 2002:a17:903:1b46:b0:269:b65a:cbb2 with SMTP id d9443c01a7336-2902738685emr271648225ad.47.1760363746109; Mon, 13 Oct 2025 06:55:46 -0700 (PDT) Received: from postal.iol.unh.edu (postal.iol.unh.edu. [132.177.123.84]) by smtp-relay.gmail.com with ESMTPS id d9443c01a7336-29034e4f75bsm10840405ad.33.2025.10.13.06.55.46 (version=TLS1_2 cipher=ECDHE-ECDSA-AES128-GCM-SHA256 bits=128/128); Mon, 13 Oct 2025 06:55:46 -0700 (PDT) X-Relaying-Domain: iol.unh.edu Date: Mon, 13 Oct 2025 06:55:46 -0700 (PDT) Message-ID: <68ed04e2.170a0220.d1f2d.5177SMTPIN_ADDED_MISSING@mx.google.com> Received: from [172.21.0.3] (unknown [172.18.0.240]) by postal.iol.unh.edu (Postfix) with ESMTP id 5E58B6051830; Mon, 13 Oct 2025 09:55:45 -0400 (EDT) Subject: |SUCCESS| pw157474-157492 [PATCH] [v2,19/19] drivers: fix Klocwork i From: dpdklab@iol.unh.edu To: Test Report Cc: dpdk-test-reports@iol.unh.edu In-Reply-To: <20251013065949.200414-19-ndabilpuram@marvell.com> References: <20251013065949.200414-19-ndabilpuram@marvell.com> Content-Type: text/plain X-BeenThere: test-report@dpdk.org X-Mailman-Version: 2.1.29 Precedence: list List-Id: automatic DPDK test reports List-Unsubscribe: , List-Archive: List-Post: List-Help: List-Subscribe: , Errors-To: test-report-bounces@dpdk.org Test-Label: iol-compile-arm64-testing Test-Status: SUCCESS http://dpdk.org/patch/157492 _Testing PASS_ Submitter: Nithin Dabilpuram Date: Monday, October 13 2025 06:59:49 DPDK git baseline: Repo:dpdk-next-net-mrvl Branch: master CommitID:f3878b615e69a12087a6c5d212723478cfc79c31 157474-157492 --> testing pass Upstream job id: Generic-DPDK-Compile-Meson#433688 Test environment and result as below: +------------------------------+--------------------+ | Environment | dpdk_meson_compile | +==============================+====================+ | Fedora Linux 42 | PASS | +------------------------------+--------------------+ | Ubuntu 20.04 | PASS | +------------------------------+--------------------+ | Debian GNU/Linux 12 | PASS | +------------------------------+--------------------+ | Red Hat Enterprise Linux 9.5 | PASS | +------------------------------+--------------------+ | Ubuntu 22.04 | PASS | +------------------------------+--------------------+ | Ubuntu 24.04 | PASS | +------------------------------+--------------------+ | CentOS Stream 9 | PASS | +------------------------------+--------------------+ | CentOS Stream 10 | PASS | +------------------------------+--------------------+ Fedora Linux 42 Kernel: 5.4 Compiler: clang gcc (GCC) 15.2.1 20250808 (Red Hat 15.2.1-1) Ubuntu 20.04 Kernel: 5.4 Compiler: gcc gcc (Ubuntu 9.4.0-1ubuntu1~20.04.2) 9.4.0 Debian GNU/Linux 12 Kernel: 5.4 Compiler: gcc gcc (Debian 12.2.0-14+deb12u1) 12.2.0 Red Hat Enterprise Linux 9.5 Kernel: 5.4 Compiler: gcc gcc (GCC) 11.5.0 20240719 (Red Hat 11.5.0-2) Ubuntu 22.04 Kernel: 5.4 Compiler: gcc gcc (Ubuntu 11.4.0-1ubuntu1~22.04) 11.4.0 Ubuntu 24.04 Kernel: 5.4 Compiler: gcc gcc (Ubuntu 13.3.0-6ubuntu2~24.04) 13.3.0 CentOS Stream 9 Kernel: 5.4 Compiler: gcc gcc (GCC) 11.5.0 20240719 (Red Hat 11.5.0-11) CentOS Stream 10 Kernel: 5.4 Compiler: gcc gcc (GCC) 14.2.1 20250110 (Red Hat 14.2.1-8) To view detailed results, visit: https://lab.dpdk.org/results/dashboard/patchsets/34261/ UNH-IOL DPDK Community Lab To manage your email subscriptions, visit: https://lab.dpdk.org/results/dashboard/preferences/subscriptions/