From mboxrd@z Thu Jan 1 00:00:00 1970 Return-Path: Received: from mails.dpdk.org (mails.dpdk.org [217.70.189.124]) by inbox.dpdk.org (Postfix) with ESMTP id 2FBD948927 for ; Mon, 13 Oct 2025 16:51:14 +0200 (CEST) Received: from mails.dpdk.org (localhost [127.0.0.1]) by mails.dpdk.org (Postfix) with ESMTP id 059EA4028C; Mon, 13 Oct 2025 16:51:14 +0200 (CEST) Received: from mail-il1-f226.google.com (mail-il1-f226.google.com [209.85.166.226]) by mails.dpdk.org (Postfix) with ESMTP id A6A4F4028C for ; Mon, 13 Oct 2025 16:51:12 +0200 (CEST) Received: by mail-il1-f226.google.com with SMTP id e9e14a558f8ab-42f8da689a6so43725965ab.2 for ; Mon, 13 Oct 2025 07:51:12 -0700 (PDT) DKIM-Signature: v=1; a=rsa-sha256; c=relaxed/relaxed; d=iol.unh.edu; s=unh-iol; t=1760367072; x=1760971872; darn=dpdk.org; h=references:in-reply-to:cc:to:from:subject:message-id:date:from:to :cc:subject:date:message-id:reply-to; bh=NegxNXjql2IlKiG8/6WqW1/W8asZvfzKZVTMy65LKts=; b=Md0m1g4miH7t0HJZz/9GGcG/BOR+lx8zAUeaP0uWyfyFRZBmfXV7gYiUg4elWnU8fR HzMEXlupXLXh6wV3I47BmBxBeA5AjGniV3nt5hrJNfvQmXj5xsEhnmbpbZAT+4N9og2S npGGmGP4vvbsukIpn6afFgRNWUQbzd234RNmc= X-Google-DKIM-Signature: v=1; a=rsa-sha256; c=relaxed/relaxed; d=1e100.net; s=20230601; t=1760367072; x=1760971872; h=references:in-reply-to:cc:to:from:subject:message-id:date :x-gm-message-state:from:to:cc:subject:date:message-id:reply-to; bh=NegxNXjql2IlKiG8/6WqW1/W8asZvfzKZVTMy65LKts=; b=imhiro33oAZb3iEBUcRaH92EJRCBfLjuOUQRxsyD6spHDpWuoED8uXWRz5UMRPltjr NLNI/FuYS7jk3HJ4NARar8TowSnbzQqmNJog1Bd5XBql9R+GOg9iPeKW0LlbbfE4QlaH TVXIWAYEzLQ00NUr6OP39MecdyxRoOi8GD6zuP5pApel5Z3iA4GiA3emZcO8w1Z3dx8d 1DABCSbngQL9zpi3qwO6SsIEazF1RwxykakZGdFk1JduYnOO2LUaVbG9G+w3tGlTL5iY GiBRpaGxsthgZdFL/Zv09ah2IxzK3/Sw0cDf+5YIk4HJYtDyI8Ys6veuO93JpE+b2bac 2lYg== X-Gm-Message-State: AOJu0YzRIhW5H8drMJ7ka5Z5PIQxc6IefNE/F1rsPKO6zo9WzdfgghyH lhfuM6p8aogUVFxbv9WpwarFgrsic22uG/iBHo7YizIsuSEyHBPbBZ3QYo6GoDJP9r0hICwyjWM VKvROFSDPYCnOmTDX12kmKcyoGcTI7IST1s3NRyDxkqOt X-Gm-Gg: ASbGncuet+VOC/joa2idfbGwpbEcQG4cpk544xAFmh7nfNJlzSyaRAoSU+rvjLNA7k4 PjUK3XxeRXkb9SEqMz9fE01YefTJOtiELCzLPCl9647ryvz2s7YWERXFg3IBvqmgMmYloJlw3gX QJJMtXKR7+Tlx32ohfp+ihyj0Dj/75YQdURbilGm3zvkx0X6KDq6qgg9ogIDWYmXfDw//7pKWN2 lvcH905anpxxX+4xMDzy9QcqNucBkKB2zAMZeh5mzNbj8nWIPg1nsXaB0+QBsH7v2nWT00fHCfw +MBGMDdFSuJggKMQNAOfUuta2x1tKiH2zMXB+CscqKrK/2X3XNbRn4g7RZf8qKS9zxwjhMNG X-Google-Smtp-Source: AGHT+IEA1MyTc91cPKwwIA+61r2f5w/+4xzUpAhyUk05Tkujre30XpaUdo0jkWY5Y9bMJ9WHrw19b6/kaBih X-Received: by 2002:a05:6e02:1a09:b0:42f:9501:69e with SMTP id e9e14a558f8ab-42f95010904mr163228925ab.20.1760367071907; Mon, 13 Oct 2025 07:51:11 -0700 (PDT) Received: from postal.iol.unh.edu (postal.iol.unh.edu. [132.177.123.84]) by smtp-relay.gmail.com with ESMTPS id e9e14a558f8ab-42f90260c91sm8438935ab.13.2025.10.13.07.51.11 (version=TLS1_2 cipher=ECDHE-ECDSA-AES128-GCM-SHA256 bits=128/128); Mon, 13 Oct 2025 07:51:11 -0700 (PDT) X-Relaying-Domain: iol.unh.edu Date: Mon, 13 Oct 2025 07:51:11 -0700 (PDT) Message-ID: <68ed11df.050a0220.707e3.a0f3SMTPIN_ADDED_MISSING@mx.google.com> Received: from [172.21.0.2] (unknown [172.18.0.240]) by postal.iol.unh.edu (Postfix) with ESMTP id 6A84B6051830; Mon, 13 Oct 2025 10:51:11 -0400 (EDT) Subject: |SUCCESS| pw157474-157492 [PATCH] [v2,19/19] drivers: fix Klocwork i From: dpdklab@iol.unh.edu To: Test Report Cc: dpdk-test-reports@iol.unh.edu In-Reply-To: <20251013065949.200414-19-ndabilpuram@marvell.com> References: <20251013065949.200414-19-ndabilpuram@marvell.com> Content-Type: text/plain X-BeenThere: test-report@dpdk.org X-Mailman-Version: 2.1.29 Precedence: list List-Id: automatic DPDK test reports List-Unsubscribe: , List-Archive: List-Post: List-Help: List-Subscribe: , Errors-To: test-report-bounces@dpdk.org Test-Label: iol-unit-arm64-testing Test-Status: SUCCESS http://dpdk.org/patch/157492 _Testing PASS_ Submitter: Nithin Dabilpuram Date: Monday, October 13 2025 06:59:49 DPDK git baseline: Repo:dpdk-next-net-mrvl Branch: master CommitID:f3878b615e69a12087a6c5d212723478cfc79c31 157474-157492 --> testing pass Upstream job id: Generic-Unit-Test-DPDK#380781 Test environment and result as below: +------------------------------+----------------+---------------------------+--------------+------------------------------+ | Environment | dpdk_unit_test | cryptodev_sw_zuc_autotest | lpm_autotest | cryptodev_sw_snow3g_autotest | +==============================+================+===========================+==============+==============================+ | Fedora Linux 40 | PASS | SKIPPED | SKIPPED | SKIPPED | +------------------------------+----------------+---------------------------+--------------+------------------------------+ | Debian GNU/Linux 12 | PASS | SKIPPED | SKIPPED | SKIPPED | +------------------------------+----------------+---------------------------+--------------+------------------------------+ | CentOS Stream 9 | PASS | SKIPPED | SKIPPED | SKIPPED | +------------------------------+----------------+---------------------------+--------------+------------------------------+ | CentOS Stream 10 | PASS | SKIPPED | SKIPPED | SKIPPED | +------------------------------+----------------+---------------------------+--------------+------------------------------+ | Red Hat Enterprise Linux 9.5 | PASS | SKIPPED | SKIPPED | SKIPPED | +------------------------------+----------------+---------------------------+--------------+------------------------------+ | Fedora Linux 42 | PASS | SKIPPED | SKIPPED | SKIPPED | +------------------------------+----------------+---------------------------+--------------+------------------------------+ | Ubuntu 20.04 | PASS | SKIPPED | PASS | SKIPPED | +------------------------------+----------------+---------------------------+--------------+------------------------------+ | Fedora Linux 41 | PASS | SKIPPED | SKIPPED | SKIPPED | +------------------------------+----------------+---------------------------+--------------+------------------------------+ | Ubuntu 24.04 | PASS | SKIPPED | SKIPPED | SKIPPED | +------------------------------+----------------+---------------------------+--------------+------------------------------+ | Ubuntu 22.04 | PASS | SKIPPED | SKIPPED | SKIPPED | +------------------------------+----------------+---------------------------+--------------+------------------------------+ | Debian 12 (arm) | SKIPPED | PASS | SKIPPED | PASS | +------------------------------+----------------+---------------------------+--------------+------------------------------+ Fedora Linux 40 Kernel: 5.4 Compiler: gcc gcc (GCC) 14.2.1 20240912 (Red Hat 14.2.1-3) Debian GNU/Linux 12 Kernel: 5.4 Compiler: gcc gcc (Debian 12.2.0-14+deb12u1) 12.2.0 CentOS Stream 9 Kernel: 5.4 Compiler: gcc gcc (GCC) 11.5.0 20240719 (Red Hat 11.5.0-11) CentOS Stream 10 Kernel: 5.4 Compiler: gcc gcc (GCC) 14.2.1 20250110 (Red Hat 14.2.1-8) Red Hat Enterprise Linux 9.5 Kernel: 5.4 Compiler: gcc gcc (GCC) 11.5.0 20240719 (Red Hat 11.5.0-2) Fedora Linux 42 Kernel: 5.4 Compiler: gcc gcc (GCC) 15.2.1 20250808 (Red Hat 15.2.1-1) Ubuntu 20.04 Kernel: 5.4 Compiler: gcc gcc (Ubuntu 9.4.0-1ubuntu1~20.04.2) 9.4.0 Fedora Linux 41 Kernel: 5.4 Compiler: clang gcc (GCC) 14.3.1 20250523 (Red Hat 14.3.1-1) Ubuntu 24.04 Kernel: 5.4 Compiler: gcc gcc (Ubuntu 13.3.0-6ubuntu2~24.04) 13.3.0 Ubuntu 22.04 Kernel: 5.4 Compiler: gcc gcc (Ubuntu 11.4.0-1ubuntu1~22.04) 11.4.0 Debian 12 (arm) Kernel: Depends on container host Compiler: gcc (Debian 12.2.0-14) 12.2.0 To view detailed results, visit: https://lab.dpdk.org/results/dashboard/patchsets/34261/ UNH-IOL DPDK Community Lab To manage your email subscriptions, visit: https://lab.dpdk.org/results/dashboard/preferences/subscriptions/