From mboxrd@z Thu Jan 1 00:00:00 1970 Return-Path: Received: from mails.dpdk.org (mails.dpdk.org [217.70.189.124]) by inbox.dpdk.org (Postfix) with ESMTP id 395F748927 for ; Mon, 13 Oct 2025 17:46:16 +0200 (CEST) Received: from mails.dpdk.org (localhost [127.0.0.1]) by mails.dpdk.org (Postfix) with ESMTP id 1DD644028C; Mon, 13 Oct 2025 17:46:16 +0200 (CEST) Received: from mail-pl1-f228.google.com (mail-pl1-f228.google.com [209.85.214.228]) by mails.dpdk.org (Postfix) with ESMTP id 0C0C64028C for ; Mon, 13 Oct 2025 17:46:15 +0200 (CEST) Received: by mail-pl1-f228.google.com with SMTP id d9443c01a7336-279e2554b5fso33160585ad.1 for ; Mon, 13 Oct 2025 08:46:14 -0700 (PDT) DKIM-Signature: v=1; a=rsa-sha256; c=relaxed/relaxed; d=iol.unh.edu; s=unh-iol; t=1760370374; x=1760975174; darn=dpdk.org; h=references:in-reply-to:cc:to:from:subject:message-id:date:from:to :cc:subject:date:message-id:reply-to; bh=Npb3dz5lDIOir/7FOtyeOyvk1kgh7y/F65Aem28tVT4=; b=ZpZbcVCL9HgQ4auvsSvUVbeRG2GJhzZ79VB1+yP3+RXl6+FJBAYb5cGxaWNXFqWzA5 onmMf3kVpK1mr2eYX2SfvUgbmIwDXpSKynnM4lmQYMZwC60WZKs9C+Tzb5fcpnwHwLbn XGBEiKcBE2ewDT6jovFZzrovF64TMbnn7F6UU= X-Google-DKIM-Signature: v=1; a=rsa-sha256; c=relaxed/relaxed; d=1e100.net; s=20230601; t=1760370374; x=1760975174; h=references:in-reply-to:cc:to:from:subject:message-id:date :x-gm-message-state:from:to:cc:subject:date:message-id:reply-to; bh=Npb3dz5lDIOir/7FOtyeOyvk1kgh7y/F65Aem28tVT4=; b=Zd8CjWtJlzm1gs7AfqozS/r3UFuymfVpDBXYWQRs51vNs6tm6uT2UrQj1nlOti1nbu bjUp9h9dohbUOd4udTkK5yZ42GTpK1poBuFQa8MKqut/lR8YdLYA0NLG5Ei3lI/ybi/D 0ybAzN9B2he2Zfx4Pzysgv3jR1xk+6p7GPHuGGlcmu1p+WuimEm3C1fwE3gvJauZOehS M1Y7gjT8ZdcA5YaYKVh4Rv6u8BFP9dslyyyQkMLzwgPZP1T+zZM3rUAqLDPDPbUvRWco vcrjGbPhhGbSgQv/+uWAtzgCVhw/cBWB0gl7AQBOpbw7kUu0f9KJ47Pf1rGQ7nq0mSBD cOIg== X-Gm-Message-State: AOJu0Yyrx59qSfh6/hWZqU1TIzRwZOSV3Jfkvqw8H/4MTJQyLVfQ89ov kSsWKQ2l9mftcz8O/T94bndBIIIzHZ9Tbki6IYGhSlsVniQBNfR++3sFAsHLzN2jY7zQhxSYjqy 0e/s1n0u8C4JEZQEfRdvx6Syt6Pg+JytCTQdso7e/e7XtLEvH09muo+Q0Of/8 X-Gm-Gg: ASbGncscMxrAyWdLSwGge09vD0WOpvQd1nVZs7q31jvYVVZlxNDHOacNgd1JIJiNHpQ hLVpqXGsvxAqTgYUaL1W97iNAinWJpAdA/UHB8AE2FkXL5QuIOVAvwLUFwBzLaxva/DTkE28nDC 5UBRShKJnolgIhCtt1A6YzxY6jfZr4TroHVNEW2AoDh/Co2Ut5q0FBeZp2NW3C7puLqVFA+IEpk n70fLp/GshloAjD/DnOZ/d2pjZbL3mAymxpbCYRuUXcGQZTcEzHxH7JQychb/7jSwEMGyonTel9 N36ST7ohm/cOA4GFdOi2cIipf/5IvM3UZiFd1GH+sJuT2k9r+Q== X-Google-Smtp-Source: AGHT+IFLVXn03NDaVfPTqZ0eqK6xqZ+VRScMYVg7c2zW1BeqZu0vAJlTdezdySV6VjirmhGbdBuK33dnRnLj X-Received: by 2002:a17:902:db09:b0:25c:43f7:7e40 with SMTP id d9443c01a7336-29027e788c9mr281978525ad.10.1760370374082; Mon, 13 Oct 2025 08:46:14 -0700 (PDT) Received: from postal.iol.unh.edu (postal.iol.unh.edu. [2606:4100:3880:1234::84]) by smtp-relay.gmail.com with ESMTPS id d9443c01a7336-29034f2dd0asm11372155ad.57.2025.10.13.08.46.13 (version=TLS1_2 cipher=ECDHE-ECDSA-AES128-GCM-SHA256 bits=128/128); Mon, 13 Oct 2025 08:46:14 -0700 (PDT) X-Relaying-Domain: iol.unh.edu Date: Mon, 13 Oct 2025 08:46:14 -0700 (PDT) Message-ID: <68ed1ec6.170a0220.2f0cb5.87b3SMTPIN_ADDED_MISSING@mx.google.com> Received: from [172.21.0.2] (unknown [172.18.0.240]) by postal.iol.unh.edu (Postfix) with ESMTP id 801896050A61; Mon, 13 Oct 2025 11:46:13 -0400 (EDT) Subject: |SUCCESS| pw157497 [PATCH] dma/hisilicon: fix stop dmadev fail From: dpdklab@iol.unh.edu To: Test Report Cc: dpdk-test-reports@iol.unh.edu In-Reply-To: <20251013092211.6804-1-fengchengwen@huawei.com> References: <20251013092211.6804-1-fengchengwen@huawei.com> Content-Type: text/plain X-BeenThere: test-report@dpdk.org X-Mailman-Version: 2.1.29 Precedence: list List-Id: automatic DPDK test reports List-Unsubscribe: , List-Archive: List-Post: List-Help: List-Subscribe: , Errors-To: test-report-bounces@dpdk.org Test-Label: iol-compile-arm64-testing Test-Status: SUCCESS http://dpdk.org/patch/157497 _Testing PASS_ Submitter: Chengwen Feng Date: Monday, October 13 2025 09:22:11 DPDK git baseline: Repo:dpdk Branch: master CommitID:2b403dd8fb37d0ba13723e44ffc7ee2c2795f838 157497 --> testing pass Upstream job id: Generic-DPDK-Compile-Meson#433736 Test environment and result as below: +------------------------------+--------------------+ | Environment | dpdk_meson_compile | +==============================+====================+ | Ubuntu 20.04 | PASS | +------------------------------+--------------------+ | Red Hat Enterprise Linux 9.5 | PASS | +------------------------------+--------------------+ | Debian GNU/Linux 12 | PASS | +------------------------------+--------------------+ | Fedora Linux 42 | PASS | +------------------------------+--------------------+ | CentOS Stream 10 | PASS | +------------------------------+--------------------+ | Ubuntu 22.04 | PASS | +------------------------------+--------------------+ | CentOS Stream 9 | PASS | +------------------------------+--------------------+ | Ubuntu 24.04 | PASS | +------------------------------+--------------------+ Ubuntu 20.04 Kernel: 5.4 Compiler: gcc gcc (Ubuntu 9.4.0-1ubuntu1~20.04.2) 9.4.0 Red Hat Enterprise Linux 9.5 Kernel: 5.4 Compiler: gcc gcc (GCC) 11.5.0 20240719 (Red Hat 11.5.0-2) Debian GNU/Linux 12 Kernel: 5.4 Compiler: gcc gcc (Debian 12.2.0-14+deb12u1) 12.2.0 Fedora Linux 42 Kernel: 5.4 Compiler: gcc gcc (GCC) 15.2.1 20250808 (Red Hat 15.2.1-1) CentOS Stream 10 Kernel: 5.4 Compiler: gcc gcc (GCC) 14.2.1 20250110 (Red Hat 14.2.1-8) Ubuntu 22.04 Kernel: 5.4 Compiler: gcc gcc (Ubuntu 11.4.0-1ubuntu1~22.04) 11.4.0 CentOS Stream 9 Kernel: 5.4 Compiler: gcc gcc (GCC) 11.5.0 20240719 (Red Hat 11.5.0-11) Ubuntu 24.04 Kernel: 5.4 Compiler: gcc gcc (Ubuntu 13.3.0-6ubuntu2~24.04) 13.3.0 To view detailed results, visit: https://lab.dpdk.org/results/dashboard/patchsets/34263/ UNH-IOL DPDK Community Lab To manage your email subscriptions, visit: https://lab.dpdk.org/results/dashboard/preferences/subscriptions/