From mboxrd@z Thu Jan 1 00:00:00 1970 Return-Path: Received: from mails.dpdk.org (mails.dpdk.org [217.70.189.124]) by inbox.dpdk.org (Postfix) with ESMTP id 9F78848927 for ; Mon, 13 Oct 2025 17:50:56 +0200 (CEST) Received: from mails.dpdk.org (localhost [127.0.0.1]) by mails.dpdk.org (Postfix) with ESMTP id 7F1ED4028C; Mon, 13 Oct 2025 17:50:56 +0200 (CEST) Received: from mail-il1-f228.google.com (mail-il1-f228.google.com [209.85.166.228]) by mails.dpdk.org (Postfix) with ESMTP id 80CB64028C for ; Mon, 13 Oct 2025 17:50:55 +0200 (CEST) Received: by mail-il1-f228.google.com with SMTP id e9e14a558f8ab-42592472031so10931875ab.3 for ; Mon, 13 Oct 2025 08:50:55 -0700 (PDT) DKIM-Signature: v=1; a=rsa-sha256; c=relaxed/relaxed; d=iol.unh.edu; s=unh-iol; t=1760370655; x=1760975455; darn=dpdk.org; h=references:in-reply-to:cc:to:from:subject:message-id:date:from:to :cc:subject:date:message-id:reply-to; bh=VtDulzJdXwDoKf9FT8CeAC47wicLSa31gfKoZKV0e0g=; b=i3+QzpDA+4JexexBgnuhOnxoz7Bq7NLMdCQE4Toc+qT4XJp4Qtgb1xzy+gexwyhlUm DIiNKYScN2UIIheHWzXkb7wPM/vDEkL8aMD87B/TR36VycRMd4XAax6pIOlNdfEdDuaY rsxEiHLxhR6Yl9D4HcznWDgdI4Xff5+xWD6/s= X-Google-DKIM-Signature: v=1; a=rsa-sha256; c=relaxed/relaxed; d=1e100.net; s=20230601; t=1760370655; x=1760975455; h=references:in-reply-to:cc:to:from:subject:message-id:date :x-gm-message-state:from:to:cc:subject:date:message-id:reply-to; bh=VtDulzJdXwDoKf9FT8CeAC47wicLSa31gfKoZKV0e0g=; b=MfDaxFfbNHXZcDIWTfcvsbeCw57DtrJOmTDQsQHJhbrX7cYJQ8VJzXUJWo5V8hNXLJ 27R5AeB0dzHTd08Jq6sWYz831TbjB7VEFD5gJvtMkUtSlFIfLvING9BA0tLhBnCKCVRk PuNrY5DT1bkinkh5yKyxZhcFjZwyzqnDMdaCAOuott8JEvg7j6AkYSl3r9Daoi8sCPg+ egPYVlB8+MqI7NRvxMPSvtZRs+GFxKlaI4aKbCyayRj96B9Ku/JGL1sLvZrrkUIFMVY+ gXv8TVenBuqNKH3FxJ2dwiqInSByUXapvD4xwYHoMreW+EPyTH09dxsrx1xqAkOREZqv tZ5w== X-Gm-Message-State: AOJu0Yx+gXFh1zCGI5LRC6N25r1JYhmEjxvba4ZsUozKuc2ws2suoo30 h1uKptnCt3HW9CayKacSXv8Eo067ZeA+oHIPejO0b5hEZLQwz0sojpyveQsY1gu9LsskyJVIOw9 qcnvzxi4oWu8ohYHZsZukKcsGOiZ743uYzc+uHVKmZ7kW X-Gm-Gg: ASbGnct3CEZXd+eSGtNm2etBhixfrngq328N6yagdvFJdu5XE9g+96OXxqVD4GMM33W Fk0gnjXmBgo5JjI54PNUyB1gfvEMUg1rmnuNlDOCn7uBWxEj5MNdEX9wAI7JalkOSIY8SKDQY4q Lo4FTFSBCSRPxnflDhEHVxGZDNjexKZ2Pek2S157Advle3nwt/Bc5MDTwM1qnvWq/KoRpc1827h y8WLn3qnz+hoLb+G/iN5E+YoSuzhpwSVELtwIlyu9hndql+ZT9iScLmbZdE/7fjZe69MSu61kdn oeJWgB+GXjzqAOYjWDBEaoknApCVVE2GnYzXFgym1uZDLwqjgVuCMcAGmVQXO1ZydVovnznF X-Google-Smtp-Source: AGHT+IFFMrM7Ru4rdCnzdUV0toT86E/Nn9yqRh5nsn0ppEU/XJEQ6zHMvV5YgbUkzUgHm6bJL32cSjw9RBr8 X-Received: by 2002:a05:6e02:3e8e:b0:40b:db4:839b with SMTP id e9e14a558f8ab-42f8736d106mr189429085ab.5.1760370654712; Mon, 13 Oct 2025 08:50:54 -0700 (PDT) Received: from postal.iol.unh.edu (postal.iol.unh.edu. [132.177.123.84]) by smtp-relay.gmail.com with ESMTPS id 8926c6da1cb9f-58f71e18846sm848740173.33.2025.10.13.08.50.54 (version=TLS1_2 cipher=ECDHE-ECDSA-AES128-GCM-SHA256 bits=128/128); Mon, 13 Oct 2025 08:50:54 -0700 (PDT) X-Relaying-Domain: iol.unh.edu Date: Mon, 13 Oct 2025 08:50:54 -0700 (PDT) Message-ID: <68ed1fde.050a0220.533bf.8da6SMTPIN_ADDED_MISSING@mx.google.com> Received: from [172.21.0.2] (unknown [172.18.0.240]) by postal.iol.unh.edu (Postfix) with ESMTP id 11C736050A61; Mon, 13 Oct 2025 11:50:54 -0400 (EDT) Subject: |SUCCESS| pw157495-157494 [PATCH] [v4,4/4] dma/acc: add doc From: dpdklab@iol.unh.edu To: Test Report Cc: dpdk-test-reports@iol.unh.edu In-Reply-To: <20251013091157.1145-5-fengchengwen@huawei.com> References: <20251013091157.1145-5-fengchengwen@huawei.com> Content-Type: text/plain X-BeenThere: test-report@dpdk.org X-Mailman-Version: 2.1.29 Precedence: list List-Id: automatic DPDK test reports List-Unsubscribe: , List-Archive: List-Post: List-Help: List-Subscribe: , Errors-To: test-report-bounces@dpdk.org Test-Label: iol-unit-arm64-testing Test-Status: SUCCESS http://dpdk.org/patch/157494 _Testing PASS_ Submitter: Chengwen Feng Date: Monday, October 13 2025 09:11:57 DPDK git baseline: Repo:dpdk Branch: master CommitID:2b403dd8fb37d0ba13723e44ffc7ee2c2795f838 157495-157494 --> testing pass Upstream job id: Generic-Unit-Test-DPDK#380802 Test environment and result as below: +------------------------------+--------------+---------------------------+------------------------------+----------------+ | Environment | lpm_autotest | cryptodev_sw_zuc_autotest | cryptodev_sw_snow3g_autotest | dpdk_unit_test | +==============================+==============+===========================+==============================+================+ | Ubuntu 20.04 | PASS | SKIPPED | SKIPPED | PASS | +------------------------------+--------------+---------------------------+------------------------------+----------------+ | Debian 12 (arm) | SKIPPED | PASS | PASS | SKIPPED | +------------------------------+--------------+---------------------------+------------------------------+----------------+ | CentOS Stream 9 | SKIPPED | SKIPPED | SKIPPED | PASS | +------------------------------+--------------+---------------------------+------------------------------+----------------+ | Debian GNU/Linux 12 | SKIPPED | SKIPPED | SKIPPED | PASS | +------------------------------+--------------+---------------------------+------------------------------+----------------+ | Fedora Linux 40 | SKIPPED | SKIPPED | SKIPPED | PASS | +------------------------------+--------------+---------------------------+------------------------------+----------------+ | Fedora Linux 41 | SKIPPED | SKIPPED | SKIPPED | PASS | +------------------------------+--------------+---------------------------+------------------------------+----------------+ | CentOS Stream 10 | SKIPPED | SKIPPED | SKIPPED | PASS | +------------------------------+--------------+---------------------------+------------------------------+----------------+ | Fedora Linux 42 | SKIPPED | SKIPPED | SKIPPED | PASS | +------------------------------+--------------+---------------------------+------------------------------+----------------+ | Red Hat Enterprise Linux 9.5 | SKIPPED | SKIPPED | SKIPPED | PASS | +------------------------------+--------------+---------------------------+------------------------------+----------------+ | Ubuntu 24.04 | SKIPPED | SKIPPED | SKIPPED | PASS | +------------------------------+--------------+---------------------------+------------------------------+----------------+ | Ubuntu 22.04 | SKIPPED | SKIPPED | SKIPPED | PASS | +------------------------------+--------------+---------------------------+------------------------------+----------------+ Ubuntu 20.04 Kernel: 5.4 Compiler: gcc gcc (Ubuntu 9.4.0-1ubuntu1~20.04.2) 9.4.0 Debian 12 (arm) Kernel: Depends on container host Compiler: gcc (Debian 12.2.0-14) 12.2.0 CentOS Stream 9 Kernel: 5.4 Compiler: gcc gcc (GCC) 11.5.0 20240719 (Red Hat 11.5.0-11) Debian GNU/Linux 12 Kernel: 5.4 Compiler: gcc gcc (Debian 12.2.0-14+deb12u1) 12.2.0 Fedora Linux 40 Kernel: 5.4 Compiler: gcc gcc (GCC) 14.2.1 20240912 (Red Hat 14.2.1-3) Fedora Linux 41 Kernel: 5.4 Compiler: gcc gcc (GCC) 14.3.1 20250523 (Red Hat 14.3.1-1) CentOS Stream 10 Kernel: 5.4 Compiler: gcc gcc (GCC) 14.2.1 20250110 (Red Hat 14.2.1-8) Fedora Linux 42 Kernel: 5.4 Compiler: gcc gcc (GCC) 15.2.1 20250808 (Red Hat 15.2.1-1) Red Hat Enterprise Linux 9.5 Kernel: 5.4 Compiler: gcc gcc (GCC) 11.5.0 20240719 (Red Hat 11.5.0-2) Ubuntu 24.04 Kernel: 5.4 Compiler: gcc gcc (Ubuntu 13.3.0-6ubuntu2~24.04) 13.3.0 Ubuntu 22.04 Kernel: 5.4 Compiler: gcc gcc (Ubuntu 11.4.0-1ubuntu1~22.04) 11.4.0 To view detailed results, visit: https://lab.dpdk.org/results/dashboard/patchsets/34262/ UNH-IOL DPDK Community Lab To manage your email subscriptions, visit: https://lab.dpdk.org/results/dashboard/preferences/subscriptions/