From mboxrd@z Thu Jan 1 00:00:00 1970 Return-Path: Received: from mails.dpdk.org (mails.dpdk.org [217.70.189.124]) by inbox.dpdk.org (Postfix) with ESMTP id A750A48929 for ; Mon, 13 Oct 2025 18:42:51 +0200 (CEST) Received: from mails.dpdk.org (localhost [127.0.0.1]) by mails.dpdk.org (Postfix) with ESMTP id 79EDF4028C; Mon, 13 Oct 2025 18:42:51 +0200 (CEST) Received: from mail-oo1-f99.google.com (mail-oo1-f99.google.com [209.85.161.99]) by mails.dpdk.org (Postfix) with ESMTP id 3A8744028C for ; Mon, 13 Oct 2025 18:42:50 +0200 (CEST) Received: by mail-oo1-f99.google.com with SMTP id 006d021491bc7-63a1f3c0820so1682055eaf.2 for ; Mon, 13 Oct 2025 09:42:50 -0700 (PDT) DKIM-Signature: v=1; a=rsa-sha256; c=relaxed/relaxed; d=iol.unh.edu; s=unh-iol; t=1760373769; x=1760978569; darn=dpdk.org; h=references:in-reply-to:cc:to:from:subject:message-id:date:from:to :cc:subject:date:message-id:reply-to; bh=K0WulzIeCny07RKFxSngLvfXOhE+02tyKNhfugTWBR0=; b=aNrqRqjGtTW9+tO8ihqg5rzLvl8v5krwmo/CzWZBW5LX0uI+owi1w15loPnYuUKVe4 L5/n0q12rKBY4EPtINtMO06kXZKWafzShBtrtwZPm/T4oLRyTtuYb4wAmwRbERf5j+O0 cBzo+b5/VWubBZXqnKFqi4SD1FLY+epki6kgE= X-Google-DKIM-Signature: v=1; a=rsa-sha256; c=relaxed/relaxed; d=1e100.net; s=20230601; t=1760373769; x=1760978569; h=references:in-reply-to:cc:to:from:subject:message-id:date :x-gm-message-state:from:to:cc:subject:date:message-id:reply-to; bh=K0WulzIeCny07RKFxSngLvfXOhE+02tyKNhfugTWBR0=; b=ZhMv0oUk9/QZxLL1N6QoWcIfpgymTsC+50PQw+SwQjfSwOm/8JnaS+pczsKUYImgNM wNCWJ9aK1TUCSnG9VPLgQS05re8FVN7LrEfgf/cn/lBp4yWw2T9T458czbBpa+XbACIk /QYLbSPsNVFn8qcpDEzuoQWqS7hsYmDBTYGoyHS/DBe16uKoeH/6sWvGwr/a38LFkSgC YmFjY9ux6W58VUG1yRhtVOFDoqtUf7C4RAe1Tv44Fc6BUY6oFUFJv6U7RRCNVSVVUQNA ALEXWl8X6vLEEPR5JDSUbNH7s9/Y84hkrYl34Ka32qNTNYhdEf47kYlUwVfP6I17n2uJ 31dA== X-Gm-Message-State: AOJu0YwFYjAkNDSQLY4ssb9Bal4VFI+uwo+wKx/QcOrYwF9HZEd5smYn Bwomd6jqdpmMp7UwF2W6B03c9Kt1VfNDC+TH3iQA4ctGt7y3g6xpG5IkCrLNz9ch5sjU1FuBkP+ ey6CuKo+WYIe7et55zIqF46HFQWyOF0vEiJoMY4aDPvtH X-Gm-Gg: ASbGncs7QU/7pwMl8wB8Z0396Yo//N1EDaRNCts1xD+b3FnyknPa+e7zgdfTC2tSY1j KCbzKWZGjdTlwEA1EYfwRd+tCcwMFKAupM9Y70v9oNeiH5NI48h1aTjxeGN+jZ0hUXNcQVKnr/W BtvTIvYeGPIejXdxl9YG9zCa5PdTkPEim9HQvrL4QdnoP0BxtA/wxP2GAzLurtmzHLkPf1Q/IHw nD9XE1vsYMFofqeQ8HMrzp1Yip/YutTPoyo6B8hr9Ux41FuzKkwnOrgURMyW7WCHjfaO9aMR1c/ ZQwMUGw3KgMwqgbvVDC5faT1QJxaP529Igm+E+lFG2smWEtscOR9DeV78KfwWIWFJicyVUwz X-Google-Smtp-Source: AGHT+IEXe+KCyh6enoqDXmTFiMo/ljmZshYovkVHfeYGfy3g83VrSI3sNRa4/+HXxnJUfS9hJUDGnhiJ9mwe X-Received: by 2002:a05:6871:79b:b0:2ff:d8bb:fc26 with SMTP id 586e51a60fabf-3c0f9c7a24emr12333397fac.35.1760373769356; Mon, 13 Oct 2025 09:42:49 -0700 (PDT) Received: from postal.iol.unh.edu (postal.iol.unh.edu. [132.177.123.84]) by smtp-relay.gmail.com with ESMTPS id 586e51a60fabf-3c8c8f908b6sm1001683fac.25.2025.10.13.09.42.49 (version=TLS1_2 cipher=ECDHE-ECDSA-AES128-GCM-SHA256 bits=128/128); Mon, 13 Oct 2025 09:42:49 -0700 (PDT) X-Relaying-Domain: iol.unh.edu Date: Mon, 13 Oct 2025 09:42:49 -0700 (PDT) Message-ID: <68ed2c09.050a0220.1cdbc5.18efSMTPIN_ADDED_MISSING@mx.google.com> Received: from [172.21.0.2] (unknown [172.18.0.240]) by postal.iol.unh.edu (Postfix) with ESMTP id CAE7360003F7; Mon, 13 Oct 2025 12:42:48 -0400 (EDT) Subject: |SUCCESS| pw157497 [PATCH] dma/hisilicon: fix stop dmadev fail From: dpdklab@iol.unh.edu To: Test Report Cc: dpdk-test-reports@iol.unh.edu In-Reply-To: <20251013092211.6804-1-fengchengwen@huawei.com> References: <20251013092211.6804-1-fengchengwen@huawei.com> Content-Type: text/plain X-BeenThere: test-report@dpdk.org X-Mailman-Version: 2.1.29 Precedence: list List-Id: automatic DPDK test reports List-Unsubscribe: , List-Archive: List-Post: List-Help: List-Subscribe: , Errors-To: test-report-bounces@dpdk.org Test-Label: iol-unit-arm64-testing Test-Status: SUCCESS http://dpdk.org/patch/157497 _Testing PASS_ Submitter: Chengwen Feng Date: Monday, October 13 2025 09:22:11 DPDK git baseline: Repo:dpdk Branch: master CommitID:2b403dd8fb37d0ba13723e44ffc7ee2c2795f838 157497 --> testing pass Upstream job id: Generic-Unit-Test-DPDK#380824 Test environment and result as below: +------------------------------+--------------+---------------------------+------------------------------+----------------+ | Environment | lpm_autotest | cryptodev_sw_zuc_autotest | cryptodev_sw_snow3g_autotest | dpdk_unit_test | +==============================+==============+===========================+==============================+================+ | Ubuntu 20.04 | PASS | SKIPPED | SKIPPED | PASS | +------------------------------+--------------+---------------------------+------------------------------+----------------+ | Debian 12 (arm) | SKIPPED | PASS | PASS | SKIPPED | +------------------------------+--------------+---------------------------+------------------------------+----------------+ | Fedora Linux 41 | SKIPPED | SKIPPED | SKIPPED | PASS | +------------------------------+--------------+---------------------------+------------------------------+----------------+ | Fedora Linux 40 | SKIPPED | SKIPPED | SKIPPED | PASS | +------------------------------+--------------+---------------------------+------------------------------+----------------+ | Fedora Linux 42 | SKIPPED | SKIPPED | SKIPPED | PASS | +------------------------------+--------------+---------------------------+------------------------------+----------------+ | CentOS Stream 9 | SKIPPED | SKIPPED | SKIPPED | PASS | +------------------------------+--------------+---------------------------+------------------------------+----------------+ | CentOS Stream 10 | SKIPPED | SKIPPED | SKIPPED | PASS | +------------------------------+--------------+---------------------------+------------------------------+----------------+ | Debian GNU/Linux 12 | SKIPPED | SKIPPED | SKIPPED | PASS | +------------------------------+--------------+---------------------------+------------------------------+----------------+ | Ubuntu 22.04 | SKIPPED | SKIPPED | SKIPPED | PASS | +------------------------------+--------------+---------------------------+------------------------------+----------------+ | Red Hat Enterprise Linux 9.5 | SKIPPED | SKIPPED | SKIPPED | PASS | +------------------------------+--------------+---------------------------+------------------------------+----------------+ | Ubuntu 24.04 | SKIPPED | SKIPPED | SKIPPED | PASS | +------------------------------+--------------+---------------------------+------------------------------+----------------+ Ubuntu 20.04 Kernel: 5.4 Compiler: gcc gcc (Ubuntu 9.4.0-1ubuntu1~20.04.2) 9.4.0 Debian 12 (arm) Kernel: Depends on container host Compiler: gcc (Debian 12.2.0-14) 12.2.0 Fedora Linux 41 Kernel: 5.4 Compiler: gcc gcc (GCC) 14.3.1 20250523 (Red Hat 14.3.1-1) Fedora Linux 40 Kernel: 5.4 Compiler: gcc gcc (GCC) 14.2.1 20240912 (Red Hat 14.2.1-3) Fedora Linux 42 Kernel: 5.4 Compiler: clang gcc (GCC) 15.2.1 20250808 (Red Hat 15.2.1-1) CentOS Stream 9 Kernel: 5.4 Compiler: gcc gcc (GCC) 11.5.0 20240719 (Red Hat 11.5.0-11) CentOS Stream 10 Kernel: 5.4 Compiler: gcc gcc (GCC) 14.2.1 20250110 (Red Hat 14.2.1-8) Debian GNU/Linux 12 Kernel: 5.4 Compiler: gcc gcc (Debian 12.2.0-14+deb12u1) 12.2.0 Ubuntu 22.04 Kernel: 5.4 Compiler: gcc gcc (Ubuntu 11.4.0-1ubuntu1~22.04) 11.4.0 Red Hat Enterprise Linux 9.5 Kernel: 5.4 Compiler: gcc gcc (GCC) 11.5.0 20240719 (Red Hat 11.5.0-2) Ubuntu 24.04 Kernel: 5.4 Compiler: gcc gcc (Ubuntu 13.3.0-6ubuntu2~24.04) 13.3.0 To view detailed results, visit: https://lab.dpdk.org/results/dashboard/patchsets/34263/ UNH-IOL DPDK Community Lab To manage your email subscriptions, visit: https://lab.dpdk.org/results/dashboard/preferences/subscriptions/