From mboxrd@z Thu Jan 1 00:00:00 1970 Return-Path: Received: from mails.dpdk.org (mails.dpdk.org [217.70.189.124]) by inbox.dpdk.org (Postfix) with ESMTP id EA0F54892A for ; Mon, 13 Oct 2025 21:18:58 +0200 (CEST) Received: from mails.dpdk.org (localhost [127.0.0.1]) by mails.dpdk.org (Postfix) with ESMTP id C9C2D402A0; Mon, 13 Oct 2025 21:18:58 +0200 (CEST) Received: from mail-qv1-f98.google.com (mail-qv1-f98.google.com [209.85.219.98]) by mails.dpdk.org (Postfix) with ESMTP id F1B37402A0 for ; Mon, 13 Oct 2025 21:18:57 +0200 (CEST) Received: by mail-qv1-f98.google.com with SMTP id 6a1803df08f44-78e9f48da30so56380786d6.1 for ; Mon, 13 Oct 2025 12:18:57 -0700 (PDT) DKIM-Signature: v=1; a=rsa-sha256; c=relaxed/relaxed; d=iol.unh.edu; s=unh-iol; t=1760383137; x=1760987937; darn=dpdk.org; h=references:in-reply-to:cc:to:from:subject:message-id:date:from:to :cc:subject:date:message-id:reply-to; bh=lMJYwEpPg1TfnnaqOrijS4R6sASRAoQ5EwLDf2J/6zU=; b=Epqy7IazTOplk5ngGE+Rh3qGmpnOgiwTdELmJsKKhbU9aKkDtPPtmVy9l0LRhRrALy CKUQJD087jn9ncavIxR3AdY9Lo4HCpbMhlQooY8FZJU47ENIpMmW8m/zsHo+E+Dp4NC+ dY1O60INF7iOyxg8NFoTtBh9I2Rc9t7cx6RJw= X-Google-DKIM-Signature: v=1; a=rsa-sha256; c=relaxed/relaxed; d=1e100.net; s=20230601; t=1760383137; x=1760987937; h=references:in-reply-to:cc:to:from:subject:message-id:date :x-gm-message-state:from:to:cc:subject:date:message-id:reply-to; bh=lMJYwEpPg1TfnnaqOrijS4R6sASRAoQ5EwLDf2J/6zU=; b=WycZUKC1WC+KUFyemmkfnMtvfSKwnXmxxo7HMQXcI1iLt9iEDJvAvlUzzfF6EWYt75 bPHdlk1+X3E9kLkndrD+GqiHtms/rkYhtpsatETCqV/vg+GJD036xB6ZKs3fBJKGmGV8 CjSIIAVtOWJbJJbcmDI0UyIbR+20D18ekXQEWv36QvMocOu18ysNus0flV0Zsn9cknPH a2oRi2XupFPOjUc82q4uNRyYmxTXkybUdAbCiGRA0asiKxP6itXOv9CrLfBhHuZH/h1R nm8i15Wg7EKYm/Pa3XFfxS3u8yXQjyH5Byht8l7lDJ0PgmGWby/Q//Fi4TpAx8gEBnid okQA== X-Gm-Message-State: AOJu0YyZdiY8VhNGaDfRqQjmVYdg39EHZXI29nOV1Dm6jcF1GXH8Pfys HxcBAplyU97EmEX1VOAK5fpkmj0tyLVuin9bD9FsngAQhYtaRIraR/rvev5N0g8hRU7R1nS80RG NwUFrOiyKdWqb55trEX48tqZsbL4iIS9cYTTtizTuuOUJ X-Gm-Gg: ASbGnctQtIEz+Jxr/QTUGbyM8AJPtsFJJMtwQFYO5zjmiIEWmOMTOW+0tccwKPHMNiJ Lwuv8rjxakJB69tucMANH5xXG0j/kxlTj5gVKs35O+ZNe8XYQ/+KPb4AQxwA8O1aKzJoG3Ez4xz i8A3HbX+mgDcmyQd3Wvz9IU+OD42ExBIqsGgN18/86HLHXINXC8ljowFxAu5Mxe6sp1c/WES8QR BblwHxda8CpSKFR5FOXwkfe1CiRq1iPGNHKiMkZjHC8XeytZaB+JX7jppWoW8/jnsKo4d7SkhRA xAyKY6K7VsTy7hGej7Ju0WqiUZePdcD3fh2uupkHdlb7WMoSzMiwxacaK5UgcvlsONLVAYEY X-Google-Smtp-Source: AGHT+IES9k+9CiXIIkEf9hxiz96U77qy8OdjGsZnF70GBq4h6hQrQ6gTMUGqkKESfWPVQsgmNwOpxEBYx/vH X-Received: by 2002:a05:6214:2b0a:b0:879:fcf3:5c7d with SMTP id 6a1803df08f44-87b2efdb244mr282637576d6.52.1760383137238; Mon, 13 Oct 2025 12:18:57 -0700 (PDT) Received: from postal.iol.unh.edu (postal.iol.unh.edu. [132.177.123.84]) by smtp-relay.gmail.com with ESMTPS id 6a1803df08f44-87bc356a882sm8133216d6.38.2025.10.13.12.18.57 (version=TLS1_2 cipher=ECDHE-ECDSA-AES128-GCM-SHA256 bits=128/128); Mon, 13 Oct 2025 12:18:57 -0700 (PDT) X-Relaying-Domain: iol.unh.edu Date: Mon, 13 Oct 2025 12:18:57 -0700 (PDT) Message-ID: <68ed50a1.050a0220.372287.799fSMTPIN_ADDED_MISSING@mx.google.com> Received: from [172.21.0.2] (unknown [172.18.0.240]) by postal.iol.unh.edu (Postfix) with ESMTP id E3D7D6050A61; Mon, 13 Oct 2025 15:18:56 -0400 (EDT) Subject: |SUCCESS| pw157498-157500 [PATCH] [v6,3/3] net/ice: add PFC statisti From: dpdklab@iol.unh.edu To: Test Report Cc: dpdk-test-reports@iol.unh.edu, Bruce Richardson In-Reply-To: <20251013180523.61468-4-vladimir.medvedkin@intel.com> References: <20251013180523.61468-4-vladimir.medvedkin@intel.com> Content-Type: text/plain X-BeenThere: test-report@dpdk.org X-Mailman-Version: 2.1.29 Precedence: list List-Id: automatic DPDK test reports List-Unsubscribe: , List-Archive: List-Post: List-Help: List-Subscribe: , Errors-To: test-report-bounces@dpdk.org Test-Label: iol-unit-amd64-testing Test-Status: SUCCESS http://dpdk.org/patch/157500 _Testing PASS_ Submitter: Vladimir Medvedkin Date: Monday, October 13 2025 18:05:23 DPDK git baseline: Repo:dpdk-next-net-intel Branch: master CommitID:b26049c00e3c452cb446d688a43c6c7eebbee32e 157498-157500 --> testing pass Upstream job id: Generic-VM-Unit-Test-DPDK#31754 Test environment and result as below: +-------------------------------+----------------+ | Environment | dpdk_unit_test | +===============================+================+ | CentOS Stream 9 | PASS | +-------------------------------+----------------+ | Fedora Linux 41 | PASS | +-------------------------------+----------------+ | Fedora Linux 42 | PASS | +-------------------------------+----------------+ | Red Hat Enterprise Linux 8.10 | PASS | +-------------------------------+----------------+ | Debian GNU/Linux 12 | PASS | +-------------------------------+----------------+ | Red Hat Enterprise Linux 9.5 | PASS | +-------------------------------+----------------+ | Fedora Linux 40 | PASS | +-------------------------------+----------------+ | Ubuntu 24.04 | PASS | +-------------------------------+----------------+ | CentOS Stream 10 | PASS | +-------------------------------+----------------+ | Ubuntu 22.04 | PASS | +-------------------------------+----------------+ | Ubuntu 20.04 | PASS | +-------------------------------+----------------+ | Windows Server 2022 | PASS | +-------------------------------+----------------+ CentOS Stream 9 Kernel: 5.15 Compiler: gcc gcc (GCC) 11.5.0 20240719 (Red Hat 11.5.0-11) Fedora Linux 41 Kernel: 5.15 Compiler: gcc gcc (GCC) 14.3.1 20250523 (Red Hat 14.3.1-1) Fedora Linux 42 Kernel: 5.15 Compiler: gcc gcc (GCC) 15.2.1 20250808 (Red Hat 15.2.1-1) Red Hat Enterprise Linux 8.10 Kernel: 5.15 Compiler: gcc gcc (GCC) 8.5.0 20210514 (Red Hat 8.5.0-22) Debian GNU/Linux 12 Kernel: 5.15 Compiler: gcc gcc (Debian 12.2.0-14+deb12u1) 12.2.0 Red Hat Enterprise Linux 9.5 Kernel: 5.15 Compiler: gcc gcc (GCC) 11.5.0 20240719 (Red Hat 11.5.0-2) Fedora Linux 40 Kernel: 5.15 Compiler: clang gcc (GCC) 14.2.1 20240912 (Red Hat 14.2.1-3) Ubuntu 24.04 Kernel: 5.15 Compiler: gcc gcc (Ubuntu 13.3.0-6ubuntu2~24.04) 13.3.0 CentOS Stream 10 Kernel: 5.15 Compiler: gcc gcc (GCC) 14.2.1 20250110 (Red Hat 14.2.1-8) Ubuntu 22.04 Kernel: 5.15 Compiler: gcc gcc (Ubuntu 11.4.0-1ubuntu1~22.04) 11.4.0 Ubuntu 20.04 Kernel: 5.15 Compiler: gcc gcc (Ubuntu 9.4.0-1ubuntu1~20.04.2) 9.4.0 Windows Server 2022 Kernel: 10.0.20348.2031 Compiler: clang 15.0.7, gcc 14.1.0 (MinGW), and MSVC VS 19.39.33521 To view detailed results, visit: https://lab.dpdk.org/results/dashboard/patchsets/34264/ UNH-IOL DPDK Community Lab To manage your email subscriptions, visit: https://lab.dpdk.org/results/dashboard/preferences/subscriptions/