From mboxrd@z Thu Jan 1 00:00:00 1970 Return-Path: Received: from mails.dpdk.org (mails.dpdk.org [217.70.189.124]) by inbox.dpdk.org (Postfix) with ESMTP id DD18A4892A for ; Mon, 13 Oct 2025 21:27:44 +0200 (CEST) Received: from mails.dpdk.org (localhost [127.0.0.1]) by mails.dpdk.org (Postfix) with ESMTP id BA69B402A0; Mon, 13 Oct 2025 21:27:44 +0200 (CEST) Received: from mail-qv1-f97.google.com (mail-qv1-f97.google.com [209.85.219.97]) by mails.dpdk.org (Postfix) with ESMTP id AB30E402A0 for ; Mon, 13 Oct 2025 21:27:43 +0200 (CEST) Received: by mail-qv1-f97.google.com with SMTP id 6a1803df08f44-7e3148a8928so57303186d6.2 for ; Mon, 13 Oct 2025 12:27:43 -0700 (PDT) DKIM-Signature: v=1; a=rsa-sha256; c=relaxed/relaxed; d=iol.unh.edu; s=unh-iol; t=1760383663; x=1760988463; darn=dpdk.org; h=references:in-reply-to:cc:to:from:subject:message-id:date:from:to :cc:subject:date:message-id:reply-to; bh=iKA/sfrguYF+EMtxSZAYvY8F3jVI1XMxxjpn6/67cD8=; b=Ept4LH0rd/qQiFgNse2r8X4lx4Vgtpgqr9IVXXUbMySHGS3RziR4umF5NzRjZ9h9pC 4BSxpJ7uQNvPIhhLCRpWCGAKI6wRsCeDI0GcCvFSBjQhgKaOuAIT+3+Q+3QA1g+EpHqS fChtGPn6twtRHGjmmqmG16r4nNral9NN5Zz7o= X-Google-DKIM-Signature: v=1; a=rsa-sha256; c=relaxed/relaxed; d=1e100.net; s=20230601; t=1760383663; x=1760988463; h=references:in-reply-to:cc:to:from:subject:message-id:date :x-gm-message-state:from:to:cc:subject:date:message-id:reply-to; bh=iKA/sfrguYF+EMtxSZAYvY8F3jVI1XMxxjpn6/67cD8=; b=R2AZdioAJDjdMlZd/iqu1uMjB7tSlpVSypFIn+xmnYhU8MC8IglMujUbT+JfbEkPB5 90ABjlbK07+mmcRDoqdt0kl774SQ18xH8VapPXkN1ziocVMCgZyyEgFnFvlzgETq8ScC kV5Y+sEYBfq2eO1G96fwKdCm6Yu2W1OMXrG9AX+Ec1+hczj1ZSumbZls+LEvtgD41iRq 7eVMEctROY4GMuvrAUkaTgGF3ebxM4ll+8h0PaYRNg1V37A77lMmTze2RDatnBHtqd1X 6M5h+uIsakw6HLT/B/6g4Osw/+HgOSIzhXvKUvuuYtdkD6M97ET1jSxfbUFYXn+p0s6h LZ0g== X-Gm-Message-State: AOJu0YyCj6UBduFDGGjyeVyFPn0iSFQ7K0Jo+hziifSHREpV7L3IcFdW BHIM189clVvaXepV6HDSeSMvbWGSvqt/ABLF18XqOi2X5qq8m3jouQ4Dt/ZxX5UQDcAYAPK2/UK dp3cgN9W/6LvwMMDp3gyjbDorbcrhRJn/Lr0j/HRosXtj X-Gm-Gg: ASbGncuZOkdVFlqeXVm03czQxPHEMPnahwM2wGfnMkG7b5khF7lMyCsavljyy4G6QV0 ZT/3Efs0QiWigW8oedNtGc3WGhjPPOJJRtdHuR1ccMoNDcw5I9SpGX/wPSuUJrIs2VLhrzi26eW lFnytqBwdISbXPS+rJIHZZOqfXM5E5SetASoeqc3bVwW3JPOo0/qS46KYXnP7BIgNXjmKTEDZkH DCYxprNcpReEMON7anQbqTqSg9DUAEhoTu1u6+4B8ntNkCzVKVSa2r/Pc5dswAkpWekFPO4zwpD KN/Ak2iUMf7Hn4lE/rdAaqzguOLGcT2FvYXgzwp15xuzLyp2j2tJkUTpeb2wa8DqBZOhrbIR X-Google-Smtp-Source: AGHT+IHwZLRJEcHxzt3VsPF3DldwXagdpUR6dspTHEVhDiir6t/onb6vV4nKojFU0WTM2KUg5oFwgNo/h20y X-Received: by 2002:a05:6214:4012:b0:879:b99b:993c with SMTP id 6a1803df08f44-87b21065d5dmr350557266d6.18.1760383662806; Mon, 13 Oct 2025 12:27:42 -0700 (PDT) Received: from postal.iol.unh.edu (postal.iol.unh.edu. [132.177.123.84]) by smtp-relay.gmail.com with ESMTPS id 6a1803df08f44-87bc3450880sm9026606d6.4.2025.10.13.12.27.42 (version=TLS1_2 cipher=ECDHE-ECDSA-AES128-GCM-SHA256 bits=128/128); Mon, 13 Oct 2025 12:27:42 -0700 (PDT) X-Relaying-Domain: iol.unh.edu Date: Mon, 13 Oct 2025 12:27:42 -0700 (PDT) Message-ID: <68ed52ae.050a0220.2d7971.ccacSMTPIN_ADDED_MISSING@mx.google.com> Received: from [172.21.0.2] (unknown [172.18.0.240]) by postal.iol.unh.edu (Postfix) with ESMTP id 7C0CC60003F7; Mon, 13 Oct 2025 15:27:42 -0400 (EDT) Subject: |SUCCESS| pw157498-157500 [PATCH] [v6,3/3] net/ice: add PFC statisti From: dpdklab@iol.unh.edu To: Test Report Cc: dpdk-test-reports@iol.unh.edu, Bruce Richardson In-Reply-To: <20251013180523.61468-4-vladimir.medvedkin@intel.com> References: <20251013180523.61468-4-vladimir.medvedkin@intel.com> Content-Type: text/plain X-BeenThere: test-report@dpdk.org X-Mailman-Version: 2.1.29 Precedence: list List-Id: automatic DPDK test reports List-Unsubscribe: , List-Archive: List-Post: List-Help: List-Subscribe: , Errors-To: test-report-bounces@dpdk.org Test-Label: iol-unit-amd64-testing Test-Status: SUCCESS http://dpdk.org/patch/157500 _Testing PASS_ Submitter: Vladimir Medvedkin Date: Monday, October 13 2025 18:05:23 DPDK git baseline: Repo:dpdk-next-net-intel Branch: master CommitID:b26049c00e3c452cb446d688a43c6c7eebbee32e 157498-157500 --> testing pass Upstream job id: Generic-VM-Unit-Test-DPDK#31755 Test environment and result as below: +-------------------------------+----------------+ | Environment | dpdk_unit_test | +===============================+================+ | CentOS Stream 9 | PASS | +-------------------------------+----------------+ | Fedora Linux 41 | PASS | +-------------------------------+----------------+ | Fedora Linux 42 | PASS | +-------------------------------+----------------+ | Red Hat Enterprise Linux 8.10 | PASS | +-------------------------------+----------------+ | Debian GNU/Linux 12 | PASS | +-------------------------------+----------------+ | Red Hat Enterprise Linux 9.5 | PASS | +-------------------------------+----------------+ | Fedora Linux 40 | PASS | +-------------------------------+----------------+ | Ubuntu 24.04 | PASS | +-------------------------------+----------------+ | CentOS Stream 10 | PASS | +-------------------------------+----------------+ | Ubuntu 22.04 | PASS | +-------------------------------+----------------+ | Ubuntu 20.04 | PASS | +-------------------------------+----------------+ | Windows Server 2022 | PASS | +-------------------------------+----------------+ CentOS Stream 9 Kernel: 5.15 Compiler: gcc gcc (GCC) 11.5.0 20240719 (Red Hat 11.5.0-11) Fedora Linux 41 Kernel: 5.15 Compiler: gcc gcc (GCC) 14.3.1 20250523 (Red Hat 14.3.1-1) Fedora Linux 42 Kernel: 5.15 Compiler: gcc gcc (GCC) 15.2.1 20250808 (Red Hat 15.2.1-1) Red Hat Enterprise Linux 8.10 Kernel: 5.15 Compiler: gcc gcc (GCC) 8.5.0 20210514 (Red Hat 8.5.0-22) Debian GNU/Linux 12 Kernel: 5.15 Compiler: gcc gcc (Debian 12.2.0-14+deb12u1) 12.2.0 Red Hat Enterprise Linux 9.5 Kernel: 5.15 Compiler: gcc gcc (GCC) 11.5.0 20240719 (Red Hat 11.5.0-2) Fedora Linux 40 Kernel: 5.15 Compiler: clang gcc (GCC) 14.2.1 20240912 (Red Hat 14.2.1-3) Ubuntu 24.04 Kernel: 5.15 Compiler: gcc gcc (Ubuntu 13.3.0-6ubuntu2~24.04) 13.3.0 CentOS Stream 10 Kernel: 5.15 Compiler: gcc gcc (GCC) 14.2.1 20250110 (Red Hat 14.2.1-8) Ubuntu 22.04 Kernel: 5.15 Compiler: gcc gcc (Ubuntu 11.4.0-1ubuntu1~22.04) 11.4.0 Ubuntu 20.04 Kernel: 5.15 Compiler: gcc gcc (Ubuntu 9.4.0-1ubuntu1~20.04.2) 9.4.0 Windows Server 2022 Kernel: 10.0.20348.2031 Compiler: clang 15.0.7, gcc 14.1.0 (MinGW), and MSVC VS 19.39.33521 To view detailed results, visit: https://lab.dpdk.org/results/dashboard/patchsets/34264/ UNH-IOL DPDK Community Lab To manage your email subscriptions, visit: https://lab.dpdk.org/results/dashboard/preferences/subscriptions/