From mboxrd@z Thu Jan 1 00:00:00 1970 Return-Path: Received: from mails.dpdk.org (mails.dpdk.org [217.70.189.124]) by inbox.dpdk.org (Postfix) with ESMTP id C57F44892B for ; Mon, 13 Oct 2025 22:04:52 +0200 (CEST) Received: from mails.dpdk.org (localhost [127.0.0.1]) by mails.dpdk.org (Postfix) with ESMTP id 9F95C40288; Mon, 13 Oct 2025 22:04:52 +0200 (CEST) Received: from mail-pg1-f228.google.com (mail-pg1-f228.google.com [209.85.215.228]) by mails.dpdk.org (Postfix) with ESMTP id 4EE0140288 for ; Mon, 13 Oct 2025 22:04:52 +0200 (CEST) Received: by mail-pg1-f228.google.com with SMTP id 41be03b00d2f7-b553412a19bso2832676a12.1 for ; Mon, 13 Oct 2025 13:04:52 -0700 (PDT) DKIM-Signature: v=1; a=rsa-sha256; c=relaxed/relaxed; d=iol.unh.edu; s=unh-iol; t=1760385891; x=1760990691; darn=dpdk.org; h=references:in-reply-to:cc:to:from:subject:message-id:date:from:to :cc:subject:date:message-id:reply-to; bh=1D9UdSMZwXKGIft9bJey234q+i7AmhR6jYfCCGTygYU=; b=dgIPsMYPnu4ubjSQeAX+/64dxSYbzpFifK/YDswD/pYPy2bqQHlwx/ElkLBz427kWJ nfea8DGAdwNN7LrFMQO441WZ1W3EZWSDLF/3ei8tHodgq3x2ESDkoKJ28CrBySuavZp+ 1p1nNK91WoXMYFT9BS7jeCHI3XtSjcIiIhM1g= X-Google-DKIM-Signature: v=1; a=rsa-sha256; c=relaxed/relaxed; d=1e100.net; s=20230601; t=1760385891; x=1760990691; h=references:in-reply-to:cc:to:from:subject:message-id:date :x-gm-message-state:from:to:cc:subject:date:message-id:reply-to; bh=1D9UdSMZwXKGIft9bJey234q+i7AmhR6jYfCCGTygYU=; b=VGfaYrcHo3gU/4Y0zSycIGT476mOXXzMHCwe7DOwLAK55V8jdkFVUP4VeL1aqBFm+V 8EwlgJf4hp7tBAEXVG8AFfY4sift2z7AfaQP2vYCLYaLdceerRhGSv3GUYLQnKV8/u4w EsHERO6aX/VuqNrh5lMskwUeiC4bFQj06KUlMl2Xt+MG2QGiZukibAT8c/XMLRTgnIjY njKF7ifZG7JzkOWzpYIw08FjYYxYhbul3+XJEZhOqCpg4IGDBxUVLFZfdd+iEqSAFdii SqyhrbjaHnS6ZT4iC+w+uLQDBS/6UFPaOx9KJb2OarBaRoWcC1rx3SJiRwzyCXukoaIA rC2A== X-Gm-Message-State: AOJu0Yy8e73eeN8vQB5kc/O3f++UIIZD1zU7Ia9yK7cuA5/gdYq9mVu4 PO+beWucJLg9MAJEnvbDbHQagVEcrrvowNPlfVUdJlMuWnfPRAozCwM46P4g9J6YKNNguzX0BFf jSrB7+boofbRqWc00dOzRKhtyqPXb3n/UCdU+sPtWa1JeAfcbWgtvULFTVDoo X-Gm-Gg: ASbGncuixohBlSwHM69z7JwpdgQDKK1slcbr+LJ7yA6rPswTYqcs1PFumGzH+ojNSOT hpnv45vDUbwnyu046WF3nwF7objHHyMKG9EAlHwYzzSiFvffE2gFd70btxTzGg+GvDZBTD0G+9M hkMQNBFG5ACag4k5RzDlozqfBGQV1NVJ/P9xYMlBY6uPDnqD8avDzEOCQFYgepVrJSD46T2tdwe 27yjdiaRGjWYr3/CDzzhpj1MeGgvNtG1l/LJNj8FK2AqEP/34h/HvogKphMqKQSKZc4GEjwGPwp RsPCzaH21X2QtjFe+U8ksbaWXnwsM2kUnE0MzgZPkPYqkjsWPg== X-Google-Smtp-Source: AGHT+IEA6GRnpUx0yaBW735DWmOheGJeHpCdk8rUyqkQmKRUsWBMCeOlyMXaV6DxYTAmiB3qvqb++Lvt6ZmW X-Received: by 2002:a17:903:acb:b0:24b:270e:56cb with SMTP id d9443c01a7336-2902739b362mr278642695ad.27.1760385891294; Mon, 13 Oct 2025 13:04:51 -0700 (PDT) Received: from postal.iol.unh.edu (postal.iol.unh.edu. [2606:4100:3880:1234::84]) by smtp-relay.gmail.com with ESMTPS id 98e67ed59e1d1-33b6264524esm1019974a91.2.2025.10.13.13.04.51 (version=TLS1_2 cipher=ECDHE-ECDSA-AES128-GCM-SHA256 bits=128/128); Mon, 13 Oct 2025 13:04:51 -0700 (PDT) X-Relaying-Domain: iol.unh.edu Date: Mon, 13 Oct 2025 13:04:51 -0700 (PDT) Message-ID: <68ed5b63.170a0220.128f99.23c2SMTPIN_ADDED_MISSING@mx.google.com> Received: from [172.21.0.2] (unknown [172.18.0.240]) by postal.iol.unh.edu (Postfix) with ESMTP id 6E8416050A61; Mon, 13 Oct 2025 16:04:50 -0400 (EDT) Subject: |SUCCESS| pw157498-157500 [PATCH] [v6,3/3] net/ice: add PFC statisti From: dpdklab@iol.unh.edu To: Test Report Cc: dpdk-test-reports@iol.unh.edu, Bruce Richardson In-Reply-To: <20251013180523.61468-4-vladimir.medvedkin@intel.com> References: <20251013180523.61468-4-vladimir.medvedkin@intel.com> Content-Type: text/plain X-BeenThere: test-report@dpdk.org X-Mailman-Version: 2.1.29 Precedence: list List-Id: automatic DPDK test reports List-Unsubscribe: , List-Archive: List-Post: List-Help: List-Subscribe: , Errors-To: test-report-bounces@dpdk.org Test-Label: iol-unit-arm64-testing Test-Status: SUCCESS http://dpdk.org/patch/157500 _Testing PASS_ Submitter: Vladimir Medvedkin Date: Monday, October 13 2025 18:05:23 DPDK git baseline: Repo:dpdk-next-net-intel Branch: master CommitID:b26049c00e3c452cb446d688a43c6c7eebbee32e 157498-157500 --> testing pass Upstream job id: Generic-Unit-Test-DPDK#380851 Test environment and result as below: +------------------------------+----------------+--------------+------------------------------+---------------------------+ | Environment | dpdk_unit_test | lpm_autotest | cryptodev_sw_snow3g_autotest | cryptodev_sw_zuc_autotest | +==============================+================+==============+==============================+===========================+ | CentOS Stream 9 | PASS | SKIPPED | SKIPPED | SKIPPED | +------------------------------+----------------+--------------+------------------------------+---------------------------+ | Fedora Linux 41 | PASS | SKIPPED | SKIPPED | SKIPPED | +------------------------------+----------------+--------------+------------------------------+---------------------------+ | Debian GNU/Linux 12 | PASS | SKIPPED | SKIPPED | SKIPPED | +------------------------------+----------------+--------------+------------------------------+---------------------------+ | Ubuntu 24.04 | PASS | SKIPPED | SKIPPED | SKIPPED | +------------------------------+----------------+--------------+------------------------------+---------------------------+ | Ubuntu 22.04 | PASS | SKIPPED | SKIPPED | SKIPPED | +------------------------------+----------------+--------------+------------------------------+---------------------------+ | Fedora Linux 42 | PASS | SKIPPED | SKIPPED | SKIPPED | +------------------------------+----------------+--------------+------------------------------+---------------------------+ | Ubuntu 20.04 | PASS | PASS | SKIPPED | SKIPPED | +------------------------------+----------------+--------------+------------------------------+---------------------------+ | Fedora Linux 40 | PASS | SKIPPED | SKIPPED | SKIPPED | +------------------------------+----------------+--------------+------------------------------+---------------------------+ | CentOS Stream 10 | PASS | SKIPPED | SKIPPED | SKIPPED | +------------------------------+----------------+--------------+------------------------------+---------------------------+ | Red Hat Enterprise Linux 9.5 | PASS | SKIPPED | SKIPPED | SKIPPED | +------------------------------+----------------+--------------+------------------------------+---------------------------+ | Debian 12 (arm) | SKIPPED | SKIPPED | PASS | PASS | +------------------------------+----------------+--------------+------------------------------+---------------------------+ CentOS Stream 9 Kernel: 5.4 Compiler: gcc gcc (GCC) 11.5.0 20240719 (Red Hat 11.5.0-11) Fedora Linux 41 Kernel: 5.4 Compiler: clang gcc (GCC) 14.3.1 20250523 (Red Hat 14.3.1-1) Debian GNU/Linux 12 Kernel: 5.4 Compiler: gcc gcc (Debian 12.2.0-14+deb12u1) 12.2.0 Ubuntu 24.04 Kernel: 5.4 Compiler: gcc gcc (Ubuntu 13.3.0-6ubuntu2~24.04) 13.3.0 Ubuntu 22.04 Kernel: 5.4 Compiler: gcc gcc (Ubuntu 11.4.0-1ubuntu1~22.04) 11.4.0 Fedora Linux 42 Kernel: 5.4 Compiler: gcc gcc (GCC) 15.2.1 20250808 (Red Hat 15.2.1-1) Ubuntu 20.04 Kernel: 5.4 Compiler: gcc gcc (Ubuntu 9.4.0-1ubuntu1~20.04.2) 9.4.0 Fedora Linux 40 Kernel: 5.4 Compiler: gcc gcc (GCC) 14.2.1 20240912 (Red Hat 14.2.1-3) CentOS Stream 10 Kernel: 5.4 Compiler: gcc gcc (GCC) 14.2.1 20250110 (Red Hat 14.2.1-8) Red Hat Enterprise Linux 9.5 Kernel: 5.4 Compiler: gcc gcc (GCC) 11.5.0 20240719 (Red Hat 11.5.0-2) Debian 12 (arm) Kernel: Depends on container host Compiler: gcc (Debian 12.2.0-14) 12.2.0 To view detailed results, visit: https://lab.dpdk.org/results/dashboard/patchsets/34264/ UNH-IOL DPDK Community Lab To manage your email subscriptions, visit: https://lab.dpdk.org/results/dashboard/preferences/subscriptions/