From mboxrd@z Thu Jan 1 00:00:00 1970 Return-Path: Received: from mails.dpdk.org (mails.dpdk.org [217.70.189.124]) by inbox.dpdk.org (Postfix) with ESMTP id 229F54892B for ; Mon, 13 Oct 2025 23:45:46 +0200 (CEST) Received: from mails.dpdk.org (localhost [127.0.0.1]) by mails.dpdk.org (Postfix) with ESMTP id 0FB8940288; Mon, 13 Oct 2025 23:45:46 +0200 (CEST) Received: from mail-yw1-f225.google.com (mail-yw1-f225.google.com [209.85.128.225]) by mails.dpdk.org (Postfix) with ESMTP id 1834D40288 for ; Mon, 13 Oct 2025 23:45:45 +0200 (CEST) Received: by mail-yw1-f225.google.com with SMTP id 00721157ae682-781421f5be8so10902987b3.1 for ; Mon, 13 Oct 2025 14:45:45 -0700 (PDT) DKIM-Signature: v=1; a=rsa-sha256; c=relaxed/relaxed; d=iol.unh.edu; s=unh-iol; t=1760391944; x=1760996744; darn=dpdk.org; h=references:in-reply-to:cc:to:from:subject:message-id:date:from:to :cc:subject:date:message-id:reply-to; bh=sZMIOLYNHMwxX1cBSV4RQ8W+i5wNkexhJbruvn1wAKY=; b=cjVrQ07pyGhP5nKcodDLDL+xQ7knm2DlQ+iqAgFqRWTEr3RFkYJsHKD+MWGJ+h5ZEj UVAo8+wX4iS27TP3moHMFOOrPkwEn5dH+1uE+2UV6trhJ+q1dRsepch9nz2qBt19j+eU OMjXvZ0Sy3ASJgzZnKgEbl7owazQ9E8AogNF4= X-Google-DKIM-Signature: v=1; a=rsa-sha256; c=relaxed/relaxed; d=1e100.net; s=20230601; t=1760391944; x=1760996744; h=references:in-reply-to:cc:to:from:subject:message-id:date :x-gm-message-state:from:to:cc:subject:date:message-id:reply-to; bh=sZMIOLYNHMwxX1cBSV4RQ8W+i5wNkexhJbruvn1wAKY=; b=kOknRVhGQqzcB97LsHeqjeRxZnSxR1XviUogIVKCUTCLpXPXlKWGT4+BlE/56dhCAS 2BBPiloNbEILzfC38l6mAOEdPJLzH8NzxBTEK29Wvvh1sRgTcBqDzr5q7WL+VMvb0h0i ulBHFavjDrqI0b0NA84siX6w63lDQYlKfF5mXjrm6gYz7BvEOQQmgq/envil77Zru0KV OdNByqodiJrTkBmo8jNzWNA7MjXJXJIx7jaP1PQFM/1UOA0CNHueM+uVm/9hbHPPBoIQ QuSLRL2MwUmeE3/88RDlFDTqPmioMSTxuVY1yc3GwEPdqT8LCCEUOev9DxMY1nxFj3eb whew== X-Gm-Message-State: AOJu0Yy0EX6k/XGiSUpf2iFv8TvT3CWvXu0B3JfpJ9X6FbaRAmhq7HOw x3SZR1x86q9jdQeZA9G5UlWlxubXejyTbcBOZNN98WxH7o1LpfA4XhpsFeemUopBfKFTSrEX5ZY 3fqVYkA9Lk67NqdFajXGfXsITGDrk0K+INKDqoCuyHor5jruKBScSKwfi38BQ X-Gm-Gg: ASbGncvdd39/LTxkNi+LZlnWeLrxgsfiP2c2m4+BM/qPujQMPIbkSu6f5+LXcquZ0ju wJfhzDIRapDn/ymMf1kwiNvCe0Kj3X4CrpJfKrv4gg6t6KmxYVspNo3pIfFzMivyUdnxTmtBiz+ zEdUNydEFYOAHbeAlwn3SjOosP+uSPLEp3puBGSc4WnHVeg+l7+Sj2HvtdWJfwPv4j3pI8QRFd6 fySdyW+9/ZTfzB3vlznd67igEAj8udDS0ZsBGP47iOUobFmwyNeLLRYpEpv9V6uUwGZuzrJ7Yfo i2PINnNDdVHTvT7Tsro1laipV1b30vjhWwINV9Q8lXLi9J7sXw== X-Google-Smtp-Source: AGHT+IHaL+6wy/NBbaQ906fCGptKKLB0MkU8Tap8qeVWuCih/UL2gm1jf2mySfqm5L9APDQ0bE1G6VRfC8XI X-Received: by 2002:a05:690c:38b:b0:781:64f:2b29 with SMTP id 00721157ae682-781064f3736mr145523907b3.59.1760391944348; Mon, 13 Oct 2025 14:45:44 -0700 (PDT) Received: from postal.iol.unh.edu (postal.iol.unh.edu. [2606:4100:3880:1234::84]) by smtp-relay.gmail.com with ESMTPS id 00721157ae682-78106fac042sm6449157b3.18.2025.10.13.14.45.44 (version=TLS1_2 cipher=ECDHE-ECDSA-AES128-GCM-SHA256 bits=128/128); Mon, 13 Oct 2025 14:45:44 -0700 (PDT) X-Relaying-Domain: iol.unh.edu Date: Mon, 13 Oct 2025 14:45:44 -0700 (PDT) Message-ID: <68ed7308.050a0220.2dc414.055cSMTPIN_ADDED_MISSING@mx.google.com> Received: from [172.21.0.3] (unknown [172.18.0.240]) by postal.iol.unh.edu (Postfix) with ESMTP id 074BD6051835; Mon, 13 Oct 2025 17:45:44 -0400 (EDT) Subject: |SUCCESS| pw157498-157500 [PATCH] [v6,3/3] net/ice: add PFC statisti From: dpdklab@iol.unh.edu To: Test Report Cc: dpdk-test-reports@iol.unh.edu, Bruce Richardson In-Reply-To: <20251013180523.61468-4-vladimir.medvedkin@intel.com> References: <20251013180523.61468-4-vladimir.medvedkin@intel.com> Content-Type: text/plain X-BeenThere: test-report@dpdk.org X-Mailman-Version: 2.1.29 Precedence: list List-Id: automatic DPDK test reports List-Unsubscribe: , List-Archive: List-Post: List-Help: List-Subscribe: , Errors-To: test-report-bounces@dpdk.org Test-Label: iol-compile-arm64-testing Test-Status: SUCCESS http://dpdk.org/patch/157500 _Testing PASS_ Submitter: Vladimir Medvedkin Date: Monday, October 13 2025 18:05:23 DPDK git baseline: Repo:dpdk-next-net-intel Branch: master CommitID:b26049c00e3c452cb446d688a43c6c7eebbee32e 157498-157500 --> testing pass Upstream job id: Generic-DPDK-Compile-Meson#433763 Test environment and result as below: +------------------------------+--------------------+ | Environment | dpdk_meson_compile | +==============================+====================+ | Red Hat Enterprise Linux 9.5 | PASS | +------------------------------+--------------------+ | Ubuntu 20.04 | PASS | +------------------------------+--------------------+ | CentOS Stream 10 | PASS | +------------------------------+--------------------+ | Debian GNU/Linux 12 | PASS | +------------------------------+--------------------+ | Fedora Linux 42 | PASS | +------------------------------+--------------------+ | CentOS Stream 9 | PASS | +------------------------------+--------------------+ | Ubuntu 24.04 | PASS | +------------------------------+--------------------+ | Ubuntu 22.04 | PASS | +------------------------------+--------------------+ Red Hat Enterprise Linux 9.5 Kernel: 5.4 Compiler: gcc gcc (GCC) 11.5.0 20240719 (Red Hat 11.5.0-2) Ubuntu 20.04 Kernel: 5.15 Compiler: aarch64-linux-gnu-gcc gcc (Ubuntu 9.4.0-1ubuntu1~20.04.2) 9.4.0 CentOS Stream 10 Kernel: 5.4 Compiler: gcc gcc (GCC) 14.2.1 20250110 (Red Hat 14.2.1-8) Debian GNU/Linux 12 Kernel: 5.4 Compiler: gcc gcc (Debian 12.2.0-14+deb12u1) 12.2.0 Fedora Linux 42 Kernel: 5.4 Compiler: clang gcc (GCC) 15.2.1 20250808 (Red Hat 15.2.1-1) CentOS Stream 9 Kernel: 5.4 Compiler: gcc gcc (GCC) 11.5.0 20240719 (Red Hat 11.5.0-11) Ubuntu 24.04 Kernel: 5.4 Compiler: gcc gcc (Ubuntu 13.3.0-6ubuntu2~24.04) 13.3.0 Ubuntu 22.04 Kernel: 5.4 Compiler: gcc gcc (Ubuntu 11.4.0-1ubuntu1~22.04) 11.4.0 To view detailed results, visit: https://lab.dpdk.org/results/dashboard/patchsets/34264/ UNH-IOL DPDK Community Lab To manage your email subscriptions, visit: https://lab.dpdk.org/results/dashboard/preferences/subscriptions/