From mboxrd@z Thu Jan 1 00:00:00 1970 Return-Path: Received: from mails.dpdk.org (mails.dpdk.org [217.70.189.124]) by inbox.dpdk.org (Postfix) with ESMTP id A0A644892B for ; Tue, 14 Oct 2025 00:56:58 +0200 (CEST) Received: from mails.dpdk.org (localhost [127.0.0.1]) by mails.dpdk.org (Postfix) with ESMTP id 7401240288; Tue, 14 Oct 2025 00:56:58 +0200 (CEST) Received: from mail-yw1-f225.google.com (mail-yw1-f225.google.com [209.85.128.225]) by mails.dpdk.org (Postfix) with ESMTP id EC32A40288 for ; Tue, 14 Oct 2025 00:56:56 +0200 (CEST) Received: by mail-yw1-f225.google.com with SMTP id 00721157ae682-780fe73e339so43518707b3.1 for ; Mon, 13 Oct 2025 15:56:56 -0700 (PDT) DKIM-Signature: v=1; a=rsa-sha256; c=relaxed/relaxed; d=iol.unh.edu; s=unh-iol; t=1760396216; x=1761001016; darn=dpdk.org; h=references:in-reply-to:cc:to:from:subject:message-id:date:from:to :cc:subject:date:message-id:reply-to; bh=cLHK/m+nkgEcGZMxJcde51jOiG2t7vz66tMnVZ4vJRg=; b=SjoZzhY18J8SlUweFdQIR9m+TeK5cxAPcnooZ/FpxJijE0AVJgaHpOC4QZ6di831Yv aRflTpuejI8vhHvNgFOI/Y7n3f7CIemNc2TO9b2kTyJu4PVK/wcfvTj26DUH+AwfIzef 9hYzyKhhyQCQQy88fINPBk4U0EbN4bVBU2n4A= X-Google-DKIM-Signature: v=1; a=rsa-sha256; c=relaxed/relaxed; d=1e100.net; s=20230601; t=1760396216; x=1761001016; h=references:in-reply-to:cc:to:from:subject:message-id:date :x-gm-message-state:from:to:cc:subject:date:message-id:reply-to; bh=cLHK/m+nkgEcGZMxJcde51jOiG2t7vz66tMnVZ4vJRg=; b=eOUgDV/OUZiq8yqrdwKFE/x+YWIo+JDqlWoQxm96C7NEHMJdNgAKpi/PVQtCSRZDOl at0s2gRXo7G4DVltZOevabNTnlzKtoDFOjF8us4H23TrM605jiTBdYVUnuqX+bv1b68k vzG384qWDLM/uS2PGIvi0yfIrJUejDgu7TClFaDvsyPjOtbE5CUYaVZjvKSoCcwkXcc3 K+puq+deIkTHRYW48VdHzTSCS55Tg3R9pkMuvGm+ITZa0whzIU056DWrzlKT+fSyAsjz blyrxjN5EZ6t6ZGzWR5uqaKm2VgSry4p7u0k+cvKy4akitI3JiG1GfeEHd2zTbbI8Nuy G1lg== X-Gm-Message-State: AOJu0YzRpJKc4su+qzO7BFN8Wd/+nteQw7tF+CKd19tr0h1SAgy++ZW1 dF6UtmRYtYyCBm17mUcs/DRFonZF4Y4OHKAm/7aqu4Lv9H+pDPrP2cqpMMTE9gKPvv5tsW9N4yw SsMruz4ZDO8/LLCPXsOzXR2LDJAlC1f0hcFalE33jptWAIGl4frJNd0sxSD7W X-Gm-Gg: ASbGncsUJ5tDx9SiT1xsgrjFf4vvIVZfpZ4ayNp2hJJrGAJzQ+R9wcCzUA3Yhr+E/Nu xsqr6hNHqWmfUX/MOloI/eH831+LfFnjZ/rWw77oifZ4HR6QCcVX1qY7orlIwi/p0joZZrJKe/J RLrjuAiYbVhXvFJRWgqgQQv+1ZkRTel09aiK68VEYNKTr6ZjzqmtfZQ7Uqh83yayUw/Kw/FlkXw VGsM8z560RSSuDUbqscKLUU38g19MRdBodYxb6Xis4L9C6Ixt6AAYp+THv3iU77VPuLjvcimVO/ u70nBHZ5fDUHqfPfLi683wzDMsM/6H0+P46DmdXf7HdI++t6Uw== X-Google-Smtp-Source: AGHT+IGknqtLWY6FA4A9QC69HkKEglo9TrG0+B2BAnzTIgDqvDUZfKI8e0/VRkd7LJ/kD6ujTaN/BF46rn/u X-Received: by 2002:a05:690c:83:b0:77e:5eb8:2797 with SMTP id 00721157ae682-780e2653256mr249704857b3.15.1760396216123; Mon, 13 Oct 2025 15:56:56 -0700 (PDT) Received: from postal.iol.unh.edu (postal.iol.unh.edu. [2606:4100:3880:1234::84]) by smtp-relay.gmail.com with ESMTPS id 00721157ae682-7810700d629sm6762407b3.26.2025.10.13.15.56.56 (version=TLS1_2 cipher=ECDHE-ECDSA-AES128-GCM-SHA256 bits=128/128); Mon, 13 Oct 2025 15:56:56 -0700 (PDT) X-Relaying-Domain: iol.unh.edu Date: Mon, 13 Oct 2025 15:56:56 -0700 (PDT) Message-ID: <68ed83b8.050a0220.1a14aa.1c3fSMTPIN_ADDED_MISSING@mx.google.com> Received: from [172.21.0.2] (unknown [172.18.0.240]) by postal.iol.unh.edu (Postfix) with ESMTP id C78606051830; Mon, 13 Oct 2025 18:56:55 -0400 (EDT) Subject: |SUCCESS| pw157502-157508 [PATCH] [v4,7/7] usertools/mbuf: parse mbu From: dpdklab@iol.unh.edu To: Test Report Cc: dpdk-test-reports@iol.unh.edu In-Reply-To: <20251013212019.892032-8-thomas@monjalon.net> References: <20251013212019.892032-8-thomas@monjalon.net> Content-Type: text/plain X-BeenThere: test-report@dpdk.org X-Mailman-Version: 2.1.29 Precedence: list List-Id: automatic DPDK test reports List-Unsubscribe: , List-Archive: List-Post: List-Help: List-Subscribe: , Errors-To: test-report-bounces@dpdk.org Test-Label: iol-unit-amd64-testing Test-Status: SUCCESS http://dpdk.org/patch/157508 _Testing PASS_ Submitter: Thomas Monjalon Date: Monday, October 13 2025 21:16:07 DPDK git baseline: Repo:dpdk Branch: master CommitID:2b403dd8fb37d0ba13723e44ffc7ee2c2795f838 157502-157508 --> testing pass Upstream job id: Generic-Unit-Test-DPDK#380893 Test environment and result as below: +-------------------------------+----------------+ | Environment | dpdk_unit_test | +===============================+================+ | Ubuntu 22.04 | PASS | +-------------------------------+----------------+ | Debian GNU/Linux 12 | PASS | +-------------------------------+----------------+ | CentOS Stream 10 | PASS | +-------------------------------+----------------+ | Fedora Linux 41 | PASS | +-------------------------------+----------------+ | Fedora Linux 42 | PASS | +-------------------------------+----------------+ | Red Hat Enterprise Linux 9.5 | PASS | +-------------------------------+----------------+ | Fedora Linux 40 | PASS | +-------------------------------+----------------+ | Red Hat Enterprise Linux 8.10 | PASS | +-------------------------------+----------------+ | CentOS Stream 9 | PASS | +-------------------------------+----------------+ | Ubuntu 20.04 | PASS | +-------------------------------+----------------+ | Ubuntu 24.04 | PASS | +-------------------------------+----------------+ | Windows Server 2022 | PASS | +-------------------------------+----------------+ Ubuntu 22.04 Kernel: 5.15 Compiler: gcc gcc (Ubuntu 11.4.0-1ubuntu1~22.04) 11.4.0 Debian GNU/Linux 12 Kernel: 5.15 Compiler: gcc gcc (Debian 12.2.0-14+deb12u1) 12.2.0 CentOS Stream 10 Kernel: 5.15 Compiler: gcc gcc (GCC) 14.2.1 20250110 (Red Hat 14.2.1-8) Fedora Linux 41 Kernel: 5.15 Compiler: gcc gcc (GCC) 14.3.1 20250523 (Red Hat 14.3.1-1) Fedora Linux 42 Kernel: 5.15 Compiler: gcc gcc (GCC) 15.2.1 20250808 (Red Hat 15.2.1-1) Red Hat Enterprise Linux 9.5 Kernel: 5.15 Compiler: gcc gcc (GCC) 11.5.0 20240719 (Red Hat 11.5.0-2) Fedora Linux 40 Kernel: 5.15 Compiler: clang gcc (GCC) 14.2.1 20240912 (Red Hat 14.2.1-3) Red Hat Enterprise Linux 8.10 Kernel: 5.15 Compiler: gcc gcc (GCC) 8.5.0 20210514 (Red Hat 8.5.0-22) CentOS Stream 9 Kernel: 5.15 Compiler: gcc gcc (GCC) 11.5.0 20240719 (Red Hat 11.5.0-11) Ubuntu 20.04 Kernel: 5.15 Compiler: gcc gcc (Ubuntu 9.4.0-1ubuntu1~20.04.2) 9.4.0 Ubuntu 24.04 Kernel: 5.15 Compiler: gcc gcc (Ubuntu 13.3.0-6ubuntu2~24.04) 13.3.0 Windows Server 2022 Kernel: 10.0.20348.2031 Compiler: clang 15.0.7, gcc 14.1.0 (MinGW), and MSVC VS 19.39.33521 To view detailed results, visit: https://lab.dpdk.org/results/dashboard/patchsets/34266/ UNH-IOL DPDK Community Lab To manage your email subscriptions, visit: https://lab.dpdk.org/results/dashboard/preferences/subscriptions/