From mboxrd@z Thu Jan 1 00:00:00 1970 Return-Path: Received: from mails.dpdk.org (mails.dpdk.org [217.70.189.124]) by inbox.dpdk.org (Postfix) with ESMTP id E80BE4892C for ; Tue, 14 Oct 2025 02:57:46 +0200 (CEST) Received: from mails.dpdk.org (localhost [127.0.0.1]) by mails.dpdk.org (Postfix) with ESMTP id BE68B40288; Tue, 14 Oct 2025 02:57:46 +0200 (CEST) Received: from mail-qk1-f226.google.com (mail-qk1-f226.google.com [209.85.222.226]) by mails.dpdk.org (Postfix) with ESMTP id F2B1D40288 for ; Tue, 14 Oct 2025 02:57:45 +0200 (CEST) Received: by mail-qk1-f226.google.com with SMTP id af79cd13be357-869ecba3bd2so734261685a.0 for ; Mon, 13 Oct 2025 17:57:45 -0700 (PDT) DKIM-Signature: v=1; a=rsa-sha256; c=relaxed/relaxed; d=iol.unh.edu; s=unh-iol; t=1760403465; x=1761008265; darn=dpdk.org; h=cc:to:from:subject:message-id:date:from:to:cc:subject:date :message-id:reply-to; bh=VucTcDCraFHzxELiF7+NszdhYUWUNpzQBNUfWf1VM3A=; b=UQsgxzHPK38RhakMmCoBioct8d+NeyF2bOvOX+m1mL229JVGYy1fs6lPV2n5tDeTJO Zw6T3WdsJcJiK6Bvh5bk8ziWTzvSGUEFAlOml2zLan6sB/OhNVwmo0VPHA+0u2iYEboI kB8ZiWjKoq3n/NZ0j7TGjFoe8sZapQxwrRiOo= X-Google-DKIM-Signature: v=1; a=rsa-sha256; c=relaxed/relaxed; d=1e100.net; s=20230601; t=1760403465; x=1761008265; h=cc:to:from:subject:message-id:date:x-gm-message-state:from:to:cc :subject:date:message-id:reply-to; bh=VucTcDCraFHzxELiF7+NszdhYUWUNpzQBNUfWf1VM3A=; b=KdxQ6yAU/LLQ9MdblP4Y77+B241AErICv77jcRgFPFZaswzHHoWDk7B57RcFwwyOr6 5j9aEZIYU+chrAX4DwPz/rebaeNDGmEkr4b1sZ3Kg8X8YR4/KXt4RUGYEy07oP1XmsGT LcSeHtWGrL/miAD3rjHQsN1K8pDdUc1hzdyg149aNHjm4d5ckiACcxnipbnC/Ibwijhj 29oUOk3/aTE1bFAv0Xi7zDKtkdZEI22YVtxmQ+Q906EveEX6fb/yAo+mU1PVQQG6wbPJ ZOeqxT3GYkuLS9ysu4mKvHQh2hJj/wJfdM7Mchti4oXjjYX2dDB/0PrYtIyHA7IkqY+c GACg== X-Gm-Message-State: AOJu0YwjjmmWTmb1D6UamysoL2/ZE60TVRsfyjPsiggPxfYNEPqBU8bc P0bI8c3s1wfcdCU+1PDvUOPhdf0Nx50T1hWfa5gVWAuJCem/4ugMud/NCBI5wLn3LaH+O3U5ROm c4/baAyikmL+X8C6kFb4+/hPpyCOnynUlfZ258OfnAXbGWm6fXSdY0RDJPb08 X-Gm-Gg: ASbGncuEWWcHl105IkWi6ioPHBEQ2RxPuQxqaVz2LVIc6/6nHH+gXR8cbdwBo8VkCpU jjtoAocs9msRn2nxoVNhYo5PL7LxrGnKXgm2iw8g2Qa9vQHemZ9qYoEyBSPTZTQzo4j+OKcjuiq 1bxDtZ+z7yPfJExXkjO0a1oyYA0o8d4tpfeBy81hBIWBvpQU3N+YObwQz6KBrNsHJlFwvfmiF6A Nf+FF4KW2DpC0bbvRtYAu8YO8j3+O6FfJTSZadqAfM+D9kbQu5jz79iOj8X6Ddh+axCRORYwBcz rnm3t5BOKv8a3tXHS2HjcJYMjo8cooaC34QnA45butKafBNd/A== X-Google-Smtp-Source: AGHT+IHRWCu5lvDUhpi1FE+fSJY71b7nUdr+Q0ySvVlZW/aqFzGWoQFS4AzcWcGeT54ERxBAt4HSK7esS8ry X-Received: by 2002:a05:620a:4546:b0:864:8e84:6ed2 with SMTP id af79cd13be357-883529b35ebmr3470423785a.10.1760403465078; Mon, 13 Oct 2025 17:57:45 -0700 (PDT) Received: from postal.iol.unh.edu (postal.iol.unh.edu. [2606:4100:3880:1234::84]) by smtp-relay.gmail.com with ESMTPS id af79cd13be357-884a100f328sm100346485a.3.2025.10.13.17.57.45 (version=TLS1_2 cipher=ECDHE-ECDSA-AES128-GCM-SHA256 bits=128/128); Mon, 13 Oct 2025 17:57:45 -0700 (PDT) X-Relaying-Domain: iol.unh.edu Date: Mon, 13 Oct 2025 17:57:45 -0700 (PDT) Message-ID: <68eda009.050a0220.345735.3377SMTPIN_ADDED_MISSING@mx.google.com> Received: from [172.21.0.2] (unknown [172.18.0.240]) by postal.iol.unh.edu (Postfix) with ESMTP id 80BCA6051830; Mon, 13 Oct 2025 20:57:43 -0400 (EDT) Subject: |SUCCESS| [GIT MASTER] 2b403dd8fb37d0ba13723e44ffc7ee2c2795f838 From: dpdklab@iol.unh.edu To: Test Report Cc: dpdk-test-reports@iol.unh.edu Content-Type: text/plain X-BeenThere: test-report@dpdk.org X-Mailman-Version: 2.1.29 Precedence: list List-Id: automatic DPDK test reports List-Unsubscribe: , List-Archive: List-Post: List-Help: List-Subscribe: , Errors-To: test-report-bounces@dpdk.org _Testing PASS_ Branch: dpdk 2b403dd8fb37d0ba13723e44ffc7ee2c2795f838 --> testing pass Upstream job id: Generic-VM-Unit-Test-DPDK#31758 Test environment and result as below: +-------------------------------+----------------+ | Environment | dpdk_unit_test | +===============================+================+ | Fedora Linux 42 | PASS | +-------------------------------+----------------+ | Red Hat Enterprise Linux 8.10 | PASS | +-------------------------------+----------------+ | CentOS Stream 9 | PASS | +-------------------------------+----------------+ | Fedora Linux 40 | PASS | +-------------------------------+----------------+ | Ubuntu 24.04 | PASS | +-------------------------------+----------------+ | Ubuntu 22.04 | PASS | +-------------------------------+----------------+ | Fedora Linux 41 | PASS | +-------------------------------+----------------+ | Debian GNU/Linux 12 | PASS | +-------------------------------+----------------+ | Arch Linux 20250613.0.365270 | PASS | +-------------------------------+----------------+ | Ubuntu 20.04 | PASS | +-------------------------------+----------------+ | Red Hat Enterprise Linux 9.5 | PASS | +-------------------------------+----------------+ | CentOS Stream 10 | PASS | +-------------------------------+----------------+ | Windows Server 2022 | PASS | +-------------------------------+----------------+ Fedora Linux 42 Kernel: 5.15 Compiler: gcc gcc (GCC) 15.2.1 20250808 (Red Hat 15.2.1-1) Red Hat Enterprise Linux 8.10 Kernel: 5.15 Compiler: gcc gcc (GCC) 8.5.0 20210514 (Red Hat 8.5.0-22) CentOS Stream 9 Kernel: 5.15 Compiler: gcc gcc (GCC) 11.5.0 20240719 (Red Hat 11.5.0-11) Fedora Linux 40 Kernel: 5.15 Compiler: gcc gcc (GCC) 14.2.1 20240912 (Red Hat 14.2.1-3) Ubuntu 24.04 Kernel: 5.15 Compiler: gcc gcc (Ubuntu 13.3.0-6ubuntu2~24.04) 13.3.0 Ubuntu 22.04 Kernel: 5.15 Compiler: gcc gcc (Ubuntu 11.4.0-1ubuntu1~22.04) 11.4.0 Fedora Linux 41 Kernel: 5.15 Compiler: clang gcc (GCC) 14.3.1 20250523 (Red Hat 14.3.1-1) Debian GNU/Linux 12 Kernel: 5.15 Compiler: gcc gcc (Debian 12.2.0-14+deb12u1) 12.2.0 Arch Linux 20250613.0.365270 Kernel: 5.15 Compiler: gcc gcc (GCC) 15.1.1 20250425 Ubuntu 20.04 Kernel: 5.15 Compiler: gcc gcc (Ubuntu 9.4.0-1ubuntu1~20.04.2) 9.4.0 Red Hat Enterprise Linux 9.5 Kernel: 5.15 Compiler: gcc gcc (GCC) 11.5.0 20240719 (Red Hat 11.5.0-2) CentOS Stream 10 Kernel: 5.15 Compiler: gcc gcc (GCC) 14.2.1 20250110 (Red Hat 14.2.1-8) Windows Server 2022 Kernel: 10.0.20348.2031 Compiler: clang 15.0.7, gcc 14.1.0 (MinGW), and MSVC VS 19.39.33521 To view detailed results, visit: https://lab.dpdk.org/results/dashboard/tarballs/35191/ UNH-IOL DPDK Community Lab To manage your email subscriptions, visit: https://lab.dpdk.org/results/dashboard/preferences/subscriptions/