From mboxrd@z Thu Jan 1 00:00:00 1970 Return-Path: Received: from mails.dpdk.org (mails.dpdk.org [217.70.189.124]) by inbox.dpdk.org (Postfix) with ESMTP id 07FEB4892C for ; Tue, 14 Oct 2025 02:58:40 +0200 (CEST) Received: from mails.dpdk.org (localhost [127.0.0.1]) by mails.dpdk.org (Postfix) with ESMTP id 01BD040288; Tue, 14 Oct 2025 02:58:40 +0200 (CEST) Received: from mail-qv1-f98.google.com (mail-qv1-f98.google.com [209.85.219.98]) by mails.dpdk.org (Postfix) with ESMTP id 81B4940288 for ; Tue, 14 Oct 2025 02:58:38 +0200 (CEST) Received: by mail-qv1-f98.google.com with SMTP id 6a1803df08f44-78febbe521cso64348606d6.2 for ; Mon, 13 Oct 2025 17:58:38 -0700 (PDT) DKIM-Signature: v=1; a=rsa-sha256; c=relaxed/relaxed; d=iol.unh.edu; s=unh-iol; t=1760403518; x=1761008318; darn=dpdk.org; h=cc:to:from:subject:message-id:date:from:to:cc:subject:date :message-id:reply-to; bh=IqGgx8yQRRaxW/1bWj4MO4n0YKG3Qr9gt6PWVqpToAk=; b=J2L6d9cRI8diLB4Iqd4EcvBF76yqTG4dgH41VVkFrQgM4rHA0OZykGr7M7mLCboeNM WCuuBdK4ku5jXAr0dt926iEXB7KakzD6VPMJ5p/FP3vMBXOQ4FV8mZnorXhBsoPv7X/s NVAz2LgR0ZvbWHeom0ort00/XZvtoZkhQPr14= X-Google-DKIM-Signature: v=1; a=rsa-sha256; c=relaxed/relaxed; d=1e100.net; s=20230601; t=1760403518; x=1761008318; h=cc:to:from:subject:message-id:date:x-gm-message-state:from:to:cc :subject:date:message-id:reply-to; bh=IqGgx8yQRRaxW/1bWj4MO4n0YKG3Qr9gt6PWVqpToAk=; b=I4EJbDVqxTPsEuicojA97/enITSeT0n8z365L+uYczl+1JVu+bdN+hDXuaUxPNFARo nxeKduNkD7ZvDaqcKGqbMggWdJAKang1btbvruFGYw8EXjpJI3Y3C0o0lDC660Gbw8dz 00u7zOVMsBAZ+wqmYZive/o8g9NLtZh5IGMgZwzo9yVIhuYGeFeDwWXrqUtUWTmsH8S9 vci3Xk1gbUI+OO74eIJC4B94//tQTDQ88zadaC8nKjph8w/TjFgOuv8BFeahDFvAw3Dj 6629RF4/EvJWV5sqigOcq4CRAs7ZqTGa6jvm8tgWVfqGxALTU42Vg9i35KAh+c/OAaqK LLSw== X-Gm-Message-State: AOJu0YxxpYNQDM11uc9y3JkrcTnQcPyJ8SW1E0Vgosp6ysbwBQHuoOVg OxFHzfLMoN5iScifFmMA/8yZKjlKPohWQR2JqkjtQCfD5HaU8u5eC0urlI6DxqY2GPhRMxIQv7Y wd0ex0RvEUm7KI++t/JXzaJqeQOmjvL23LUdsn51FHAIeBvJtlmECcb7dmolq X-Gm-Gg: ASbGncsiKP1QmVtBxhQ6sb4wNddSmxkzNnOwvpA8C5pbVc+mAx57ukwYZe4kOqr+RfH j531QpL5R/yrxD3kCXpTEpc9tKPc/e/jaBf1ez48CzXkn3U+Sw9j0tdFBptgmqDDp31+T0P0QX0 0xVRJ8ukjp+9oOQk+Es2S+7Syg5WqPgKcC2wuT/JZVYY+pAnTmRRGVsPKU6/gelatlpim3E/EKG gVo4rPuZj/kmsObog/HkROtZfEui+SrKtg7r3ckkozsJ9PqOW/0DocbLwJv8wnaiStd4QJFalHl tbR7pXyA+WcxIFG7HshOp7OU4zSIpAwMGcwB4Y7b0VywZ2hUBQ== X-Google-Smtp-Source: AGHT+IHd2vj1A7xFX5UC2x/YWVktN19DOPYYq690DvtMd+Sg+WGFhAZBKFztYnf/9dV3/rvMyG64Qyx8vHgR X-Received: by 2002:a05:6214:410f:b0:875:ffef:682 with SMTP id 6a1803df08f44-87b2ef1daccmr299429406d6.32.1760403517762; Mon, 13 Oct 2025 17:58:37 -0700 (PDT) Received: from postal.iol.unh.edu (postal.iol.unh.edu. [2606:4100:3880:1234::84]) by smtp-relay.gmail.com with ESMTPS id 6a1803df08f44-87bde15f250sm4662866d6.24.2025.10.13.17.58.37 (version=TLS1_2 cipher=ECDHE-ECDSA-AES128-GCM-SHA256 bits=128/128); Mon, 13 Oct 2025 17:58:37 -0700 (PDT) X-Relaying-Domain: iol.unh.edu Date: Mon, 13 Oct 2025 17:58:37 -0700 (PDT) Message-ID: <68eda03d.d40a0220.3d4e78.7152SMTPIN_ADDED_MISSING@mx.google.com> Received: from [172.21.0.2] (unknown [172.18.0.240]) by postal.iol.unh.edu (Postfix) with ESMTP id 6434C6051830; Mon, 13 Oct 2025 20:58:37 -0400 (EDT) Subject: |SUCCESS| [GIT MASTER] 2b403dd8fb37d0ba13723e44ffc7ee2c2795f838 From: dpdklab@iol.unh.edu To: Test Report Cc: dpdk-test-reports@iol.unh.edu Content-Type: text/plain X-BeenThere: test-report@dpdk.org X-Mailman-Version: 2.1.29 Precedence: list List-Id: automatic DPDK test reports List-Unsubscribe: , List-Archive: List-Post: List-Help: List-Subscribe: , Errors-To: test-report-bounces@dpdk.org _Testing PASS_ Branch: dpdk 2b403dd8fb37d0ba13723e44ffc7ee2c2795f838 --> testing pass Upstream job id: Windows-Compile-DPDK-Native#31588 Test environment and result as below: +-------------------------------+-------------------+--------------------+-------------------+------------------+-------------------------+----------------------+ | Environment | dpdk_msvc_compile | dpdk_meson_compile | dpdk_compile_spdk | dpdk_compile_ovs | dpdk_llvm_clang_compile | dpdk_mingw64_compile | +===============================+===================+====================+===================+==================+=========================+======================+ | Windows Server 2022 | PASS | SKIPPED | SKIPPED | SKIPPED | PASS | PASS | +-------------------------------+-------------------+--------------------+-------------------+------------------+-------------------------+----------------------+ | Ubuntu 20.04 | SKIPPED | PASS | SKIPPED | SKIPPED | SKIPPED | SKIPPED | +-------------------------------+-------------------+--------------------+-------------------+------------------+-------------------------+----------------------+ | CentOS Stream 10 | SKIPPED | PASS | SKIPPED | SKIPPED | SKIPPED | SKIPPED | +-------------------------------+-------------------+--------------------+-------------------+------------------+-------------------------+----------------------+ | CentOS Stream 9 | SKIPPED | PASS | PASS | SKIPPED | SKIPPED | SKIPPED | +-------------------------------+-------------------+--------------------+-------------------+------------------+-------------------------+----------------------+ | Red Hat Enterprise Linux 8.10 | SKIPPED | PASS | SKIPPED | SKIPPED | SKIPPED | SKIPPED | +-------------------------------+-------------------+--------------------+-------------------+------------------+-------------------------+----------------------+ | openSUSE Leap 15.6 | SKIPPED | PASS | SKIPPED | SKIPPED | SKIPPED | SKIPPED | +-------------------------------+-------------------+--------------------+-------------------+------------------+-------------------------+----------------------+ | Red Hat Enterprise Linux 9.5 | SKIPPED | PASS | SKIPPED | SKIPPED | SKIPPED | SKIPPED | +-------------------------------+-------------------+--------------------+-------------------+------------------+-------------------------+----------------------+ | Fedora Linux 42 | SKIPPED | PASS | PASS | PASS | SKIPPED | SKIPPED | +-------------------------------+-------------------+--------------------+-------------------+------------------+-------------------------+----------------------+ | Debian GNU/Linux 12 | SKIPPED | PASS | PASS | SKIPPED | SKIPPED | SKIPPED | +-------------------------------+-------------------+--------------------+-------------------+------------------+-------------------------+----------------------+ | Ubuntu 24.04 | SKIPPED | PASS | PASS | PASS | SKIPPED | SKIPPED | +-------------------------------+-------------------+--------------------+-------------------+------------------+-------------------------+----------------------+ | Alpine Linux 3.22.0 | SKIPPED | PASS | SKIPPED | SKIPPED | SKIPPED | SKIPPED | +-------------------------------+-------------------+--------------------+-------------------+------------------+-------------------------+----------------------+ | Arch Linux 20250613.0.365270 | SKIPPED | PASS | SKIPPED | SKIPPED | SKIPPED | SKIPPED | +-------------------------------+-------------------+--------------------+-------------------+------------------+-------------------------+----------------------+ | Ubuntu 22.04 | SKIPPED | PASS | PASS | SKIPPED | SKIPPED | SKIPPED | +-------------------------------+-------------------+--------------------+-------------------+------------------+-------------------------+----------------------+ | FreeBSD 14.2 | SKIPPED | PASS | SKIPPED | SKIPPED | SKIPPED | SKIPPED | +-------------------------------+-------------------+--------------------+-------------------+------------------+-------------------------+----------------------+ Windows Server 2022 Kernel: 10.0.20348.2031 Compiler: clang 15.0.7, gcc 14.1.0 (MinGW), and MSVC VS 19.39.33521 Ubuntu 20.04 Kernel: 5.15 Compiler: gcc gcc (Ubuntu 9.4.0-1ubuntu1~20.04.2) 9.4.0 CentOS Stream 10 Kernel: 5.15 Compiler: gcc gcc (GCC) 14.2.1 20250110 (Red Hat 14.2.1-8) CentOS Stream 9 Kernel: 5.15 Compiler: gcc gcc (GCC) 11.5.0 20240719 (Red Hat 11.5.0-11) Red Hat Enterprise Linux 8.10 Kernel: 5.15 Compiler: gcc gcc (GCC) 8.5.0 20210514 (Red Hat 8.5.0-22) openSUSE Leap 15.6 Kernel: 5.15 Compiler: gcc gcc (SUSE Linux) 7.5.0 Red Hat Enterprise Linux 9.5 Kernel: 5.15 Compiler: gcc gcc (GCC) 11.5.0 20240719 (Red Hat 11.5.0-2) Fedora Linux 42 Kernel: 5.15 Compiler: gcc gcc (GCC) 15.2.1 20250808 (Red Hat 15.2.1-1) Debian GNU/Linux 12 Kernel: 5.15 Compiler: gcc gcc (Debian 12.2.0-14+deb12u1) 12.2.0 Ubuntu 24.04 Kernel: 5.15 Compiler: gcc gcc (Ubuntu 13.3.0-6ubuntu2~24.04) 13.3.0 Alpine Linux 3.22.0 Kernel: 5.15 Compiler: gcc gcc (Alpine 14.2.0) 14.2.0 Arch Linux 20250613.0.365270 Kernel: 5.15 Compiler: gcc gcc (GCC) 15.1.1 20250425 Ubuntu 22.04 Kernel: 5.15 Compiler: gcc gcc (Ubuntu 11.4.0-1ubuntu1~22.04) 11.4.0 FreeBSD 14.2 Kernel: 14.2-RELEASE Compiler: clang 18.1.6 To view detailed results, visit: https://lab.dpdk.org/results/dashboard/tarballs/35191/ UNH-IOL DPDK Community Lab To manage your email subscriptions, visit: https://lab.dpdk.org/results/dashboard/preferences/subscriptions/