From mboxrd@z Thu Jan 1 00:00:00 1970 Return-Path: Received: from mails.dpdk.org (mails.dpdk.org [217.70.189.124]) by inbox.dpdk.org (Postfix) with ESMTP id 7F6304892C for ; Tue, 14 Oct 2025 03:02:24 +0200 (CEST) Received: from mails.dpdk.org (localhost [127.0.0.1]) by mails.dpdk.org (Postfix) with ESMTP id 55B7E40288; Tue, 14 Oct 2025 03:02:24 +0200 (CEST) Received: from mail-il1-f225.google.com (mail-il1-f225.google.com [209.85.166.225]) by mails.dpdk.org (Postfix) with ESMTP id 1F15140288 for ; Tue, 14 Oct 2025 03:02:23 +0200 (CEST) Received: by mail-il1-f225.google.com with SMTP id e9e14a558f8ab-43094e0aeaeso13976055ab.2 for ; Mon, 13 Oct 2025 18:02:23 -0700 (PDT) DKIM-Signature: v=1; a=rsa-sha256; c=relaxed/relaxed; d=iol.unh.edu; s=unh-iol; t=1760403742; x=1761008542; darn=dpdk.org; h=cc:to:from:subject:message-id:date:from:to:cc:subject:date :message-id:reply-to; bh=YZ90qcCoktMSulPnXC8I9/W9c3p2Zu9UmjQsNNjTfpc=; b=KuI33LuPkuxhfjFW3Z3c/NXTarSkSQP/iJeZmQZbHdlaT/+1AIFxTGzxkiZqfM/wGo tvqGXxtOhM1rzldqDkiBYXDktrfgT9avjr/86UxylP1ds7uEKt0YkAH7Jh4urB+zyLuh Qc2a/38zT1MKJVOOyVQ4/lXL+9XlYqf8YS1+Y= X-Google-DKIM-Signature: v=1; a=rsa-sha256; c=relaxed/relaxed; d=1e100.net; s=20230601; t=1760403742; x=1761008542; h=cc:to:from:subject:message-id:date:x-gm-message-state:from:to:cc :subject:date:message-id:reply-to; bh=YZ90qcCoktMSulPnXC8I9/W9c3p2Zu9UmjQsNNjTfpc=; b=IodthZKf4FLRtco/Kv/6JS1am0NLTrgF5Bv83ldOw8O9FTUnBsrJnGatISkKAcbvkk xsYB5rffkHmsElCfxGqhgywqD0fJQsrMOVtvl+szgOICFvl+y9KhdClX7iGvs1dxHRfa ri7JZ3uBas34ueYpGAV9xpZ7jy9w891DfSXS91I0vIp1EQbQmFqlldxJlpAO7QQtM7S/ 35coVdUprLRhC95Pt/YqCDzER8bUN3VphcMkrSWVVDYcQZ/8BUnbCGEswXcmPU+U6u49 doFSvJllDvTmXfrTqnggjMiIXUwejjxBvbrBj4W07Djgx75vIoXulY1oLq2dkMTT64jw D5VA== X-Gm-Message-State: AOJu0YwKV8KHIj8ZL92RfJ4dWMpZ7YBzvzEmtUrArm87wclGHJYFoiGs s98fzzdqWwd+N5wn4Zd/azqzdVdKxDoY4IaXc45R37gkjuPZfokkZpUJjx8RCESynWpPM2WWwTq 2bjhLTdFudvmHTyeOmRj10kJUp3ZAiP9kiopIOskBxS7+EKmOVvhOP3G3aoXP X-Gm-Gg: ASbGncs1Ilsd52z+nK92+3EhOxdekyNprgLlfJ3XMaGEKK2AKiHPYDUtPIYkpGGapio QxCI003Z8qFpSgKjzxGmDtlKjcOV7VaAkExDTyGTRZwLJVU0VgTX3EyHI/FZknSo6rXFS4ZT8GM SFPdoTMRpUkksIZCKPDwanQIoUXQFHQ5AjnjfdaZL7dY5OyR6cy+00AzjqT+dxEuMHDahS+OHP3 uqQLZwBAPBhtKFOI9nTO0wbijTGqmvZenJbQIzMGFl+3lGoFUJzpvp3v5sO1k6PFHwpxuhg++lH fLsRs+i6Ef+rRNRWpmWZ/U4zjuADBTKZwdWv2yzjpMHrs7tB9g== X-Google-Smtp-Source: AGHT+IGTE1WHFeWw197BE7rkO1p2rWW3s0sBSM2lgl4dlLSS2h44Pw07hilROeOhMCwTJi2WvhnBA1sfkqYh X-Received: by 2002:a05:6e02:318a:b0:42f:8da6:86b5 with SMTP id e9e14a558f8ab-42f8da68a2dmr258509535ab.12.1760403742279; Mon, 13 Oct 2025 18:02:22 -0700 (PDT) Received: from postal.iol.unh.edu (postal.iol.unh.edu. [2606:4100:3880:1234::84]) by smtp-relay.gmail.com with ESMTPS id e9e14a558f8ab-42f90243df7sm8932075ab.5.2025.10.13.18.02.22 (version=TLS1_2 cipher=ECDHE-ECDSA-AES128-GCM-SHA256 bits=128/128); Mon, 13 Oct 2025 18:02:22 -0700 (PDT) X-Relaying-Domain: iol.unh.edu Date: Mon, 13 Oct 2025 18:02:22 -0700 (PDT) Message-ID: <68eda11e.050a0220.311b3d.ce9cSMTPIN_ADDED_MISSING@mx.google.com> Received: from [172.21.0.2] (unknown [172.18.0.240]) by postal.iol.unh.edu (Postfix) with ESMTP id B7C9B6051830; Mon, 13 Oct 2025 21:02:21 -0400 (EDT) Subject: |SUCCESS| [GIT MASTER] 2b403dd8fb37d0ba13723e44ffc7ee2c2795f838 From: dpdklab@iol.unh.edu To: Test Report Cc: dpdk-test-reports@iol.unh.edu Content-Type: text/plain X-BeenThere: test-report@dpdk.org X-Mailman-Version: 2.1.29 Precedence: list List-Id: automatic DPDK test reports List-Unsubscribe: , List-Archive: List-Post: List-Help: List-Subscribe: , Errors-To: test-report-bounces@dpdk.org _Testing PASS_ Branch: dpdk 2b403dd8fb37d0ba13723e44ffc7ee2c2795f838 --> testing pass Upstream job id: Generic-VM-Unit-Test-DPDK#31759 Test environment and result as below: +-------------------------------+----------------+ | Environment | dpdk_unit_test | +===============================+================+ | Fedora Linux 42 | PASS | +-------------------------------+----------------+ | Red Hat Enterprise Linux 8.10 | PASS | +-------------------------------+----------------+ | CentOS Stream 9 | PASS | +-------------------------------+----------------+ | Fedora Linux 40 | PASS | +-------------------------------+----------------+ | Ubuntu 24.04 | PASS | +-------------------------------+----------------+ | Ubuntu 22.04 | PASS | +-------------------------------+----------------+ | Fedora Linux 41 | PASS | +-------------------------------+----------------+ | Debian GNU/Linux 12 | PASS | +-------------------------------+----------------+ | Arch Linux 20250613.0.365270 | PASS | +-------------------------------+----------------+ | Ubuntu 20.04 | PASS | +-------------------------------+----------------+ | Red Hat Enterprise Linux 9.5 | PASS | +-------------------------------+----------------+ | CentOS Stream 10 | PASS | +-------------------------------+----------------+ | Windows Server 2022 | PASS | +-------------------------------+----------------+ Fedora Linux 42 Kernel: 5.15 Compiler: gcc gcc (GCC) 15.2.1 20250808 (Red Hat 15.2.1-1) Red Hat Enterprise Linux 8.10 Kernel: 5.15 Compiler: gcc gcc (GCC) 8.5.0 20210514 (Red Hat 8.5.0-22) CentOS Stream 9 Kernel: 5.15 Compiler: gcc gcc (GCC) 11.5.0 20240719 (Red Hat 11.5.0-11) Fedora Linux 40 Kernel: 5.15 Compiler: gcc gcc (GCC) 14.2.1 20240912 (Red Hat 14.2.1-3) Ubuntu 24.04 Kernel: 5.15 Compiler: gcc gcc (Ubuntu 13.3.0-6ubuntu2~24.04) 13.3.0 Ubuntu 22.04 Kernel: 5.15 Compiler: gcc gcc (Ubuntu 11.4.0-1ubuntu1~22.04) 11.4.0 Fedora Linux 41 Kernel: 5.15 Compiler: clang gcc (GCC) 14.3.1 20250523 (Red Hat 14.3.1-1) Debian GNU/Linux 12 Kernel: 5.15 Compiler: gcc gcc (Debian 12.2.0-14+deb12u1) 12.2.0 Arch Linux 20250613.0.365270 Kernel: 5.15 Compiler: gcc gcc (GCC) 15.1.1 20250425 Ubuntu 20.04 Kernel: 5.15 Compiler: gcc gcc (Ubuntu 9.4.0-1ubuntu1~20.04.2) 9.4.0 Red Hat Enterprise Linux 9.5 Kernel: 5.15 Compiler: gcc gcc (GCC) 11.5.0 20240719 (Red Hat 11.5.0-2) CentOS Stream 10 Kernel: 5.15 Compiler: gcc gcc (GCC) 14.2.1 20250110 (Red Hat 14.2.1-8) Windows Server 2022 Kernel: 10.0.20348.2031 Compiler: clang 15.0.7, gcc 14.1.0 (MinGW), and MSVC VS 19.39.33521 To view detailed results, visit: https://lab.dpdk.org/results/dashboard/tarballs/35191/ UNH-IOL DPDK Community Lab To manage your email subscriptions, visit: https://lab.dpdk.org/results/dashboard/preferences/subscriptions/