From mboxrd@z Thu Jan 1 00:00:00 1970 Return-Path: Received: from mails.dpdk.org (mails.dpdk.org [217.70.189.124]) by inbox.dpdk.org (Postfix) with ESMTP id 0FCEF4892D for ; Tue, 14 Oct 2025 05:50:40 +0200 (CEST) Received: from mails.dpdk.org (localhost [127.0.0.1]) by mails.dpdk.org (Postfix) with ESMTP id DBE0840288; Tue, 14 Oct 2025 05:50:39 +0200 (CEST) Received: from mail-oo1-f99.google.com (mail-oo1-f99.google.com [209.85.161.99]) by mails.dpdk.org (Postfix) with ESMTP id 043E840288 for ; Tue, 14 Oct 2025 05:50:37 +0200 (CEST) Received: by mail-oo1-f99.google.com with SMTP id 006d021491bc7-64442ff55c2so1414927eaf.2 for ; Mon, 13 Oct 2025 20:50:37 -0700 (PDT) DKIM-Signature: v=1; a=rsa-sha256; c=relaxed/relaxed; d=iol.unh.edu; s=unh-iol; t=1760413837; x=1761018637; darn=dpdk.org; h=references:in-reply-to:cc:to:from:subject:message-id:date:from:to :cc:subject:date:message-id:reply-to; bh=ROpCVE2nFfs8GCvhEjol6v4sLOqB7Hgqi1vJR89HuZ0=; b=MjGHzHhNtp8kJw901oe5cOhnM2E2qwPO6cPQjucNxGG8eaVJ/JiiKxBo2SiOsjRAg/ MHlLAkH/f/GNgucVttstR8q73jxjOA2RvCBN4vqR5it6otyDIyFcvVJVYIhUPUdl2LaR x/HxMK4HJP11M5heBHF6ZiDNPg+G1rVviTk/s= X-Google-DKIM-Signature: v=1; a=rsa-sha256; c=relaxed/relaxed; d=1e100.net; s=20230601; t=1760413837; x=1761018637; h=references:in-reply-to:cc:to:from:subject:message-id:date :x-gm-message-state:from:to:cc:subject:date:message-id:reply-to; bh=ROpCVE2nFfs8GCvhEjol6v4sLOqB7Hgqi1vJR89HuZ0=; b=HbcQP2x0HO5Ff/JXNGcADxCw5ie5TsTF20Mg/69FlcjrCh1mJiL12RQKWMam9m8a5m PtsQ0Q1aT1M1BYCKZShPxOoVciFGxKB3df6FYfwfCQfZJAzR4RH4qJE1Zs6ZO7rdwPWY A8dRqbh4Twq69lUpB6PnUsLNzNDQpxZfRy73w7i6ErVZmzZarOk0OAaEGlVsp7Ugxa8d XVEtrEafF0FOnYj4IsjrAEyqSyFeKyjEIEZDFrLs3VAJt2xoUS6H0NW/OIL2OX/x7u4Z 54OaN6/ApDI6VGHN7ktwhTi//fJ+sN/8/uzakX5z+oRE00K50ZRV7QcPvK6fQQjBiEcs bp3g== X-Gm-Message-State: AOJu0YzneBcYrhM0sj/vMUJ2uDci31uOolQDnVXqIfOoL3yIsXX18U/e K/GIknnikJZdGbMae8haULBXG4V3acSqr77j/2JlV/cdfHwiQpN8NldlxMoCLZpz24YEZ79O+99 WHDP0KFINVed10Ih9R0ynJbCqYfgdiHD10ELTrtBonuuP X-Gm-Gg: ASbGncshY3yJHUrQ0K+i7uj8pHdxpNainiSRnCVaKR3ISzp4q+ahj6F7k4Rr9VjsJpJ ZOuhvchq2bE3+VZOUgc4XC1lco4kdJNSTjQaCTbb6InKMavodnIQrSy2qm0MDfeff/ZenpmeRwn VYxQihGVhIqPoXvLdcG70J/6hLuDunlapyQpI3ipGHSFCzmCLx1qYzRvABiBKTcoMmyLqq7ZPaR kfq8qlC2Dnd7NZLr4C2LQEOhI2D3O5y3DYfjIa2Fo0ukLLJaEKBvsLPIHV1VL6dKhcLSoddfLms RbvXwVLB+RhdDjkI6Pqy3Dtu1PbPglYKplMb1NFaF9gfQ93Cu4udjwi97NrSEnVW7zF0i0Oj X-Google-Smtp-Source: AGHT+IHOxtidkrlL6TTRcChQq/ib9KNd9vZcJoD4vuWfjb8KcvP7geVJ4QfnzzlPk43OP5WifXxgCi3boNfI X-Received: by 2002:a05:6870:c18f:b0:369:c7ae:6425 with SMTP id 586e51a60fabf-3c0f81e5e7amr11045491fac.28.1760413837038; Mon, 13 Oct 2025 20:50:37 -0700 (PDT) Received: from postal.iol.unh.edu (postal.iol.unh.edu. [132.177.123.84]) by smtp-relay.gmail.com with ESMTPS id 586e51a60fabf-3c8c8f6ad8asm1068321fac.23.2025.10.13.20.50.36 (version=TLS1_2 cipher=ECDHE-ECDSA-AES128-GCM-SHA256 bits=128/128); Mon, 13 Oct 2025 20:50:37 -0700 (PDT) X-Relaying-Domain: iol.unh.edu Date: Mon, 13 Oct 2025 20:50:37 -0700 (PDT) Message-ID: <68edc88d.050a0220.258b34.4687SMTPIN_ADDED_MISSING@mx.google.com> Received: from [172.21.0.2] (unknown [172.18.0.240]) by postal.iol.unh.edu (Postfix) with ESMTP id 1E61E60003F7; Mon, 13 Oct 2025 23:50:35 -0400 (EDT) Subject: |SUCCESS| pw157502-157508 [PATCH] [v4,7/7] usertools/mbuf: parse mbu From: dpdklab@iol.unh.edu To: Test Report Cc: dpdk-test-reports@iol.unh.edu In-Reply-To: <20251013212019.892032-8-thomas@monjalon.net> References: <20251013212019.892032-8-thomas@monjalon.net> Content-Type: text/plain X-BeenThere: test-report@dpdk.org X-Mailman-Version: 2.1.29 Precedence: list List-Id: automatic DPDK test reports List-Unsubscribe: , List-Archive: List-Post: List-Help: List-Subscribe: , Errors-To: test-report-bounces@dpdk.org Test-Label: iol-unit-arm64-testing Test-Status: SUCCESS http://dpdk.org/patch/157508 _Testing PASS_ Submitter: Thomas Monjalon Date: Monday, October 13 2025 21:16:07 DPDK git baseline: Repo:dpdk Branch: master CommitID:2b403dd8fb37d0ba13723e44ffc7ee2c2795f838 157502-157508 --> testing pass Upstream job id: Generic-Unit-Test-DPDK#380900 Test environment and result as below: +------------------------------+----------------+--------------+------------------------------+---------------------------+ | Environment | dpdk_unit_test | lpm_autotest | cryptodev_sw_snow3g_autotest | cryptodev_sw_zuc_autotest | +==============================+================+==============+==============================+===========================+ | Ubuntu 20.04 | PASS | PASS | SKIPPED | SKIPPED | +------------------------------+----------------+--------------+------------------------------+---------------------------+ | Ubuntu 22.04 | PASS | SKIPPED | SKIPPED | SKIPPED | +------------------------------+----------------+--------------+------------------------------+---------------------------+ | Ubuntu 24.04 | PASS | SKIPPED | SKIPPED | SKIPPED | +------------------------------+----------------+--------------+------------------------------+---------------------------+ | Red Hat Enterprise Linux 9.5 | PASS | SKIPPED | SKIPPED | SKIPPED | +------------------------------+----------------+--------------+------------------------------+---------------------------+ | Fedora Linux 42 | PASS | SKIPPED | SKIPPED | SKIPPED | +------------------------------+----------------+--------------+------------------------------+---------------------------+ | Fedora Linux 40 | PASS | SKIPPED | SKIPPED | SKIPPED | +------------------------------+----------------+--------------+------------------------------+---------------------------+ | Fedora Linux 41 | PASS | SKIPPED | SKIPPED | SKIPPED | +------------------------------+----------------+--------------+------------------------------+---------------------------+ | CentOS Stream 10 | PASS | SKIPPED | SKIPPED | SKIPPED | +------------------------------+----------------+--------------+------------------------------+---------------------------+ | CentOS Stream 9 | PASS | SKIPPED | SKIPPED | SKIPPED | +------------------------------+----------------+--------------+------------------------------+---------------------------+ | Debian GNU/Linux 12 | PASS | SKIPPED | SKIPPED | SKIPPED | +------------------------------+----------------+--------------+------------------------------+---------------------------+ | Debian 12 (arm) | SKIPPED | SKIPPED | PASS | PASS | +------------------------------+----------------+--------------+------------------------------+---------------------------+ Ubuntu 20.04 Kernel: 5.4 Compiler: gcc gcc (Ubuntu 9.4.0-1ubuntu1~20.04.2) 9.4.0 Ubuntu 22.04 Kernel: 5.4 Compiler: gcc gcc (Ubuntu 11.4.0-1ubuntu1~22.04) 11.4.0 Ubuntu 24.04 Kernel: 5.4 Compiler: gcc gcc (Ubuntu 13.3.0-6ubuntu2~24.04) 13.3.0 Red Hat Enterprise Linux 9.5 Kernel: 5.4 Compiler: gcc gcc (GCC) 11.5.0 20240719 (Red Hat 11.5.0-2) Fedora Linux 42 Kernel: 5.4 Compiler: gcc gcc (GCC) 15.2.1 20250808 (Red Hat 15.2.1-1) Fedora Linux 40 Kernel: 5.4 Compiler: clang gcc (GCC) 14.2.1 20240912 (Red Hat 14.2.1-3) Fedora Linux 41 Kernel: 5.4 Compiler: gcc gcc (GCC) 14.3.1 20250523 (Red Hat 14.3.1-1) CentOS Stream 10 Kernel: 5.4 Compiler: gcc gcc (GCC) 14.2.1 20250110 (Red Hat 14.2.1-8) CentOS Stream 9 Kernel: 5.4 Compiler: gcc gcc (GCC) 11.5.0 20240719 (Red Hat 11.5.0-11) Debian GNU/Linux 12 Kernel: 5.4 Compiler: gcc gcc (Debian 12.2.0-14+deb12u1) 12.2.0 Debian 12 (arm) Kernel: Depends on container host Compiler: gcc (Debian 12.2.0-14) 12.2.0 To view detailed results, visit: https://lab.dpdk.org/results/dashboard/patchsets/34266/ UNH-IOL DPDK Community Lab To manage your email subscriptions, visit: https://lab.dpdk.org/results/dashboard/preferences/subscriptions/