From mboxrd@z Thu Jan 1 00:00:00 1970 Return-Path: Received: from mails.dpdk.org (mails.dpdk.org [217.70.189.124]) by inbox.dpdk.org (Postfix) with ESMTP id 17ABA4892E for ; Tue, 14 Oct 2025 06:02:45 +0200 (CEST) Received: from mails.dpdk.org (localhost [127.0.0.1]) by mails.dpdk.org (Postfix) with ESMTP id D951240288; Tue, 14 Oct 2025 06:02:44 +0200 (CEST) Received: from mail-vk1-f226.google.com (mail-vk1-f226.google.com [209.85.221.226]) by mails.dpdk.org (Postfix) with ESMTP id 77CB440288 for ; Tue, 14 Oct 2025 06:02:43 +0200 (CEST) Received: by mail-vk1-f226.google.com with SMTP id 71dfb90a1353d-554ff1682c8so1201793e0c.1 for ; Mon, 13 Oct 2025 21:02:43 -0700 (PDT) DKIM-Signature: v=1; a=rsa-sha256; c=relaxed/relaxed; d=iol.unh.edu; s=unh-iol; t=1760414562; x=1761019362; darn=dpdk.org; h=cc:to:from:subject:message-id:date:from:to:cc:subject:date :message-id:reply-to; bh=uQa/jYLTT4zphWpd3kYMDp6Z7WW0uM62Egi5Otd9qlE=; b=RDNRO+Hng37dcU+gwXebrs14v+CZL/lcZqPH+xnOfpZ7IaT1WWDiTBMSm0BXYB0t+B D6LdC6/m6VSGg8mHxKFh0u4VAP1iqtyn1hRPhi9rkWN8Mg7hr7k6hxCw3aJbQokbvPOw sv3J42XKI5L9wAYzU1KVc8dsFS/+31bD1qrw0= X-Google-DKIM-Signature: v=1; a=rsa-sha256; c=relaxed/relaxed; d=1e100.net; s=20230601; t=1760414562; x=1761019362; h=cc:to:from:subject:message-id:date:x-gm-message-state:from:to:cc :subject:date:message-id:reply-to; bh=uQa/jYLTT4zphWpd3kYMDp6Z7WW0uM62Egi5Otd9qlE=; b=HLn05VlWvU1QLbyFl6ZhT11RfPw1haTrZ7eRIlmaJyfWth8lB/OXLc92Wp8WlbxylP UK9KnziMAFucNul1ff4flqHUfw17sOQTO8QbYgni05utJAtJT9DmaUD1b//BCdvI6Dqg jRKKBn0rsqrSxc+SYHgkY9KzKm5MxGkEm8q6YTjYZEkoqao4W/TCYQJUA22V9lr4ZiYc spbe8WyjRvk2L7x+oir44pMGEK/eT66yNL5pcLZwKjdFdOcvR7qamrg0HZ4oVDGqhtGr aAjAgRpf0BF0xkA7af95H8Dyr+AUZ3o1R1qzA7JYbOe84Gj/bBjflgJuRWw/L4YeA9UL lOtg== X-Gm-Message-State: AOJu0YwDt1jjBOcczVzNA/ITToqYrJw1igY09o/77AwhwxIbCDAaNq+1 ErwgObfFSHU6RgK8xk1wmOGPYKY6nE1XMXmlt60vTulOINsmM595fd10OhGjOisORhnBS0EoOci E4cIYXkBNbKbbyAXPt06hcajBniXBKLNrIHXDBwWbqGSHI0ju0P17JNCJyCv6 X-Gm-Gg: ASbGncshfddmrq3WgNEWMGBYR8PFZRPu593mCYJVFV5NL5/A4rC+MuG5OIL24DtLnEC gqArylya+5zfAUmZ/PXExF51RiZSuehQ+nuXrpqsniYD1xbgwiERDnLI3iNSVaC6k5BSflavdsE t2ZPt91dqXaN51uAG5j7AdPhTKf77yrvNmAljoETpMaJoab2dHDgTEKrfRcjF8SZIR5DJ6ZqhDC /QMF8ecQPGz+q9UQl1bmUlLLwHAFSlDMm3jHanblqjXx7dbu0C2Tt8TD8FWJ5Dsw7vIaNw67gBE QgiQMb54fJb4e0ZSWx+GtZv0t6/GdY0v4QB9l7wWkgJab2J7hA== X-Google-Smtp-Source: AGHT+IFhy5VeUCGb51R0YVEIhadtNFDVqVXGq/JDa0HjOX4S2JCtc/RMmx0RN6kYqSnDFbmGEBnPB6a8IiPs X-Received: by 2002:a05:6122:1683:b0:54b:bf4d:558b with SMTP id 71dfb90a1353d-554b8b8cf48mr9395202e0c.10.1760414562632; Mon, 13 Oct 2025 21:02:42 -0700 (PDT) Received: from postal.iol.unh.edu (postal.iol.unh.edu. [2606:4100:3880:1234::84]) by smtp-relay.gmail.com with ESMTPS id 71dfb90a1353d-554d7fc3e3fsm1335046e0c.4.2025.10.13.21.02.42 (version=TLS1_2 cipher=ECDHE-ECDSA-AES128-GCM-SHA256 bits=128/128); Mon, 13 Oct 2025 21:02:42 -0700 (PDT) X-Relaying-Domain: iol.unh.edu Date: Mon, 13 Oct 2025 21:02:42 -0700 (PDT) Message-ID: <68edcb62.050a0220.22332.2c7bSMTPIN_ADDED_MISSING@mx.google.com> Received: from [172.21.0.3] (unknown [172.18.0.240]) by postal.iol.unh.edu (Postfix) with ESMTP id 132006051830; Tue, 14 Oct 2025 00:02:42 -0400 (EDT) Subject: |SUCCESS| [GIT MASTER] 2b403dd8fb37d0ba13723e44ffc7ee2c2795f838 From: dpdklab@iol.unh.edu To: Test Report Cc: dpdk-test-reports@iol.unh.edu Content-Type: text/plain X-BeenThere: test-report@dpdk.org X-Mailman-Version: 2.1.29 Precedence: list List-Id: automatic DPDK test reports List-Unsubscribe: , List-Archive: List-Post: List-Help: List-Subscribe: , Errors-To: test-report-bounces@dpdk.org _Testing PASS_ Branch: dpdk 2b403dd8fb37d0ba13723e44ffc7ee2c2795f838 --> testing pass Upstream job id: Generic-DPDK-Compile-Meson#433804 Test environment and result as below: +------------------------------+--------------------+ | Environment | dpdk_meson_compile | +==============================+====================+ | Ubuntu 20.04 | PASS | +------------------------------+--------------------+ | Red Hat Enterprise Linux 9.5 | PASS | +------------------------------+--------------------+ | Debian GNU/Linux 12 | PASS | +------------------------------+--------------------+ | CentOS Stream 9 | PASS | +------------------------------+--------------------+ | Ubuntu 22.04 | PASS | +------------------------------+--------------------+ | Fedora Linux 42 | PASS | +------------------------------+--------------------+ | Ubuntu 24.04 | PASS | +------------------------------+--------------------+ | CentOS Stream 10 | PASS | +------------------------------+--------------------+ Ubuntu 20.04 Kernel: 5.15 Compiler: aarch64-linux-gnu-gcc gcc (Ubuntu 9.4.0-1ubuntu1~20.04.2) 9.4.0 Red Hat Enterprise Linux 9.5 Kernel: 5.4 Compiler: gcc gcc (GCC) 11.5.0 20240719 (Red Hat 11.5.0-2) Debian GNU/Linux 12 Kernel: 5.4 Compiler: gcc gcc (Debian 12.2.0-14+deb12u1) 12.2.0 CentOS Stream 9 Kernel: 5.4 Compiler: gcc gcc (GCC) 11.5.0 20240719 (Red Hat 11.5.0-11) Ubuntu 22.04 Kernel: 5.4 Compiler: gcc gcc (Ubuntu 11.4.0-1ubuntu1~22.04) 11.4.0 Fedora Linux 42 Kernel: 5.4 Compiler: gcc gcc (GCC) 15.2.1 20250808 (Red Hat 15.2.1-1) Ubuntu 24.04 Kernel: 5.4 Compiler: gcc gcc (Ubuntu 13.3.0-6ubuntu2~24.04) 13.3.0 CentOS Stream 10 Kernel: 5.4 Compiler: gcc gcc (GCC) 14.2.1 20250110 (Red Hat 14.2.1-8) To view detailed results, visit: https://lab.dpdk.org/results/dashboard/tarballs/35191/ UNH-IOL DPDK Community Lab To manage your email subscriptions, visit: https://lab.dpdk.org/results/dashboard/preferences/subscriptions/