From mboxrd@z Thu Jan 1 00:00:00 1970 Return-Path: Received: from mails.dpdk.org (mails.dpdk.org [217.70.189.124]) by inbox.dpdk.org (Postfix) with ESMTP id 464EC4892E for ; Tue, 14 Oct 2025 06:45:19 +0200 (CEST) Received: from mails.dpdk.org (localhost [127.0.0.1]) by mails.dpdk.org (Postfix) with ESMTP id 4261B40288; Tue, 14 Oct 2025 06:45:19 +0200 (CEST) Received: from mail-yw1-f227.google.com (mail-yw1-f227.google.com [209.85.128.227]) by mails.dpdk.org (Postfix) with ESMTP id 7C06040288 for ; Tue, 14 Oct 2025 06:45:17 +0200 (CEST) Received: by mail-yw1-f227.google.com with SMTP id 00721157ae682-7815092cd0aso462337b3.2 for ; Mon, 13 Oct 2025 21:45:17 -0700 (PDT) DKIM-Signature: v=1; a=rsa-sha256; c=relaxed/relaxed; d=iol.unh.edu; s=unh-iol; t=1760417117; x=1761021917; darn=dpdk.org; h=cc:to:from:subject:message-id:date:from:to:cc:subject:date :message-id:reply-to; bh=HiKR09pMguvqQBDgYXfjTilJ13o/OENc2tqGmuzNH4o=; b=VDRcDXbTt3rgZaQ/TVM6whVDFvzcblqbCnzHg/Kq+X1LvQRotV9MR/gGSrN+PolLH9 OpvdtBnqWyEbRK/ZenkbEFP86lfchVT7QhgYsI7FPuZ+Wa+U/riZJoVY7Lp/LMgCZ1Mq l5tfhiazhXgeK7HgP5LNE80AHkzEq0zeBdSZw= X-Google-DKIM-Signature: v=1; a=rsa-sha256; c=relaxed/relaxed; d=1e100.net; s=20230601; t=1760417117; x=1761021917; h=cc:to:from:subject:message-id:date:x-gm-message-state:from:to:cc :subject:date:message-id:reply-to; bh=HiKR09pMguvqQBDgYXfjTilJ13o/OENc2tqGmuzNH4o=; b=M+JgXLwHOvzYGzwyMoGT41JpDSA0pH/GzyniWj7Xp/k7OV38pCeHWbOCAzWgJhspwC ehzn/sMhzlCNfflEB08cwu9xNGFpxbERiM2osKPOnfJXzOoC7P3SW/YaGSBCumgn4KFH z/WcbzWvN073r7jfgH09rejaLD3yortv7tFxbPaijmtQRI4jgVjvDsylqYn+Aa218wcY nQuzmzMxi7a6jg/9RurGWee6DvPh8Qw2c2ShgK/UUstz7bieNFrRH6pq2WWOeVj17KX8 /lQDFI3u5fSF1QFWd2eqOzGkpf2p6+RK1NLk4T+gipdjoeGS3ysg1xfEiBUS1dNQYH6u Db0A== X-Gm-Message-State: AOJu0Yy9cU8mHsbG9pUkYT1e3sNxA6LiYqbuia5RGdBgHeLX4qgAetpB s68J/lb0dZj/lLW4qHNt8i1exFPnltihTPLFmHKR7cwkbAOcuqa2vVHj0xHI2kC57TO8zZUVeta LM1jv7dmJhbxXvgbLa9Rn1btkGdHW3bW49lqgwp4cn89nYdFm7XgkkLOxvm1n X-Gm-Gg: ASbGncsioFPC1yRgFdySoLeeE1I7fKTb0vN/By6OciaKy2KuymVyKowB8oJa25ZFzKA e0UA6vQbtFoRD/ef3xN+40wAvXKvLwnxBkz0Bn5AhYEc/wlKwB+xbqNxj+lOYlTQX8ut6FsteGg 4gOpnTogaF3tq5lot7MlncVd2S4CDPxU8vjn8epd76JV7zgjHGpy9hjHDJLgd/WqrvD/Hz+s0zK zyOWs+XSKhxzIWFHNkwvik1ldM19VPbedc7Rdlvbi/MRCR7IA3GKihYqyERx87DLNUp9G9DlJa5 yS9pAI2qPQTDgf20hJ3Y9wbQqIC3FF15Cw9GIDclEIN7EBi18Q== X-Google-Smtp-Source: AGHT+IG7GRGfYv8qdBe0EFSIxRRxhyDe6PKLAqj8Y+5LzBRhcbVgYX/B81LMHX2IFlSF9504fpMr9AS3Qvbx X-Received: by 2002:a05:690c:368a:b0:780:ff13:23a7 with SMTP id 00721157ae682-780ff132d60mr160605077b3.14.1760417116850; Mon, 13 Oct 2025 21:45:16 -0700 (PDT) Received: from postal.iol.unh.edu (postal.iol.unh.edu. [2606:4100:3880:1234::84]) by smtp-relay.gmail.com with ESMTPS id 00721157ae682-781253d1865sm4056187b3.30.2025.10.13.21.45.16 (version=TLS1_2 cipher=ECDHE-ECDSA-AES128-GCM-SHA256 bits=128/128); Mon, 13 Oct 2025 21:45:16 -0700 (PDT) X-Relaying-Domain: iol.unh.edu Date: Mon, 13 Oct 2025 21:45:16 -0700 (PDT) Message-ID: <68edd55c.050a0220.211503.49d8SMTPIN_ADDED_MISSING@mx.google.com> Received: from [172.21.0.2] (unknown [172.18.0.240]) by postal.iol.unh.edu (Postfix) with ESMTP id 79B536051830; Tue, 14 Oct 2025 00:45:16 -0400 (EDT) Subject: |SUCCESS| [GIT MASTER] 2b403dd8fb37d0ba13723e44ffc7ee2c2795f838 From: dpdklab@iol.unh.edu To: Test Report Cc: dpdk-test-reports@iol.unh.edu Content-Type: text/plain X-BeenThere: test-report@dpdk.org X-Mailman-Version: 2.1.29 Precedence: list List-Id: automatic DPDK test reports List-Unsubscribe: , List-Archive: List-Post: List-Help: List-Subscribe: , Errors-To: test-report-bounces@dpdk.org _Testing PASS_ Branch: dpdk 2b403dd8fb37d0ba13723e44ffc7ee2c2795f838 --> testing pass Upstream job id: Generic-Unit-Test-DPDK#380912 Test environment and result as below: +------------------------------+----------------+---------------------------+--------------+------------------------------+ | Environment | dpdk_unit_test | cryptodev_sw_zuc_autotest | lpm_autotest | cryptodev_sw_snow3g_autotest | +==============================+================+===========================+==============+==============================+ | Fedora Linux 41 | PASS | SKIPPED | SKIPPED | SKIPPED | +------------------------------+----------------+---------------------------+--------------+------------------------------+ | Ubuntu 24.04 | PASS | SKIPPED | SKIPPED | SKIPPED | +------------------------------+----------------+---------------------------+--------------+------------------------------+ | CentOS Stream 9 | PASS | SKIPPED | SKIPPED | SKIPPED | +------------------------------+----------------+---------------------------+--------------+------------------------------+ | Fedora Linux 40 | PASS | SKIPPED | SKIPPED | SKIPPED | +------------------------------+----------------+---------------------------+--------------+------------------------------+ | Fedora Linux 42 | PASS | SKIPPED | SKIPPED | SKIPPED | +------------------------------+----------------+---------------------------+--------------+------------------------------+ | Debian GNU/Linux 12 | PASS | SKIPPED | SKIPPED | SKIPPED | +------------------------------+----------------+---------------------------+--------------+------------------------------+ | Red Hat Enterprise Linux 9.5 | PASS | SKIPPED | SKIPPED | SKIPPED | +------------------------------+----------------+---------------------------+--------------+------------------------------+ | Ubuntu 22.04 | PASS | SKIPPED | SKIPPED | SKIPPED | +------------------------------+----------------+---------------------------+--------------+------------------------------+ | CentOS Stream 10 | PASS | SKIPPED | SKIPPED | SKIPPED | +------------------------------+----------------+---------------------------+--------------+------------------------------+ | Ubuntu 20.04 | PASS | SKIPPED | PASS | SKIPPED | +------------------------------+----------------+---------------------------+--------------+------------------------------+ | Debian 12 (arm) | SKIPPED | PASS | SKIPPED | PASS | +------------------------------+----------------+---------------------------+--------------+------------------------------+ Fedora Linux 41 Kernel: 5.4 Compiler: clang gcc (GCC) 14.3.1 20250523 (Red Hat 14.3.1-1) Ubuntu 24.04 Kernel: 5.4 Compiler: gcc gcc (Ubuntu 13.3.0-6ubuntu2~24.04) 13.3.0 CentOS Stream 9 Kernel: 5.4 Compiler: gcc gcc (GCC) 11.5.0 20240719 (Red Hat 11.5.0-11) Fedora Linux 40 Kernel: 5.4 Compiler: gcc gcc (GCC) 14.2.1 20240912 (Red Hat 14.2.1-3) Fedora Linux 42 Kernel: 5.4 Compiler: gcc gcc (GCC) 15.2.1 20250808 (Red Hat 15.2.1-1) Debian GNU/Linux 12 Kernel: 5.4 Compiler: gcc gcc (Debian 12.2.0-14+deb12u1) 12.2.0 Red Hat Enterprise Linux 9.5 Kernel: 5.4 Compiler: gcc gcc (GCC) 11.5.0 20240719 (Red Hat 11.5.0-2) Ubuntu 22.04 Kernel: 5.4 Compiler: gcc gcc (Ubuntu 11.4.0-1ubuntu1~22.04) 11.4.0 CentOS Stream 10 Kernel: 5.4 Compiler: gcc gcc (GCC) 14.2.1 20250110 (Red Hat 14.2.1-8) Ubuntu 20.04 Kernel: 5.4 Compiler: gcc gcc (Ubuntu 9.4.0-1ubuntu1~20.04.2) 9.4.0 Debian 12 (arm) Kernel: Depends on container host Compiler: gcc (Debian 12.2.0-14) 12.2.0 To view detailed results, visit: https://lab.dpdk.org/results/dashboard/tarballs/35191/ UNH-IOL DPDK Community Lab To manage your email subscriptions, visit: https://lab.dpdk.org/results/dashboard/preferences/subscriptions/