From mboxrd@z Thu Jan 1 00:00:00 1970 Return-Path: Received: from mails.dpdk.org (mails.dpdk.org [217.70.189.124]) by inbox.dpdk.org (Postfix) with ESMTP id 27D794892E for ; Tue, 14 Oct 2025 06:53:17 +0200 (CEST) Received: from mails.dpdk.org (localhost [127.0.0.1]) by mails.dpdk.org (Postfix) with ESMTP id 2382D40288; Tue, 14 Oct 2025 06:53:17 +0200 (CEST) Received: from mail-pg1-f226.google.com (mail-pg1-f226.google.com [209.85.215.226]) by mails.dpdk.org (Postfix) with ESMTP id 1288640288 for ; Tue, 14 Oct 2025 06:53:16 +0200 (CEST) Received: by mail-pg1-f226.google.com with SMTP id 41be03b00d2f7-b550eff972eso3230601a12.3 for ; Mon, 13 Oct 2025 21:53:16 -0700 (PDT) DKIM-Signature: v=1; a=rsa-sha256; c=relaxed/relaxed; d=iol.unh.edu; s=unh-iol; t=1760417595; x=1761022395; darn=dpdk.org; h=references:in-reply-to:cc:to:from:subject:message-id:date:from:to :cc:subject:date:message-id:reply-to; bh=95Re2aeaPqbqgq+dc3jTMBs7YPfK9QCEzqkEcpg02F4=; b=aCT6khZeTkn5Rz6bEwRz5fIXmTv9ZVxH7Xj4cihvsoShkbJ1qVqSTRFEoj0xeZATsB bmTQUx2krx5sa/RwCsQm9OIdD3ka24QWbLj+hPMu3jnrF0bPJfM9RSXJz5iN0IftxboY OjuXE/L8DdScXi4RsrsL1qvG1YIeZmAj+NOsc= X-Google-DKIM-Signature: v=1; a=rsa-sha256; c=relaxed/relaxed; d=1e100.net; s=20230601; t=1760417595; x=1761022395; h=references:in-reply-to:cc:to:from:subject:message-id:date :x-gm-message-state:from:to:cc:subject:date:message-id:reply-to; bh=95Re2aeaPqbqgq+dc3jTMBs7YPfK9QCEzqkEcpg02F4=; b=aWR/W17v6yywim/iCjH9h+bDLR3GJJALjj2o60PsQE/GXIB169xJerg3uYAJIJL3O7 97Pbw8q8/DXpjqu+fku//cH8IX4eQTjESJCdgFQQNV1p9pFmfJqiudZlSG+WilDXbJr9 jLtMh79sj5e1jlMo8AuMUSFY5OnwhJ0L127QIBsmydDWYfJiPS/hvZdckJ1xyqOa9464 LDAZQRcUQlza0CLeUs8sCTiBQvy0ZwGqVIgEqp4GjJ4kEVDab3b8qo1UXYi7QZmBOSJe G7WTWvkglSI20i9yf1cSALZ1hEf/jLGggRuo8DHD+GOsBZF3CuCXRbggM6mOZRhrmVVG yU/w== X-Gm-Message-State: AOJu0YyidEs0/8j6jgij9vufH8zWb36DiQYYoqbP2Q2y3s9fTL5GCSsS wULlDt362rRoO8dTpsnabIRNzJSFoCOWXgEJB2IGCYbwNV2FWPuTDx0vFi10uVGnAz+fm3L0NCa xPAiz7hDhZ3+vzi5eNMxdeAGya/ZvWSh0xxAoHmcQ/Sz1 X-Gm-Gg: ASbGnctc0P0sjFgPGbPNwk93ZXUY/cCczNSo1fyNh7yaaa9i85rzEGucRVlf0GBKBB9 OIWVrdASppwmw0SHKiskGeoiHEZgxPagoHlTHditqQwNv8s7ZOyU/9oF/Fa2K+Mlu1SOJ61fM9s yTzXRDvvI4cnG4g0JZwEsQ8NhnRyFeOyuWsSnTYaNpqzLBiBU3G40xrxCASRwmJV6lUCw4vYDoR 4bE8ZrgYEAQIhwIq9j86QzJh/FFlpOiUeEgbSI2n2NFFG+OAYvof/hIGWEsexKjBC3aifOz9TMt 6PzsRo4XRWzAbgHI2cclqJcMjkiW0g+WUqP0e2Ckt0KIX9naTc2KpSw/X6F/OMJGcQ8oAcwn X-Google-Smtp-Source: AGHT+IGTif5PlKpJGycTg0PPoRJFzDAE95v3RiG2BfxcJKbH6TcM9yQBKPC2LZ1YZZkLSLw4bhysaj2gEY1a X-Received: by 2002:a17:903:388c:b0:269:a4ed:13c3 with SMTP id d9443c01a7336-290272161edmr317856395ad.5.1760417595164; Mon, 13 Oct 2025 21:53:15 -0700 (PDT) Received: from postal.iol.unh.edu (postal.iol.unh.edu. [132.177.123.84]) by smtp-relay.gmail.com with ESMTPS id 98e67ed59e1d1-33b626cf798sm1054180a91.6.2025.10.13.21.53.15 (version=TLS1_2 cipher=ECDHE-ECDSA-AES128-GCM-SHA256 bits=128/128); Mon, 13 Oct 2025 21:53:15 -0700 (PDT) X-Relaying-Domain: iol.unh.edu Date: Mon, 13 Oct 2025 21:53:15 -0700 (PDT) Message-ID: <68edd73b.170a0220.249e7f.57cbSMTPIN_ADDED_MISSING@mx.google.com> Received: from [172.21.0.3] (unknown [172.18.0.240]) by postal.iol.unh.edu (Postfix) with ESMTP id CF7B56051830; Tue, 14 Oct 2025 00:53:13 -0400 (EDT) Subject: |SUCCESS| pw157502-157508 [PATCH] [v4,7/7] usertools/mbuf: parse mbu From: dpdklab@iol.unh.edu To: Test Report Cc: dpdk-test-reports@iol.unh.edu In-Reply-To: <20251013212019.892032-8-thomas@monjalon.net> References: <20251013212019.892032-8-thomas@monjalon.net> Content-Type: text/plain X-BeenThere: test-report@dpdk.org X-Mailman-Version: 2.1.29 Precedence: list List-Id: automatic DPDK test reports List-Unsubscribe: , List-Archive: List-Post: List-Help: List-Subscribe: , Errors-To: test-report-bounces@dpdk.org Test-Label: iol-compile-arm64-testing Test-Status: SUCCESS http://dpdk.org/patch/157508 _Testing PASS_ Submitter: Thomas Monjalon Date: Monday, October 13 2025 21:16:07 DPDK git baseline: Repo:dpdk Branch: master CommitID:2b403dd8fb37d0ba13723e44ffc7ee2c2795f838 157502-157508 --> testing pass Upstream job id: Generic-DPDK-Compile-Meson#433783 Test environment and result as below: +------------------------------+--------------------+ | Environment | dpdk_meson_compile | +==============================+====================+ | Red Hat Enterprise Linux 9.5 | PASS | +------------------------------+--------------------+ | Debian GNU/Linux 12 | PASS | +------------------------------+--------------------+ | Ubuntu 20.04 | PASS | +------------------------------+--------------------+ | Fedora Linux 42 | PASS | +------------------------------+--------------------+ | Ubuntu 24.04 | PASS | +------------------------------+--------------------+ | CentOS Stream 9 | PASS | +------------------------------+--------------------+ | CentOS Stream 10 | PASS | +------------------------------+--------------------+ | Ubuntu 22.04 | PASS | +------------------------------+--------------------+ Red Hat Enterprise Linux 9.5 Kernel: 5.4 Compiler: gcc gcc (GCC) 11.5.0 20240719 (Red Hat 11.5.0-2) Debian GNU/Linux 12 Kernel: 5.4 Compiler: gcc gcc (Debian 12.2.0-14+deb12u1) 12.2.0 Ubuntu 20.04 Kernel: 5.15 Compiler: gcc gcc (Ubuntu 9.4.0-1ubuntu1~20.04.2) 9.4.0 Fedora Linux 42 Kernel: 5.4 Compiler: gcc gcc (GCC) 15.2.1 20250808 (Red Hat 15.2.1-1) Ubuntu 24.04 Kernel: 5.4 Compiler: gcc gcc (Ubuntu 13.3.0-6ubuntu2~24.04) 13.3.0 CentOS Stream 9 Kernel: 5.4 Compiler: gcc gcc (GCC) 11.5.0 20240719 (Red Hat 11.5.0-11) CentOS Stream 10 Kernel: 5.4 Compiler: gcc gcc (GCC) 14.2.1 20250110 (Red Hat 14.2.1-8) Ubuntu 22.04 Kernel: 5.4 Compiler: gcc gcc (Ubuntu 11.4.0-1ubuntu1~22.04) 11.4.0 To view detailed results, visit: https://lab.dpdk.org/results/dashboard/patchsets/34266/ UNH-IOL DPDK Community Lab To manage your email subscriptions, visit: https://lab.dpdk.org/results/dashboard/preferences/subscriptions/