From mboxrd@z Thu Jan 1 00:00:00 1970 Return-Path: Received: from mails.dpdk.org (mails.dpdk.org [217.70.189.124]) by inbox.dpdk.org (Postfix) with ESMTP id 1E04C4892E for ; Tue, 14 Oct 2025 07:14:30 +0200 (CEST) Received: from mails.dpdk.org (localhost [127.0.0.1]) by mails.dpdk.org (Postfix) with ESMTP id 1863040288; Tue, 14 Oct 2025 07:14:30 +0200 (CEST) Received: from mail-pj1-f97.google.com (mail-pj1-f97.google.com [209.85.216.97]) by mails.dpdk.org (Postfix) with ESMTP id A95E640288 for ; Tue, 14 Oct 2025 07:14:21 +0200 (CEST) Received: by mail-pj1-f97.google.com with SMTP id 98e67ed59e1d1-3305c08d9f6so3976809a91.1 for ; Mon, 13 Oct 2025 22:14:21 -0700 (PDT) DKIM-Signature: v=1; a=rsa-sha256; c=relaxed/relaxed; d=iol.unh.edu; s=unh-iol; t=1760418861; x=1761023661; darn=dpdk.org; h=cc:to:from:subject:message-id:date:from:to:cc:subject:date :message-id:reply-to; bh=sv/rHdoWfIrTEc0G+JW5nbM9w2LBzVnC0pUqv5Rz+Ng=; b=U+KIgmjl87OGLjat07bO2okAUGWliS6fUT7vEdg8PvlGPlRKcTJ26bGez5CN1pyUdv PF1WBOeBG0WegQrua7K9ilogNHn4xRhmITCzNCJ2M2Sw1wHrXMNiIINQgrLchSJk/xaY x3/LVA0ZskgiD2VyEZ/p9GrSwZl7XwXTV3920= X-Google-DKIM-Signature: v=1; a=rsa-sha256; c=relaxed/relaxed; d=1e100.net; s=20230601; t=1760418861; x=1761023661; h=cc:to:from:subject:message-id:date:x-gm-message-state:from:to:cc :subject:date:message-id:reply-to; bh=sv/rHdoWfIrTEc0G+JW5nbM9w2LBzVnC0pUqv5Rz+Ng=; b=YRcP++X7qGIJ6ryGQkn5B/hTRbRS80yMhMj6Ww8EiVowOtuf0tWH2qaYIxR+KaXZD7 nTbq4jG57nVK1Vy/7z2C2lpRyryT1kTKD7TxLHuutjLSiKgCv+2g9amMdEOnoXWdXbow W1GO08IwsiJNDfLhdQKIGuxdieLG+zW4Wdc8UU53dAbz8EoxmFOhXwQphdBxw1XUC/Xo nVnVuwgnMU5xXUsPu4jnYLBSrPzw+pajHHKUm4u7FoZj4rEzdUu7DkArVdolc2Q36Nrd GGSEMcegLaAXOI0LY331QlAUNUxhRfH2awNc7AVdbGMQBpxUv8RZkVmU6oKTi3atjjsW 34qg== X-Gm-Message-State: AOJu0YwK3Q0GNBgSoIRReyTjtkXOi/5A2uzLjGiwRrAOa3/U1KqJdKC2 gkKgEsXyMH/W2AoeDxOvaXrj9KpH5pOOc0TIOb+PxLO/OI2A9yE5f0E/vK8lXgjLgiJeuNxb9zH 1DY1mwngwu/t4gcKWFoaXZgpOdskbqUezNcPhPUhyn+T2t4q8xkXE X-Gm-Gg: ASbGnctbCvOem6hBksKi7wIGFyvHdiZKGngW1fGoKWQuXmNzlkaAv/nSe0osulhPV3i pO0GWOmg9BwNGMwNc54b4jfhS1irJR1hWe0S80DIilqCWURDeBogJGb7Ds4SsK9HaYceyNMyLqt DyiBGkyE0ArVrovT15SYMI/mSM+ocPEWhTmLlpWdTVKyscA/MtMBC4N/WE6SPthhCo3+D48mKBX XgX7Vi3RttAXAVjFwNMxurX4qda7uO8nI/xEu6g4Js1cJVFdj34y8RWxIEBZodVwM2lhXhjAO7v STWBzyHveZ7ofQhCISHfkJk6GyuNGERwb/nCzZVdaO1Ke89ypA== X-Google-Smtp-Source: AGHT+IHbkm+UITTkR4oyXcPHoiyIx+3qRimd6PYq9m6fAYCtkfPIkN5IV7V2kL84Igc1GOpsAr1X4u2CcbHj X-Received: by 2002:a17:90b:33c8:b0:32e:8ff9:d124 with SMTP id 98e67ed59e1d1-33b5171dc83mr29505803a91.15.1760418860758; Mon, 13 Oct 2025 22:14:20 -0700 (PDT) Received: from postal.iol.unh.edu (postal.iol.unh.edu. [2606:4100:3880:1234::84]) by smtp-relay.gmail.com with ESMTPS id 98e67ed59e1d1-33b626b3867sm1095930a91.4.2025.10.13.22.14.20 (version=TLS1_2 cipher=ECDHE-ECDSA-AES128-GCM-SHA256 bits=128/128); Mon, 13 Oct 2025 22:14:20 -0700 (PDT) X-Relaying-Domain: iol.unh.edu Date: Mon, 13 Oct 2025 22:14:20 -0700 (PDT) Message-ID: <68eddc2c.170a0220.16f102.55aaSMTPIN_ADDED_MISSING@mx.google.com> Received: from [172.21.0.4] (unknown [172.18.0.240]) by postal.iol.unh.edu (Postfix) with ESMTP id C01256051835; Tue, 14 Oct 2025 01:14:19 -0400 (EDT) Subject: |SUCCESS| [GIT MASTER] 3b43ce3f4a54468e7ef65760c2fd7b4d6ee6d9fc From: dpdklab@iol.unh.edu To: Test Report Cc: dpdk-test-reports@iol.unh.edu, Xueming Li , Christian Ehrhardt , Kevin Traynor , Luca Boccassi Content-Type: text/plain X-BeenThere: test-report@dpdk.org X-Mailman-Version: 2.1.29 Precedence: list List-Id: automatic DPDK test reports List-Unsubscribe: , List-Archive: List-Post: List-Help: List-Subscribe: , Errors-To: test-report-bounces@dpdk.org _Testing PASS_ Branch: tags/v22.11 3b43ce3f4a54468e7ef65760c2fd7b4d6ee6d9fc --> testing pass Upstream job id: Generic-DPDK-Compile-Meson#433841 Test environment and result as below: +-------------------------------+--------------------+-------------------------+----------------------+ | Environment | dpdk_meson_compile | dpdk_llvm_clang_compile | dpdk_mingw64_compile | +===============================+====================+=========================+======================+ | CentOS Stream 9 | PASS | SKIPPED | SKIPPED | +-------------------------------+--------------------+-------------------------+----------------------+ | CentOS Stream 10 | PASS | SKIPPED | SKIPPED | +-------------------------------+--------------------+-------------------------+----------------------+ | Debian GNU/Linux 12 | PASS | SKIPPED | SKIPPED | +-------------------------------+--------------------+-------------------------+----------------------+ | Fedora Linux 42 | PASS | SKIPPED | SKIPPED | +-------------------------------+--------------------+-------------------------+----------------------+ | Red Hat Enterprise Linux 8.10 | PASS | SKIPPED | SKIPPED | +-------------------------------+--------------------+-------------------------+----------------------+ | openSUSE Leap 15.6 | PASS | SKIPPED | SKIPPED | +-------------------------------+--------------------+-------------------------+----------------------+ | Red Hat Enterprise Linux 9.5 | PASS | SKIPPED | SKIPPED | +-------------------------------+--------------------+-------------------------+----------------------+ | Ubuntu 24.04 | PASS | SKIPPED | SKIPPED | +-------------------------------+--------------------+-------------------------+----------------------+ | Ubuntu 20.04 | PASS | SKIPPED | SKIPPED | +-------------------------------+--------------------+-------------------------+----------------------+ | Ubuntu 22.04 | PASS | SKIPPED | SKIPPED | +-------------------------------+--------------------+-------------------------+----------------------+ | FreeBSD 14.2 | PASS | SKIPPED | SKIPPED | +-------------------------------+--------------------+-------------------------+----------------------+ | Windows Server 2022 | SKIPPED | PASS | PASS | +-------------------------------+--------------------+-------------------------+----------------------+ CentOS Stream 9 Kernel: 5.15 Compiler: gcc gcc (GCC) 11.5.0 20240719 (Red Hat 11.5.0-11) CentOS Stream 10 Kernel: 5.15 Compiler: gcc gcc (GCC) 14.2.1 20250110 (Red Hat 14.2.1-8) Debian GNU/Linux 12 Kernel: 5.15 Compiler: gcc gcc (Debian 12.2.0-14+deb12u1) 12.2.0 Fedora Linux 42 Kernel: 5.15 Compiler: clang gcc (GCC) 15.2.1 20250808 (Red Hat 15.2.1-1) Red Hat Enterprise Linux 8.10 Kernel: 5.15 Compiler: gcc gcc (GCC) 8.5.0 20210514 (Red Hat 8.5.0-22) openSUSE Leap 15.6 Kernel: 5.15 Compiler: gcc gcc (SUSE Linux) 7.5.0 Red Hat Enterprise Linux 9.5 Kernel: 5.15 Compiler: gcc gcc (GCC) 11.5.0 20240719 (Red Hat 11.5.0-2) Ubuntu 24.04 Kernel: 5.15 Compiler: gcc gcc (Ubuntu 13.3.0-6ubuntu2~24.04) 13.3.0 Ubuntu 20.04 Kernel: 4.19 Compiler: gcc gcc (Ubuntu 9.4.0-1ubuntu1~20.04.2) 9.4.0 Ubuntu 22.04 Kernel: 5.15 Compiler: gcc gcc (Ubuntu 11.4.0-1ubuntu1~22.04) 11.4.0 FreeBSD 14.2 Kernel: 14.2-RELEASE Compiler: clang 18.1.6 Windows Server 2022 Kernel: 10.0.20348.2031 Compiler: clang 15.0.7, gcc 14.1.0 (MinGW), and MSVC VS 19.39.33521 To view detailed results, visit: https://lab.dpdk.org/results/dashboard/tarballs/35194/ UNH-IOL DPDK Community Lab To manage your email subscriptions, visit: https://lab.dpdk.org/results/dashboard/preferences/subscriptions/