From mboxrd@z Thu Jan 1 00:00:00 1970 Return-Path: Received: from mails.dpdk.org (mails.dpdk.org [217.70.189.124]) by inbox.dpdk.org (Postfix) with ESMTP id 2C62D4892E for ; Tue, 14 Oct 2025 07:55:37 +0200 (CEST) Received: from mails.dpdk.org (localhost [127.0.0.1]) by mails.dpdk.org (Postfix) with ESMTP id 0C09E40288; Tue, 14 Oct 2025 07:55:37 +0200 (CEST) Received: from mail-pf1-f226.google.com (mail-pf1-f226.google.com [209.85.210.226]) by mails.dpdk.org (Postfix) with ESMTP id 556DB40288 for ; Tue, 14 Oct 2025 07:55:36 +0200 (CEST) Received: by mail-pf1-f226.google.com with SMTP id d2e1a72fcca58-7810289cd4bso4721419b3a.2 for ; Mon, 13 Oct 2025 22:55:36 -0700 (PDT) DKIM-Signature: v=1; a=rsa-sha256; c=relaxed/relaxed; d=iol.unh.edu; s=unh-iol; t=1760421335; x=1761026135; darn=dpdk.org; h=cc:to:from:subject:message-id:date:from:to:cc:subject:date :message-id:reply-to; bh=8tJwsa7sgk/wTbRBNBfPyNdtB9vFIO3bD9foVDEMtcQ=; b=eQjdGaMIOw4YipphoKa9rlgkP4r7Q+zyPSCjdQeS7Ilmrf5DxzIRryrRqgOoPbo4e+ I7FbYzzw60X8UT9X928erdw1QyZUdHE0EDebsciZGf8GRJPfZn3TgeMfZ8eMpQo7fkBr QcM6bVfWOkhGOrzsfzKbeXFAV/K/FrUYM4XAU= X-Google-DKIM-Signature: v=1; a=rsa-sha256; c=relaxed/relaxed; d=1e100.net; s=20230601; t=1760421335; x=1761026135; h=cc:to:from:subject:message-id:date:x-gm-message-state:from:to:cc :subject:date:message-id:reply-to; bh=8tJwsa7sgk/wTbRBNBfPyNdtB9vFIO3bD9foVDEMtcQ=; b=rC3lP/L8KBoRJe/lG2FkhioiOiy4opu+dC8tKNS8DcFlPMUEIwQLpuS++0k1hHCS7I +rv/rl8axR5vhFRyggR6G9fP1scSsfy/q5rPiDW5TstmLcm8lgIuBWNjHPIfLYPzoyMy wQaJStXkpH1qpQfLrl8mdRgs7CjpLKG+BP2UF0FsyKJq4IK+yKTfb18qlGYhdcH6o0gv t9eZi01FvfE1arxyNO5495O5dY6zLhVwVxmA93oIXfQ4WnqSdc9jTkv+sAvfGRyXLohi wdH3R/29+4rgaqmCNQ7KIwjNe0hvalV66f0+nvm/2Td7iLdOoD71ba0mVjN48k2+MSwG HUKA== X-Gm-Message-State: AOJu0YxnHS+1Y4njtUrXKaf6ydaOQQCDTVOlMj+hNHrz0RkRKybwYazD bIpAHSwwLIZYXS32FbXbxOM35vJb+jq9fSRXYhaYzYgT+hWZTzGDzT+cEUZ5jNlilGXEVtzbeDf CqKSExB1bZhbkBLxZ5irg+dcKsxob05L5BTLZcgNbyxO7PTFNhkeN X-Gm-Gg: ASbGncsWYNqw/wTaG/aGwNzffLdqEAh+yljbd3af4W4XWaKqbCmNB2TFHAA3LF/81IR 0LW+siE9DcgGi+cbMVj3/B8pUcqaOMagVljNPPEMzxQ/i1foVoLR94OR74AT86V0knVHUsBza7i QwR6KGQEtcix+yi+nyl7Op+V1KTFUX3zHcJ/m1HZLowKcw7UHKWDfO5l9kBP0JVD76AXqMQzwrm kFv96dnYJSzPQWiJhuRzHt2XmrKz5o3RBY1BfGOXA7+NhIn3HqUjdruCGvM8zesCL3hYJwurTCI kqjxGP73l8f8ByZB2rIrHv2LEA0/uXVaBwMfVsuMW8AQ2IFXUA== X-Google-Smtp-Source: AGHT+IEb3J9gQ9KysexLeIL5/13H+6pMm+xDxp41ZOppMGRkoSunZxQgAfmGHqYPhhkoFwiVhgG1SbbZZwfk X-Received: by 2002:a05:6a20:78a2:b0:32d:b924:e5f5 with SMTP id adf61e73a8af0-32db9250d86mr19118789637.18.1760421335476; Mon, 13 Oct 2025 22:55:35 -0700 (PDT) Received: from postal.iol.unh.edu (postal.iol.unh.edu. [2606:4100:3880:1234::84]) by smtp-relay.gmail.com with ESMTPS id 41be03b00d2f7-b678dcbd767sm854802a12.1.2025.10.13.22.55.35 (version=TLS1_2 cipher=ECDHE-ECDSA-AES128-GCM-SHA256 bits=128/128); Mon, 13 Oct 2025 22:55:35 -0700 (PDT) X-Relaying-Domain: iol.unh.edu Date: Mon, 13 Oct 2025 22:55:35 -0700 (PDT) Message-ID: <68ede5d7.050a0220.10ce30.bb48SMTPIN_ADDED_MISSING@mx.google.com> Received: from [172.21.0.2] (unknown [172.18.0.240]) by postal.iol.unh.edu (Postfix) with ESMTP id DA3A76051830; Tue, 14 Oct 2025 01:55:34 -0400 (EDT) Subject: |WARNING| [GIT MASTER] 62f583c49bf67dd4d6733ece14e55fe6839e66d1 From: dpdklab@iol.unh.edu To: Test Report Cc: dpdk-test-reports@iol.unh.edu, Xueming Li , Christian Ehrhardt , Kevin Traynor , Luca Boccassi Content-Type: text/plain X-BeenThere: test-report@dpdk.org X-Mailman-Version: 2.1.29 Precedence: list List-Id: automatic DPDK test reports List-Unsubscribe: , List-Archive: List-Post: List-Help: List-Subscribe: , Errors-To: test-report-bounces@dpdk.org _Testing issues_ Branch: tags/v23.11 62f583c49bf67dd4d6733ece14e55fe6839e66d1 --> testing issues Upstream job id: Generic-Unit-Test-DPDK#380967 Test environment and result as below: +------------------------------+----------------+---------------------------+--------------+------------------------------+ | Environment | dpdk_unit_test | cryptodev_sw_zuc_autotest | lpm_autotest | cryptodev_sw_snow3g_autotest | +==============================+================+===========================+==============+==============================+ | CentOS Stream 9 | PASS | SKIPPED | SKIPPED | SKIPPED | +------------------------------+----------------+---------------------------+--------------+------------------------------+ | Debian GNU/Linux 12 | PASS | SKIPPED | SKIPPED | SKIPPED | +------------------------------+----------------+---------------------------+--------------+------------------------------+ | CentOS Stream 10 | PASS | SKIPPED | SKIPPED | SKIPPED | +------------------------------+----------------+---------------------------+--------------+------------------------------+ | Fedora Linux 40 | PASS | SKIPPED | SKIPPED | SKIPPED | +------------------------------+----------------+---------------------------+--------------+------------------------------+ | Ubuntu 20.04 | PASS | SKIPPED | PASS | SKIPPED | +------------------------------+----------------+---------------------------+--------------+------------------------------+ | Red Hat Enterprise Linux 9.5 | PASS | SKIPPED | SKIPPED | SKIPPED | +------------------------------+----------------+---------------------------+--------------+------------------------------+ | Fedora Linux 41 | PASS | SKIPPED | SKIPPED | SKIPPED | +------------------------------+----------------+---------------------------+--------------+------------------------------+ | Ubuntu 22.04 | PASS | SKIPPED | SKIPPED | SKIPPED | +------------------------------+----------------+---------------------------+--------------+------------------------------+ | Fedora Linux 42 | PASS | SKIPPED | SKIPPED | SKIPPED | +------------------------------+----------------+---------------------------+--------------+------------------------------+ | Ubuntu 24.04 | PASS | SKIPPED | SKIPPED | SKIPPED | +------------------------------+----------------+---------------------------+--------------+------------------------------+ | Debian 12 (arm) | SKIPPED | PASS | SKIPPED | PASS | +------------------------------+----------------+---------------------------+--------------+------------------------------+ CentOS Stream 9 Kernel: 5.4 Compiler: gcc gcc (GCC) 11.5.0 20240719 (Red Hat 11.5.0-11) Debian GNU/Linux 12 Kernel: 5.4 Compiler: gcc gcc (Debian 12.2.0-14+deb12u1) 12.2.0 CentOS Stream 10 Kernel: 5.4 Compiler: gcc gcc (GCC) 14.2.1 20250110 (Red Hat 14.2.1-8) Fedora Linux 40 Kernel: 5.4 Compiler: clang gcc (GCC) 14.2.1 20240912 (Red Hat 14.2.1-3) Ubuntu 20.04 Kernel: 5.4 Compiler: gcc gcc (Ubuntu 9.4.0-1ubuntu1~20.04.2) 9.4.0 Red Hat Enterprise Linux 9.5 Kernel: 5.4 Compiler: gcc gcc (GCC) 11.5.0 20240719 (Red Hat 11.5.0-2) Fedora Linux 41 Kernel: 5.4 Compiler: clang gcc (GCC) 14.3.1 20250523 (Red Hat 14.3.1-1) Ubuntu 22.04 Kernel: 5.4 Compiler: gcc gcc (Ubuntu 11.4.0-1ubuntu1~22.04) 11.4.0 Fedora Linux 42 Kernel: 5.4 Compiler: gcc gcc (GCC) 15.2.1 20250808 (Red Hat 15.2.1-1) Ubuntu 24.04 Kernel: 5.4 Compiler: gcc gcc (Ubuntu 13.3.0-6ubuntu2~24.04) 13.3.0 Debian 12 (arm) Kernel: Depends on container host Compiler: gcc (Debian 12.2.0-14) 12.2.0 To view detailed results, visit: https://lab.dpdk.org/results/dashboard/tarballs/35192/ UNH-IOL DPDK Community Lab To manage your email subscriptions, visit: https://lab.dpdk.org/results/dashboard/preferences/subscriptions/