From mboxrd@z Thu Jan 1 00:00:00 1970 Return-Path: Received: from mails.dpdk.org (mails.dpdk.org [217.70.189.124]) by inbox.dpdk.org (Postfix) with ESMTP id 32A9848930 for ; Tue, 14 Oct 2025 08:01:54 +0200 (CEST) Received: from mails.dpdk.org (localhost [127.0.0.1]) by mails.dpdk.org (Postfix) with ESMTP id 0F77B40288; Tue, 14 Oct 2025 08:01:54 +0200 (CEST) Received: from mail-io1-f99.google.com (mail-io1-f99.google.com [209.85.166.99]) by mails.dpdk.org (Postfix) with ESMTP id E332F40288 for ; Tue, 14 Oct 2025 08:01:52 +0200 (CEST) Received: by mail-io1-f99.google.com with SMTP id ca18e2360f4ac-93bd394fab0so124069839f.0 for ; Mon, 13 Oct 2025 23:01:52 -0700 (PDT) DKIM-Signature: v=1; a=rsa-sha256; c=relaxed/relaxed; d=iol.unh.edu; s=unh-iol; t=1760421712; x=1761026512; darn=dpdk.org; h=cc:to:from:subject:message-id:date:from:to:cc:subject:date :message-id:reply-to; bh=lOt63ZHx+y8n9oYYS5SPcbup9khV88/c2ee429gnC3Q=; b=cd6AyeATqWpZo7WDpofcvQflNrFqkFa1k4wwTbvg1NgiRhj0mPEnNeRxbqzCwsoXx9 IkTGIR8PsDJ/pioubfqAnBzy6xFy7LsSBCn0ae3wFtWh1Yfciyq4aKkLrehEp8a4JICr LufVO4TehPA1aTTA4xMnAdQIx9WCA+IVD86xM= X-Google-DKIM-Signature: v=1; a=rsa-sha256; c=relaxed/relaxed; d=1e100.net; s=20230601; t=1760421712; x=1761026512; h=cc:to:from:subject:message-id:date:x-gm-message-state:from:to:cc :subject:date:message-id:reply-to; bh=lOt63ZHx+y8n9oYYS5SPcbup9khV88/c2ee429gnC3Q=; b=G9whnmy/804i7efBF1zDNbHr290bMAtipVnKYfhp3e3eQ/xU/6BINX7KNHlMRz2zZ2 Fkc+PX2fY5RoOTnAUkig31ZIXI4MVwAW1ho886Ax978Y1P98jTsYCwIJZ/RbVzX9rJU7 QKCzeyQ8B+yOhDy7e38yAsasVXbJ/GrGFA/18KDYxVJNlI16/sxVMY7VsXJuqoFL2qlp tNcjl8zOlh+3WI1mzqjP2voF9f+EPCl+P6DI3RNoCDkFFfjlYDM0/aAl6SHPoNeT31cV NDS0/jc591uXd/TB1KOBmMH9x/ug9rMIsH4YwDHdgbC4YZdnLpZWqB64mRfzh7fD1AgU X3zA== X-Gm-Message-State: AOJu0YySEjuZT4rPioLP8lSzhYNkgAXtTveiJsGIezS5H//COSxr6V/2 0KviuvHzZT3nZHw2XJ89SsyIY3ED6V/27zHwjJ6sOpskSaDgovPu6qQtV85+M/XKvBpqIumQyfX WI42zuwwhmc1dcXg/PM33c2+CsmBVxjqStUCf8FfmXaCMsOVMQjO2 X-Gm-Gg: ASbGncszYEe8DzdpZ6t3AwYbLJmYTrgvysoSmBxPjjsu+B5L8CGnIydZeFD+ZUfo0BM jnUyTcDGcIwvWS5BDPagLHLdpnaN+xdn4YdxnV9PNa7/wTiwUDW7OiQBdq5ACJmhXD4Kv4JnBzK Ty5X5yzzTtOaV66rsH6kJDdS3ZTnpEZYpEbfICnxbj1mqTFvCPXox1p1d66hKJGsW6xCpHkGDT/ 3LyR6hckgKxtCuLtQVL4U/maocX/rq2SlrrGlYZiR43FZtayphyfAHb/+qLRQsqe1lkjIhVV6RY orANyZ/TKoGqjJiLxQcp09+aBjxwHiOEDjxgYSrZymFvvHBQoQ== X-Google-Smtp-Source: AGHT+IE9LN/EdvIieOSsymFUDe62+sdQzu8p0fbY09rdSkEnMWti7jDFX7IySSCrcAmV/LG4+nJ78U9nuyNu X-Received: by 2002:a6b:4415:0:b0:93b:d12d:7826 with SMTP id ca18e2360f4ac-93bd12d7829mr2233412439f.8.1760421712162; Mon, 13 Oct 2025 23:01:52 -0700 (PDT) Received: from postal.iol.unh.edu (postal.iol.unh.edu. [2606:4100:3880:1234::84]) by smtp-relay.gmail.com with ESMTPS id 8926c6da1cb9f-58f71e1c45csm956959173.38.2025.10.13.23.01.52 (version=TLS1_2 cipher=ECDHE-ECDSA-AES128-GCM-SHA256 bits=128/128); Mon, 13 Oct 2025 23:01:52 -0700 (PDT) X-Relaying-Domain: iol.unh.edu Date: Mon, 13 Oct 2025 23:01:52 -0700 (PDT) Message-ID: <68ede750.050a0220.1eb615.ece3SMTPIN_ADDED_MISSING@mx.google.com> Received: from [172.21.0.4] (unknown [172.18.0.240]) by postal.iol.unh.edu (Postfix) with ESMTP id 9AB486051830; Tue, 14 Oct 2025 02:01:51 -0400 (EDT) Subject: |SUCCESS| [GIT MASTER] b287e404643aeab5bb5db084c142789df187844e From: dpdklab@iol.unh.edu To: Test Report Cc: dpdk-test-reports@iol.unh.edu, Xueming Li , Christian Ehrhardt , Kevin Traynor , Luca Boccassi Content-Type: text/plain X-BeenThere: test-report@dpdk.org X-Mailman-Version: 2.1.29 Precedence: list List-Id: automatic DPDK test reports List-Unsubscribe: , List-Archive: List-Post: List-Help: List-Subscribe: , Errors-To: test-report-bounces@dpdk.org _Testing PASS_ Branch: tags/v24.11 b287e404643aeab5bb5db084c142789df187844e --> testing pass Upstream job id: Generic-Unit-Test-DPDK#380999 Test environment and result as below: +-------------------------------+----------------+ | Environment | dpdk_unit_test | +===============================+================+ | CentOS Stream 10 | PASS | +-------------------------------+----------------+ | CentOS Stream 9 | PASS | +-------------------------------+----------------+ | Fedora Linux 40 | PASS | +-------------------------------+----------------+ | Debian GNU/Linux 12 | PASS | +-------------------------------+----------------+ | Ubuntu 20.04 | PASS | +-------------------------------+----------------+ | Red Hat Enterprise Linux 9.5 | PASS | +-------------------------------+----------------+ | Ubuntu 22.04 | PASS | +-------------------------------+----------------+ | Fedora Linux 42 | PASS | +-------------------------------+----------------+ | Red Hat Enterprise Linux 8.10 | PASS | +-------------------------------+----------------+ | Fedora Linux 41 | PASS | +-------------------------------+----------------+ | Ubuntu 24.04 | PASS | +-------------------------------+----------------+ | Windows Server 2022 | PASS | +-------------------------------+----------------+ CentOS Stream 10 Kernel: 5.15 Compiler: gcc gcc (GCC) 14.2.1 20250110 (Red Hat 14.2.1-8) CentOS Stream 9 Kernel: 5.15 Compiler: gcc gcc (GCC) 11.5.0 20240719 (Red Hat 11.5.0-11) Fedora Linux 40 Kernel: 5.15 Compiler: gcc gcc (GCC) 14.2.1 20240912 (Red Hat 14.2.1-3) Debian GNU/Linux 12 Kernel: 5.15 Compiler: gcc gcc (Debian 12.2.0-14+deb12u1) 12.2.0 Ubuntu 20.04 Kernel: 5.15 Compiler: gcc gcc (Ubuntu 9.4.0-1ubuntu1~20.04.2) 9.4.0 Red Hat Enterprise Linux 9.5 Kernel: 5.15 Compiler: gcc gcc (GCC) 11.5.0 20240719 (Red Hat 11.5.0-2) Ubuntu 22.04 Kernel: 5.15 Compiler: gcc gcc (Ubuntu 11.4.0-1ubuntu1~22.04) 11.4.0 Fedora Linux 42 Kernel: 5.15 Compiler: gcc gcc (GCC) 15.2.1 20250808 (Red Hat 15.2.1-1) Red Hat Enterprise Linux 8.10 Kernel: 5.15 Compiler: gcc gcc (GCC) 8.5.0 20210514 (Red Hat 8.5.0-22) Fedora Linux 41 Kernel: 5.15 Compiler: clang gcc (GCC) 14.3.1 20250523 (Red Hat 14.3.1-1) Ubuntu 24.04 Kernel: 5.15 Compiler: gcc gcc (Ubuntu 13.3.0-6ubuntu2~24.04) 13.3.0 Windows Server 2022 Kernel: 10.0.20348.2031 Compiler: clang 15.0.7, gcc 14.1.0 (MinGW), and MSVC VS 19.39.33521 To view detailed results, visit: https://lab.dpdk.org/results/dashboard/tarballs/35193/ UNH-IOL DPDK Community Lab To manage your email subscriptions, visit: https://lab.dpdk.org/results/dashboard/preferences/subscriptions/