From mboxrd@z Thu Jan 1 00:00:00 1970 Return-Path: Received: from mails.dpdk.org (mails.dpdk.org [217.70.189.124]) by inbox.dpdk.org (Postfix) with ESMTP id 1BE6048931 for ; Tue, 14 Oct 2025 08:56:01 +0200 (CEST) Received: from mails.dpdk.org (localhost [127.0.0.1]) by mails.dpdk.org (Postfix) with ESMTP id EC0EF40288; Tue, 14 Oct 2025 08:56:00 +0200 (CEST) Received: from mail-il1-f227.google.com (mail-il1-f227.google.com [209.85.166.227]) by mails.dpdk.org (Postfix) with ESMTP id 1BD8F40288 for ; Tue, 14 Oct 2025 08:55:58 +0200 (CEST) Received: by mail-il1-f227.google.com with SMTP id e9e14a558f8ab-42f95010871so18545105ab.2 for ; Mon, 13 Oct 2025 23:55:58 -0700 (PDT) DKIM-Signature: v=1; a=rsa-sha256; c=relaxed/relaxed; d=iol.unh.edu; s=unh-iol; t=1760424958; x=1761029758; darn=dpdk.org; h=references:in-reply-to:cc:to:from:subject:message-id:date:from:to :cc:subject:date:message-id:reply-to; bh=Mf+zdEHPrBqvNNGMnC4DnzlWUAJtqtnFXbeKQXastmM=; b=d362oAFEaVk0pHcaU17z2UVU2TxMje4IjqbcSw8tWNtvif4iiNzMkKEkwgahHxDjXM tTBOV8SO7If9TV+mHLQWn0X4xer++/mPFOqQi7M21SIAtoGXebxyzKZ1mAd+l2t28a3z mEhorvRhPCKBIYPE6T7VEGSbwpugdOHAFZDo8= X-Google-DKIM-Signature: v=1; a=rsa-sha256; c=relaxed/relaxed; d=1e100.net; s=20230601; t=1760424958; x=1761029758; h=references:in-reply-to:cc:to:from:subject:message-id:date :x-gm-message-state:from:to:cc:subject:date:message-id:reply-to; bh=Mf+zdEHPrBqvNNGMnC4DnzlWUAJtqtnFXbeKQXastmM=; b=hpDZdBk4ed5OShCI1oCf8QTphiu3OrBUSW5JhpYHqK4wZNh5L2++S6lx+ld6VTJu4c fVmNdRLVy7apC4aQouObn1WS2GHVqFHtN7FAdr7P19+hCZ1vQDAHaC/KxvusT2+fyfzD YOa6Jz12Optp49YVzjXKWqaEa8odg1VPrVh3/e8K58HyNkEUfpN7kcZ5SCUTv0wMRsmS wf/j58raBJocqM04l8FhGZ8kCZK4s7VDAxjT2j/rfFLw0y3D44Y01z1cdZEsgRUGLeM1 HSOeDdb4j9GzQJrR2w97ufIGxT2A6Ce0IRlas4zPICsrew3aFnGF3N1DqAlZ6cRc4iJe 5+Iw== X-Gm-Message-State: AOJu0Yw/pNjiUuc7vyLHGNje2YBNxV48g3cGqIhSy7YXGm8M3u0DnMar 5kd/5NwErZq5VcEhhS0kGFGg0mmRKGNCDFvlgbXH7UJfRQznBPfrpAuw5aJzcNDQQdXDxAA4v8E ZvjaNbOr3BguZX7mJ6CSvhFgIaCgydHQUves/AtCr0q6z X-Gm-Gg: ASbGncv/futWSU1WZnLQOgXT3UlanRA/a/xXFS+Gxnh6C3FtvbgbzZiBciND1CG6bDT W+NroOtTwzewCWsPVWlo8ogP1b83izcvW0pTmqAOH/DKNbhLljYcv+dvJ6sAAUSboe1hP5lyP+v PCX61LHOcO+id0cOjYEJs46WgWOK6H59R2sWHpuua2bCT+rJ8TvNshPlHm75lr6xwf1B2MvrbE9 tIfSMAHQUEDH3+gneLE6XoFmGqzjB2v/meFsax7z39lIanbAMO/g39cthts/ORpOMykR8H5CVgG 5E/s0ep/uLtN0wrDdfG0bdkXUtNvUjBI907NGFJ9O8xj/xsuUfT9Qi6mZD9PjmtXcVr5esUk X-Google-Smtp-Source: AGHT+IE0fYeqKFAo81TRX/kXsc7TDlyxdP8a4qqTJAjzCIBSBWl+cY9/VDhrQNtOjayaWg5l2+d6VTSOpWnp X-Received: by 2002:a05:6e02:1529:b0:42d:8bc6:d163 with SMTP id e9e14a558f8ab-42f8736a9eamr235349605ab.9.1760424958103; Mon, 13 Oct 2025 23:55:58 -0700 (PDT) Received: from postal.iol.unh.edu (postal.iol.unh.edu. [132.177.123.84]) by smtp-relay.gmail.com with ESMTPS id 8926c6da1cb9f-58f6e3af2besm994844173.22.2025.10.13.23.55.58 (version=TLS1_2 cipher=ECDHE-ECDSA-AES128-GCM-SHA256 bits=128/128); Mon, 13 Oct 2025 23:55:58 -0700 (PDT) X-Relaying-Domain: iol.unh.edu Date: Mon, 13 Oct 2025 23:55:58 -0700 (PDT) Message-ID: <68edf3fe.050a0220.27de69.1b50SMTPIN_ADDED_MISSING@mx.google.com> Received: from [172.21.0.3] (unknown [172.18.0.240]) by postal.iol.unh.edu (Postfix) with ESMTP id A7D586051830; Tue, 14 Oct 2025 02:55:57 -0400 (EDT) Subject: |SUCCESS| pw157509 [PATCH] net/ice: revert count drop-all filter in From: dpdklab@iol.unh.edu To: Test Report Cc: dpdk-test-reports@iol.unh.edu, Bruce Richardson In-Reply-To: <20251014054324.3908737-1-shaiq.wani@intel.com> References: <20251014054324.3908737-1-shaiq.wani@intel.com> Content-Type: text/plain X-BeenThere: test-report@dpdk.org X-Mailman-Version: 2.1.29 Precedence: list List-Id: automatic DPDK test reports List-Unsubscribe: , List-Archive: List-Post: List-Help: List-Subscribe: , Errors-To: test-report-bounces@dpdk.org Test-Label: iol-unit-amd64-testing Test-Status: SUCCESS http://dpdk.org/patch/157509 _Testing PASS_ Submitter: Shaiq Wani Date: Tuesday, October 14 2025 05:43:24 DPDK git baseline: Repo:dpdk-next-net-intel Branch: master CommitID:b26049c00e3c452cb446d688a43c6c7eebbee32e 157509 --> testing pass Upstream job id: Generic-VM-Unit-Test-DPDK#31766 Test environment and result as below: +-------------------------------+----------------+ | Environment | dpdk_unit_test | +===============================+================+ | Fedora Linux 40 | PASS | +-------------------------------+----------------+ | Ubuntu 22.04 | PASS | +-------------------------------+----------------+ | Red Hat Enterprise Linux 9.5 | PASS | +-------------------------------+----------------+ | Fedora Linux 42 | PASS | +-------------------------------+----------------+ | Ubuntu 24.04 | PASS | +-------------------------------+----------------+ | CentOS Stream 10 | PASS | +-------------------------------+----------------+ | Red Hat Enterprise Linux 8.10 | PASS | +-------------------------------+----------------+ | Windows Server 2022 | PASS | +-------------------------------+----------------+ | CentOS Stream 9 | PASS | +-------------------------------+----------------+ | Debian GNU/Linux 12 | PASS | +-------------------------------+----------------+ | Fedora Linux 41 | PASS | +-------------------------------+----------------+ | Ubuntu 20.04 | PASS | +-------------------------------+----------------+ Fedora Linux 40 Kernel: 5.15 Compiler: gcc gcc (GCC) 14.2.1 20240912 (Red Hat 14.2.1-3) Ubuntu 22.04 Kernel: 5.15 Compiler: gcc gcc (Ubuntu 11.4.0-1ubuntu1~22.04) 11.4.0 Red Hat Enterprise Linux 9.5 Kernel: 5.15 Compiler: gcc gcc (GCC) 11.5.0 20240719 (Red Hat 11.5.0-2) Fedora Linux 42 Kernel: 5.15 Compiler: clang gcc (GCC) 15.2.1 20250808 (Red Hat 15.2.1-1) Ubuntu 24.04 Kernel: 5.15 Compiler: gcc gcc (Ubuntu 13.3.0-6ubuntu2~24.04) 13.3.0 CentOS Stream 10 Kernel: 5.15 Compiler: gcc gcc (GCC) 14.2.1 20250110 (Red Hat 14.2.1-8) Red Hat Enterprise Linux 8.10 Kernel: 5.15 Compiler: gcc gcc (GCC) 8.5.0 20210514 (Red Hat 8.5.0-22) Windows Server 2022 Kernel: 10.0.20348.2031 Compiler: clang 15.0.7, gcc 14.1.0 (MinGW), and MSVC VS 19.39.33521 CentOS Stream 9 Kernel: 5.15 Compiler: gcc gcc (GCC) 11.5.0 20240719 (Red Hat 11.5.0-11) Debian GNU/Linux 12 Kernel: 5.15 Compiler: gcc gcc (Debian 12.2.0-14+deb12u1) 12.2.0 Fedora Linux 41 Kernel: 5.15 Compiler: clang gcc (GCC) 14.3.1 20250523 (Red Hat 14.3.1-1) Ubuntu 20.04 Kernel: 5.15 Compiler: gcc gcc (Ubuntu 9.4.0-1ubuntu1~20.04.2) 9.4.0 To view detailed results, visit: https://lab.dpdk.org/results/dashboard/patchsets/34267/ UNH-IOL DPDK Community Lab To manage your email subscriptions, visit: https://lab.dpdk.org/results/dashboard/preferences/subscriptions/