From mboxrd@z Thu Jan 1 00:00:00 1970 Return-Path: Received: from mails.dpdk.org (mails.dpdk.org [217.70.189.124]) by inbox.dpdk.org (Postfix) with ESMTP id 1FB6E48931 for ; Tue, 14 Oct 2025 08:57:14 +0200 (CEST) Received: from mails.dpdk.org (localhost [127.0.0.1]) by mails.dpdk.org (Postfix) with ESMTP id 197D140288; Tue, 14 Oct 2025 08:57:14 +0200 (CEST) Received: from mail-vk1-f225.google.com (mail-vk1-f225.google.com [209.85.221.225]) by mails.dpdk.org (Postfix) with ESMTP id 99E2840288 for ; Tue, 14 Oct 2025 08:57:12 +0200 (CEST) Received: by mail-vk1-f225.google.com with SMTP id 71dfb90a1353d-54a86cc950dso1088741e0c.2 for ; Mon, 13 Oct 2025 23:57:12 -0700 (PDT) DKIM-Signature: v=1; a=rsa-sha256; c=relaxed/relaxed; d=iol.unh.edu; s=unh-iol; t=1760425032; x=1761029832; darn=dpdk.org; h=references:in-reply-to:cc:to:from:subject:message-id:date:from:to :cc:subject:date:message-id:reply-to; bh=txlsfLdHtLbnphEAcOaG4WhVxV5LOvlPYKNYZHr8HM8=; b=D2FrqRoWrkzdoHwTipAVzNj49maCNUrALI+aBiuBSXY7Ft2Y0XCR+rIplLFvZJDB0P xV1KgRE0A3CpRd1VL6b4CaP9fm4yvs+Jz533brsJE3uVqLAdFrz+7NXanvWDPLh5Eu1k eLFk4tiOg5/zp5mxeDtDRM7w0jHzXEKZaHmH4= X-Google-DKIM-Signature: v=1; a=rsa-sha256; c=relaxed/relaxed; d=1e100.net; s=20230601; t=1760425032; x=1761029832; h=references:in-reply-to:cc:to:from:subject:message-id:date :x-gm-message-state:from:to:cc:subject:date:message-id:reply-to; bh=txlsfLdHtLbnphEAcOaG4WhVxV5LOvlPYKNYZHr8HM8=; b=epbIjN/ikGLBhrHoXZfX7b8uvGVi+JcRHVZDFdI/SefcoqTwNPIUbNiRFaUrceBTfW tZGzTWEGSz6upwcXnUNYwRiuWG/64Z8vpmFNtqB2IoqU80ARKEZmHQRsgvWyjLSd9vfR ksNRti5OjbITsSckRjYtxnoKPO7I/3rjqETyX0lXbyODuL2VReE+7p9ba1/BeCHbbB+8 +mlNCzSD1xT2oD+yVtUHLtlbdtB9Cl/fd8MDzF9taYrxlN/EmS2JvYnONEg19dDMC12Q x8UymjyiMZ/q3bOZ7sXL9EU184Xw6K73oUeZlyEGBxVnftNfKzCS9pPsz07B245N8irt 2oxA== X-Gm-Message-State: AOJu0YwDgWWmZDD/s4WaDnr7e+EienLSmozvvDTmf8l6W59/XZH3gqcw EKHKu5DUMzLJ3yZugPpWJFXNoxJpUmWA90WkbVzPW8P904DVK5FdSUvN9iIujjDIZW+RCf79Dsm Ra3U4fPTAMePNh7JvM7xD5h4N88ZWWoJDVtLQk2U5asJS X-Gm-Gg: ASbGncueFIyW53RTuo0Gu8VaQ2kILmg8m5amVWoLIRrp1QoQpmxW3JGGTngqSn7Sztf xWPUxGVrO0pMWetieRWRWrxD/wTsvnYa8COGc0kRQanXM6gzLcB3y5L3c7lLMcGZgRK9hFYVKpA m1jO/ZmlsJ569+eTP0sH96kPNghbDQuc3OuLRoEmv7OMWh+qzKMgAaaOJMFq9Q60GlVbmN1bV+E hCRxxuvYfXc2TSgnjQMtyqCzOXJpPEGSfAUZxFXc78aQq+6IYkMWSg2ITE7SmnUS29NbHkGpHjK tawXkchjIfmFdkwmd+533VhIbaSWGeNupaqAakzm4ixqQSYAVHXPZZ1OwkVjpg7HoRWeClg+ X-Google-Smtp-Source: AGHT+IFWiOnVQRRqspaYT3syiQzCTBWojapol8xlwF2toPALkDxwxZHjoYvyq1dGht9ldje3W0GW9FW7A7dY X-Received: by 2002:a05:6122:2020:b0:544:70f9:b0bc with SMTP id 71dfb90a1353d-554b8ac4224mr8017499e0c.7.1760425031834; Mon, 13 Oct 2025 23:57:11 -0700 (PDT) Received: from postal.iol.unh.edu (postal.iol.unh.edu. [132.177.123.84]) by smtp-relay.gmail.com with ESMTPS id 71dfb90a1353d-554d7ef9daasm1394309e0c.2.2025.10.13.23.57.11 (version=TLS1_2 cipher=ECDHE-ECDSA-AES128-GCM-SHA256 bits=128/128); Mon, 13 Oct 2025 23:57:11 -0700 (PDT) X-Relaying-Domain: iol.unh.edu Date: Mon, 13 Oct 2025 23:57:11 -0700 (PDT) Message-ID: <68edf447.050a0220.1478b1.4bfcSMTPIN_ADDED_MISSING@mx.google.com> Received: from [172.21.0.2] (unknown [172.18.0.240]) by postal.iol.unh.edu (Postfix) with ESMTP id 815296051830; Tue, 14 Oct 2025 02:57:11 -0400 (EDT) Subject: |SUCCESS| pw157509 [PATCH] net/ice: revert count drop-all filter in From: dpdklab@iol.unh.edu To: Test Report Cc: dpdk-test-reports@iol.unh.edu, Bruce Richardson In-Reply-To: <20251014054324.3908737-1-shaiq.wani@intel.com> References: <20251014054324.3908737-1-shaiq.wani@intel.com> Content-Type: text/plain X-BeenThere: test-report@dpdk.org X-Mailman-Version: 2.1.29 Precedence: list List-Id: automatic DPDK test reports List-Unsubscribe: , List-Archive: List-Post: List-Help: List-Subscribe: , Errors-To: test-report-bounces@dpdk.org Test-Label: iol-compile-amd64-testing Test-Status: SUCCESS http://dpdk.org/patch/157509 _Testing PASS_ Submitter: Shaiq Wani Date: Tuesday, October 14 2025 05:43:24 DPDK git baseline: Repo:dpdk-next-net-intel Branch: master CommitID:b26049c00e3c452cb446d688a43c6c7eebbee32e 157509 --> testing pass Upstream job id: Windows-Compile-DPDK-Native#31596 Test environment and result as below: +-------------------------------+--------------------+-------------------+------------------+-------------------------+-------------------+----------------------+ | Environment | dpdk_meson_compile | dpdk_compile_spdk | dpdk_compile_ovs | dpdk_llvm_clang_compile | dpdk_msvc_compile | dpdk_mingw64_compile | +===============================+====================+===================+==================+=========================+===================+======================+ | FreeBSD 14.2 | PASS | SKIPPED | SKIPPED | SKIPPED | SKIPPED | SKIPPED | +-------------------------------+--------------------+-------------------+------------------+-------------------------+-------------------+----------------------+ | CentOS Stream 9 | PASS | PASS | SKIPPED | SKIPPED | SKIPPED | SKIPPED | +-------------------------------+--------------------+-------------------+------------------+-------------------------+-------------------+----------------------+ | CentOS Stream 10 | PASS | SKIPPED | SKIPPED | SKIPPED | SKIPPED | SKIPPED | +-------------------------------+--------------------+-------------------+------------------+-------------------------+-------------------+----------------------+ | Fedora Linux 42 | PASS | PASS | PASS | SKIPPED | SKIPPED | SKIPPED | +-------------------------------+--------------------+-------------------+------------------+-------------------------+-------------------+----------------------+ | Red Hat Enterprise Linux 9.5 | PASS | SKIPPED | SKIPPED | SKIPPED | SKIPPED | SKIPPED | +-------------------------------+--------------------+-------------------+------------------+-------------------------+-------------------+----------------------+ | Debian GNU/Linux 12 | PASS | PASS | SKIPPED | SKIPPED | SKIPPED | SKIPPED | +-------------------------------+--------------------+-------------------+------------------+-------------------------+-------------------+----------------------+ | openSUSE Leap 15.6 | PASS | SKIPPED | SKIPPED | SKIPPED | SKIPPED | SKIPPED | +-------------------------------+--------------------+-------------------+------------------+-------------------------+-------------------+----------------------+ | Red Hat Enterprise Linux 8.10 | PASS | SKIPPED | SKIPPED | SKIPPED | SKIPPED | SKIPPED | +-------------------------------+--------------------+-------------------+------------------+-------------------------+-------------------+----------------------+ | Ubuntu 24.04 | PASS | PASS | PASS | SKIPPED | SKIPPED | SKIPPED | +-------------------------------+--------------------+-------------------+------------------+-------------------------+-------------------+----------------------+ | Ubuntu 20.04 | PASS | SKIPPED | SKIPPED | SKIPPED | SKIPPED | SKIPPED | +-------------------------------+--------------------+-------------------+------------------+-------------------------+-------------------+----------------------+ | Ubuntu 22.04 | PASS | PASS | SKIPPED | SKIPPED | SKIPPED | SKIPPED | +-------------------------------+--------------------+-------------------+------------------+-------------------------+-------------------+----------------------+ | Alpine Linux 3.22.0 | PASS | SKIPPED | SKIPPED | SKIPPED | SKIPPED | SKIPPED | +-------------------------------+--------------------+-------------------+------------------+-------------------------+-------------------+----------------------+ | Windows Server 2022 | SKIPPED | SKIPPED | SKIPPED | PASS | PASS | PASS | +-------------------------------+--------------------+-------------------+------------------+-------------------------+-------------------+----------------------+ FreeBSD 14.2 Kernel: 14.2-RELEASE Compiler: clang 18.1.6 CentOS Stream 9 Kernel: 5.15 Compiler: gcc gcc (GCC) 11.5.0 20240719 (Red Hat 11.5.0-11) CentOS Stream 10 Kernel: 5.15 Compiler: gcc gcc (GCC) 14.2.1 20250110 (Red Hat 14.2.1-8) Fedora Linux 42 Kernel: 5.15 Compiler: clang gcc (GCC) 15.2.1 20250808 (Red Hat 15.2.1-1) Red Hat Enterprise Linux 9.5 Kernel: 5.15 Compiler: gcc gcc (GCC) 11.5.0 20240719 (Red Hat 11.5.0-2) Debian GNU/Linux 12 Kernel: 5.15 Compiler: gcc gcc (Debian 12.2.0-14+deb12u1) 12.2.0 openSUSE Leap 15.6 Kernel: 5.15 Compiler: gcc gcc (SUSE Linux) 7.5.0 Red Hat Enterprise Linux 8.10 Kernel: 5.15 Compiler: gcc gcc (GCC) 8.5.0 20210514 (Red Hat 8.5.0-22) Ubuntu 24.04 Kernel: 5.15 Compiler: gcc gcc (Ubuntu 13.3.0-6ubuntu2~24.04) 13.3.0 Ubuntu 20.04 Kernel: 4.19 Compiler: gcc gcc (Ubuntu 9.4.0-1ubuntu1~20.04.2) 9.4.0 Ubuntu 22.04 Kernel: 5.15 Compiler: gcc gcc (Ubuntu 11.4.0-1ubuntu1~22.04) 11.4.0 Alpine Linux 3.22.0 Kernel: 5.15 Compiler: gcc gcc (Alpine 14.2.0) 14.2.0 Windows Server 2022 Kernel: 10.0.20348.2031 Compiler: clang 15.0.7, gcc 14.1.0 (MinGW), and MSVC VS 19.39.33521 To view detailed results, visit: https://lab.dpdk.org/results/dashboard/patchsets/34267/ UNH-IOL DPDK Community Lab To manage your email subscriptions, visit: https://lab.dpdk.org/results/dashboard/preferences/subscriptions/