From mboxrd@z Thu Jan 1 00:00:00 1970 Return-Path: Received: from mails.dpdk.org (mails.dpdk.org [217.70.189.124]) by inbox.dpdk.org (Postfix) with ESMTP id 7ACB748931 for ; Tue, 14 Oct 2025 09:01:09 +0200 (CEST) Received: from mails.dpdk.org (localhost [127.0.0.1]) by mails.dpdk.org (Postfix) with ESMTP id 65EF040288; Tue, 14 Oct 2025 09:01:09 +0200 (CEST) Received: from mail-pf1-f228.google.com (mail-pf1-f228.google.com [209.85.210.228]) by mails.dpdk.org (Postfix) with ESMTP id E913E40288 for ; Tue, 14 Oct 2025 09:01:07 +0200 (CEST) Received: by mail-pf1-f228.google.com with SMTP id d2e1a72fcca58-78f3bfe3f69so4466927b3a.2 for ; Tue, 14 Oct 2025 00:01:07 -0700 (PDT) DKIM-Signature: v=1; a=rsa-sha256; c=relaxed/relaxed; d=iol.unh.edu; s=unh-iol; t=1760425267; x=1761030067; darn=dpdk.org; h=references:in-reply-to:cc:to:from:subject:message-id:date:from:to :cc:subject:date:message-id:reply-to; bh=58R9isPLhV8UFKqz0fGEUbgfMEHT6gnlyKJ1EKGhC1M=; b=T2TPYewM6gxFpucKxDFrRM9B/N8hoxAtZoEdUsku0Xr+WsBWAtVsniFe8Znp4kNnHE rl5aGLKXkNTXy85mBaLxk3JCAwpyFHLfgB4PuEJrf2pQMswM/0yQlzFXonGwt6Ed40qY Ktcn0hCw7/by2GU18D7UGmGSlouiUP5ICrbFk= X-Google-DKIM-Signature: v=1; a=rsa-sha256; c=relaxed/relaxed; d=1e100.net; s=20230601; t=1760425267; x=1761030067; h=references:in-reply-to:cc:to:from:subject:message-id:date :x-gm-message-state:from:to:cc:subject:date:message-id:reply-to; bh=58R9isPLhV8UFKqz0fGEUbgfMEHT6gnlyKJ1EKGhC1M=; b=R51T2Daiyl0A7Lnp4Hs/qdNqwQ28OtWBNp5IKzz+ZwAj8ruFwikX8NTTxFZuP8A7fZ JnWOWwG1/ytAKLtPNUeBMQWfX9yWamJHNBf+YtTgj2uNB/TfzHlxEm7tDDVtKbLna76J GILZAwnshv0Jwnnb0SGdnx5N9AjZPRSRH0tlLV75kCIAHNqemwgof7SVQ/TqsyHN3ERz eZUiGN41NGastxXSsIidN24O7V03F9olAkPHtvWWC/V3QNa/Oo6jXQ073VpMHlZzwza4 xhOFeaOgfud7E/tIDjrRWeekCjaDFQzcPxCwYTDWod8VxvS/84GkrDXM9VE0YBwXVFur RotQ== X-Gm-Message-State: AOJu0Yy7nbuxdD/WUBloje/t04yK+xzFcmihKdNaaYcGds3c7THf3Q+W ggE+XYjBElKpJJHmpkuFUx+t3DIZVmvzBFd2ctx0DQBBTp8N5hMhBcwGXWaOtxhCaUrSMqyEG0d EcnQRzJcMZRT3BYY57EX5enUVfD7POQwXkIuRsBUKxts6 X-Gm-Gg: ASbGncvlrVbyy9TUV//NaY4vkcqXDhXlffTyqrAudFISn0ZPkTcjW1LL/fr3pWEWhYi /3YRfEnaZF39/DxauAO1b1Q9HTPf2gr1w64svMDTHd0g+eUKqJte2HC8VM2t5uc20S55Hw/aJfy OupwQ909ENEYjteq7ob3BWCRdAx0Jpb/gt5azCX1gVSBknlXS9lBlyos/TQ1F5+tI/DCJ4g1zK4 D4TMxkqdaD6i7hBH/D5b/BzfABpO2EXkbv5riTsqAU59gNrtiFLItM/O7jUATZCxHe5SBTEQAMR 5Z6ZkgWHOOTUbG5zy+zlBeo85b2XyzkLEPe2aLSO95jnkzNofcT/b+34kQGQbv2ZUBSTUOZF X-Google-Smtp-Source: AGHT+IHaBJTEihf+USHnUyMh41IZd+CPa956IgNTWuocd9+q7zFwdUCZy2yia2EjS0z/IB+4ypcO4wkxISsJ X-Received: by 2002:a05:6a20:748b:b0:327:ac07:4546 with SMTP id adf61e73a8af0-32da8462f89mr32263860637.31.1760425266948; Tue, 14 Oct 2025 00:01:06 -0700 (PDT) Received: from postal.iol.unh.edu (postal.iol.unh.edu. [132.177.123.84]) by smtp-relay.gmail.com with ESMTPS id 41be03b00d2f7-b678df111aasm683214a12.9.2025.10.14.00.01.06 (version=TLS1_2 cipher=ECDHE-ECDSA-AES128-GCM-SHA256 bits=128/128); Tue, 14 Oct 2025 00:01:06 -0700 (PDT) X-Relaying-Domain: iol.unh.edu Date: Tue, 14 Oct 2025 00:01:06 -0700 (PDT) Message-ID: <68edf532.650a0220.2533d5.199dSMTPIN_ADDED_MISSING@mx.google.com> Received: from [172.21.0.3] (unknown [172.18.0.240]) by postal.iol.unh.edu (Postfix) with ESMTP id 2FD766051830; Tue, 14 Oct 2025 03:01:06 -0400 (EDT) Subject: |SUCCESS| pw157509 [PATCH] net/ice: revert count drop-all filter in From: dpdklab@iol.unh.edu To: Test Report Cc: dpdk-test-reports@iol.unh.edu, Bruce Richardson In-Reply-To: <20251014054324.3908737-1-shaiq.wani@intel.com> References: <20251014054324.3908737-1-shaiq.wani@intel.com> Content-Type: text/plain X-BeenThere: test-report@dpdk.org X-Mailman-Version: 2.1.29 Precedence: list List-Id: automatic DPDK test reports List-Unsubscribe: , List-Archive: List-Post: List-Help: List-Subscribe: , Errors-To: test-report-bounces@dpdk.org Test-Label: iol-unit-amd64-testing Test-Status: SUCCESS http://dpdk.org/patch/157509 _Testing PASS_ Submitter: Shaiq Wani Date: Tuesday, October 14 2025 05:43:24 DPDK git baseline: Repo:dpdk-next-net-intel Branch: master CommitID:b26049c00e3c452cb446d688a43c6c7eebbee32e 157509 --> testing pass Upstream job id: Generic-VM-Unit-Test-DPDK#31767 Test environment and result as below: +-------------------------------+----------------+ | Environment | dpdk_unit_test | +===============================+================+ | Fedora Linux 40 | PASS | +-------------------------------+----------------+ | Ubuntu 22.04 | PASS | +-------------------------------+----------------+ | Red Hat Enterprise Linux 9.5 | PASS | +-------------------------------+----------------+ | Fedora Linux 42 | PASS | +-------------------------------+----------------+ | Ubuntu 24.04 | PASS | +-------------------------------+----------------+ | CentOS Stream 10 | PASS | +-------------------------------+----------------+ | Red Hat Enterprise Linux 8.10 | PASS | +-------------------------------+----------------+ | Windows Server 2022 | PASS | +-------------------------------+----------------+ | CentOS Stream 9 | PASS | +-------------------------------+----------------+ | Debian GNU/Linux 12 | PASS | +-------------------------------+----------------+ | Fedora Linux 41 | PASS | +-------------------------------+----------------+ | Ubuntu 20.04 | PASS | +-------------------------------+----------------+ Fedora Linux 40 Kernel: 5.15 Compiler: gcc gcc (GCC) 14.2.1 20240912 (Red Hat 14.2.1-3) Ubuntu 22.04 Kernel: 5.15 Compiler: gcc gcc (Ubuntu 11.4.0-1ubuntu1~22.04) 11.4.0 Red Hat Enterprise Linux 9.5 Kernel: 5.15 Compiler: gcc gcc (GCC) 11.5.0 20240719 (Red Hat 11.5.0-2) Fedora Linux 42 Kernel: 5.15 Compiler: clang gcc (GCC) 15.2.1 20250808 (Red Hat 15.2.1-1) Ubuntu 24.04 Kernel: 5.15 Compiler: gcc gcc (Ubuntu 13.3.0-6ubuntu2~24.04) 13.3.0 CentOS Stream 10 Kernel: 5.15 Compiler: gcc gcc (GCC) 14.2.1 20250110 (Red Hat 14.2.1-8) Red Hat Enterprise Linux 8.10 Kernel: 5.15 Compiler: gcc gcc (GCC) 8.5.0 20210514 (Red Hat 8.5.0-22) Windows Server 2022 Kernel: 10.0.20348.2031 Compiler: clang 15.0.7, gcc 14.1.0 (MinGW), and MSVC VS 19.39.33521 CentOS Stream 9 Kernel: 5.15 Compiler: gcc gcc (GCC) 11.5.0 20240719 (Red Hat 11.5.0-11) Debian GNU/Linux 12 Kernel: 5.15 Compiler: gcc gcc (Debian 12.2.0-14+deb12u1) 12.2.0 Fedora Linux 41 Kernel: 5.15 Compiler: clang gcc (GCC) 14.3.1 20250523 (Red Hat 14.3.1-1) Ubuntu 20.04 Kernel: 5.15 Compiler: gcc gcc (Ubuntu 9.4.0-1ubuntu1~20.04.2) 9.4.0 To view detailed results, visit: https://lab.dpdk.org/results/dashboard/patchsets/34267/ UNH-IOL DPDK Community Lab To manage your email subscriptions, visit: https://lab.dpdk.org/results/dashboard/preferences/subscriptions/