From mboxrd@z Thu Jan 1 00:00:00 1970 Return-Path: Received: from mails.dpdk.org (mails.dpdk.org [217.70.189.124]) by inbox.dpdk.org (Postfix) with ESMTP id 90EAF48931 for ; Tue, 14 Oct 2025 09:11:09 +0200 (CEST) Received: from mails.dpdk.org (localhost [127.0.0.1]) by mails.dpdk.org (Postfix) with ESMTP id 77B6F40288; Tue, 14 Oct 2025 09:11:09 +0200 (CEST) Received: from mail-pl1-f226.google.com (mail-pl1-f226.google.com [209.85.214.226]) by mails.dpdk.org (Postfix) with ESMTP id 3E8BA40288 for ; Tue, 14 Oct 2025 09:11:08 +0200 (CEST) Received: by mail-pl1-f226.google.com with SMTP id d9443c01a7336-27d3540a43fso47311455ad.3 for ; Tue, 14 Oct 2025 00:11:08 -0700 (PDT) DKIM-Signature: v=1; a=rsa-sha256; c=relaxed/relaxed; d=iol.unh.edu; s=unh-iol; t=1760425867; x=1761030667; darn=dpdk.org; h=cc:to:from:subject:message-id:date:from:to:cc:subject:date :message-id:reply-to; bh=190AVK7aqBQ20oTSNe19xXqrxZJ4MLQ1KbiMI+P/W0g=; b=d93tdb1bztZNviKdaEMrRSGE0hVglHhwATyU2DIYO1pX2j6vRRJ3gbnpbSKpUnmijc kwvDLEMeC+/IPrH4B4PuazAGUNgRAFWsucJFnLHDBvLhyb0BHjfxbllNB+VYMWPYsu4Z NN7AMwvQM9pyGrANh3IsWyBF60e4kak3UItG8= X-Google-DKIM-Signature: v=1; a=rsa-sha256; c=relaxed/relaxed; d=1e100.net; s=20230601; t=1760425867; x=1761030667; h=cc:to:from:subject:message-id:date:x-gm-message-state:from:to:cc :subject:date:message-id:reply-to; bh=190AVK7aqBQ20oTSNe19xXqrxZJ4MLQ1KbiMI+P/W0g=; b=wf2CmFKKMK8V/D9H1E/3whNhkahvvEaQ9oiXA1W3rzfOF0lsFEYJgSNIOSXKpIBrXp c3IDwCOlkzS7CdqqZGoCW5y042tQ4XQk2J01eNut4M3NN5m944oOHw68W4EOKkO4UIll 7X7A8GMeWrGmquA0EpSsEJgN/lHnCY/yIOhDQ/LPvTBWRirk9zN0XlYxzsrbVoM/BHkJ B6IKF+LfazfVkyW7ZyuyDnlyF/slZatvqJDCg2dkgE18AoKv/u4PgMrsE4UcjscYhTUg XA4HDvKStk2Uk0/lLAnhES7E894vnXcYXujPDzbe4qR+vUqLGkTcWeleFFqgMWCJRQxJ kSJg== X-Gm-Message-State: AOJu0YwcQXBSZdLw9Ych5Zd+bW7qR1PL5UBglytL1jM/C6rS37x6Lv/o NrPxtTBsLjdL20GGhI3pJTbSNygDmwMkz34GSGZyS3j9QZTmUSRJ1WYyaYZZOxUJzDR/M6H/li9 U/7lQ6uVFj7V4kQcglqJtXz8VvtQN4opl5xfdEHyILi5qvCBh6HNU X-Gm-Gg: ASbGncvolGTt2LpI6a02rJdRDfpmJ2AAa3/OZwy9EA+4Q/YZ1mcI62AouW2ilKGDByt GcCsY58Hi3GM/UM1onHKHD5HrV194jrl4SsZfnGTH4XCWIXgrKmVqlKq/YbGGzkjqCX3zbZF3Sy 7b0ip7mUWcxl6+YWsbKHurjWoOd9Tnluq5QkeMa1fx5nz3ePn/UgDJR1YWpqg1IjoFld/0WApge BG7RG1KPoKFcRGTzL1izQZwctSr1yvdl5uyfAp5ePpxxxoaIaLJtHECDIWmMmt9nSIn/h7lU548 tlCefZtc77NiuIkR+SXLM4ncUZ9I7ivoDQvP+kahJ5/t4+0DnA== X-Google-Smtp-Source: AGHT+IGC6zky3Ja95DIq0RpohmoF2oPh4ZngCVAKnjWy/fdCDayBegyYzQZipVZbynRCNITEQuBL3WXhmq1G X-Received: by 2002:a17:902:f64f:b0:28e:a70f:e882 with SMTP id d9443c01a7336-29027215bc9mr303451385ad.11.1760425867368; Tue, 14 Oct 2025 00:11:07 -0700 (PDT) Received: from postal.iol.unh.edu (postal.iol.unh.edu. [2606:4100:3880:1234::84]) by smtp-relay.gmail.com with ESMTPS id d9443c01a7336-29034f82126sm13180185ad.68.2025.10.14.00.11.07 (version=TLS1_2 cipher=ECDHE-ECDSA-AES128-GCM-SHA256 bits=128/128); Tue, 14 Oct 2025 00:11:07 -0700 (PDT) X-Relaying-Domain: iol.unh.edu Date: Tue, 14 Oct 2025 00:11:07 -0700 (PDT) Message-ID: <68edf78b.170a0220.26e3af.2bceSMTPIN_ADDED_MISSING@mx.google.com> Received: from [172.21.0.2] (unknown [172.18.0.240]) by postal.iol.unh.edu (Postfix) with ESMTP id BDF146051830; Tue, 14 Oct 2025 03:11:06 -0400 (EDT) Subject: |SUCCESS| [GIT MASTER] b287e404643aeab5bb5db084c142789df187844e From: dpdklab@iol.unh.edu To: Test Report Cc: dpdk-test-reports@iol.unh.edu, Xueming Li , Christian Ehrhardt , Kevin Traynor , Luca Boccassi Content-Type: text/plain X-BeenThere: test-report@dpdk.org X-Mailman-Version: 2.1.29 Precedence: list List-Id: automatic DPDK test reports List-Unsubscribe: , List-Archive: List-Post: List-Help: List-Subscribe: , Errors-To: test-report-bounces@dpdk.org _Testing PASS_ Branch: tags/v24.11 b287e404643aeab5bb5db084c142789df187844e --> testing pass Upstream job id: Generic-Unit-Test-DPDK#381009 Test environment and result as below: +------------------------------+----------------+--------------+---------------------------+------------------------------+ | Environment | dpdk_unit_test | lpm_autotest | cryptodev_sw_zuc_autotest | cryptodev_sw_snow3g_autotest | +==============================+================+==============+===========================+==============================+ | CentOS Stream 9 | PASS | SKIPPED | SKIPPED | SKIPPED | +------------------------------+----------------+--------------+---------------------------+------------------------------+ | Fedora Linux 40 | PASS | SKIPPED | SKIPPED | SKIPPED | +------------------------------+----------------+--------------+---------------------------+------------------------------+ | Debian GNU/Linux 12 | PASS | SKIPPED | SKIPPED | SKIPPED | +------------------------------+----------------+--------------+---------------------------+------------------------------+ | Fedora Linux 41 | PASS | SKIPPED | SKIPPED | SKIPPED | +------------------------------+----------------+--------------+---------------------------+------------------------------+ | CentOS Stream 10 | PASS | SKIPPED | SKIPPED | SKIPPED | +------------------------------+----------------+--------------+---------------------------+------------------------------+ | Fedora Linux 42 | PASS | SKIPPED | SKIPPED | SKIPPED | +------------------------------+----------------+--------------+---------------------------+------------------------------+ | Ubuntu 20.04 | PASS | PASS | SKIPPED | SKIPPED | +------------------------------+----------------+--------------+---------------------------+------------------------------+ | Red Hat Enterprise Linux 9.5 | PASS | SKIPPED | SKIPPED | SKIPPED | +------------------------------+----------------+--------------+---------------------------+------------------------------+ | Ubuntu 22.04 | PASS | SKIPPED | SKIPPED | SKIPPED | +------------------------------+----------------+--------------+---------------------------+------------------------------+ | Ubuntu 24.04 | PASS | SKIPPED | SKIPPED | SKIPPED | +------------------------------+----------------+--------------+---------------------------+------------------------------+ | Debian 12 (arm) | SKIPPED | SKIPPED | PASS | PASS | +------------------------------+----------------+--------------+---------------------------+------------------------------+ CentOS Stream 9 Kernel: 5.4 Compiler: gcc gcc (GCC) 11.5.0 20240719 (Red Hat 11.5.0-11) Fedora Linux 40 Kernel: 5.4 Compiler: gcc gcc (GCC) 14.2.1 20240912 (Red Hat 14.2.1-3) Debian GNU/Linux 12 Kernel: 5.4 Compiler: gcc gcc (Debian 12.2.0-14+deb12u1) 12.2.0 Fedora Linux 41 Kernel: 5.4 Compiler: clang gcc (GCC) 14.3.1 20250523 (Red Hat 14.3.1-1) CentOS Stream 10 Kernel: 5.4 Compiler: gcc gcc (GCC) 14.2.1 20250110 (Red Hat 14.2.1-8) Fedora Linux 42 Kernel: 5.4 Compiler: clang gcc (GCC) 15.2.1 20250808 (Red Hat 15.2.1-1) Ubuntu 20.04 Kernel: 5.4 Compiler: gcc gcc (Ubuntu 9.4.0-1ubuntu1~20.04.2) 9.4.0 Red Hat Enterprise Linux 9.5 Kernel: 5.4 Compiler: gcc gcc (GCC) 11.5.0 20240719 (Red Hat 11.5.0-2) Ubuntu 22.04 Kernel: 5.4 Compiler: gcc gcc (Ubuntu 11.4.0-1ubuntu1~22.04) 11.4.0 Ubuntu 24.04 Kernel: 5.4 Compiler: gcc gcc (Ubuntu 13.3.0-6ubuntu2~24.04) 13.3.0 Debian 12 (arm) Kernel: Depends on container host Compiler: gcc (Debian 12.2.0-14) 12.2.0 To view detailed results, visit: https://lab.dpdk.org/results/dashboard/tarballs/35193/ UNH-IOL DPDK Community Lab To manage your email subscriptions, visit: https://lab.dpdk.org/results/dashboard/preferences/subscriptions/