From mboxrd@z Thu Jan 1 00:00:00 1970 Return-Path: Received: from mails.dpdk.org (mails.dpdk.org [217.70.189.124]) by inbox.dpdk.org (Postfix) with ESMTP id 9168B48931 for ; Tue, 14 Oct 2025 09:11:49 +0200 (CEST) Received: from mails.dpdk.org (localhost [127.0.0.1]) by mails.dpdk.org (Postfix) with ESMTP id 8E20640288; Tue, 14 Oct 2025 09:11:49 +0200 (CEST) Received: from mail-pj1-f97.google.com (mail-pj1-f97.google.com [209.85.216.97]) by mails.dpdk.org (Postfix) with ESMTP id D33F640288 for ; Tue, 14 Oct 2025 09:11:47 +0200 (CEST) Received: by mail-pj1-f97.google.com with SMTP id 98e67ed59e1d1-33b8a8aa73bso821040a91.0 for ; Tue, 14 Oct 2025 00:11:47 -0700 (PDT) DKIM-Signature: v=1; a=rsa-sha256; c=relaxed/relaxed; d=iol.unh.edu; s=unh-iol; t=1760425907; x=1761030707; darn=dpdk.org; h=cc:to:from:subject:message-id:date:from:to:cc:subject:date :message-id:reply-to; bh=H2gfq34BjUmy0YGv1v6+3UgmScppkNsIlkISStXCjR4=; b=JIGJydsufm6ZpoEfxWCeV1cW6OzzEH4XjkIBbzJ+4rk+cPJjyJLTGcot4EVkYqM4PJ oFjy2J40uIKscGLZBzusrBN3sCnivWYOezKsbtEdL7bv9nALjvqbL14lCe973ZOJoWF1 ngqSDrRsKOu1ve0J1qjrErpJEp0gEzOgxBiSA= X-Google-DKIM-Signature: v=1; a=rsa-sha256; c=relaxed/relaxed; d=1e100.net; s=20230601; t=1760425907; x=1761030707; h=cc:to:from:subject:message-id:date:x-gm-message-state:from:to:cc :subject:date:message-id:reply-to; bh=H2gfq34BjUmy0YGv1v6+3UgmScppkNsIlkISStXCjR4=; b=qSTU20ISWBTSALI16bQBQFkuw0jkOH8Bt3jLvyg/xkgk2YXVysYjgDlBRteXXHr2sC YDxlODhcvBY32O6bXM7+g4LRxVrTmzP4shj1Rsm2xuXoJBKcxr/r9f+1gam/uzoH0I3h GYYiFnGeQp3FAS0jwzIEyd+0hTk1Xb7ty7sgKIEH3iKZfMZJncI0J+qMo3MmluQYOMWW rqw7m8XjYidlmaZLbxrf21Mwti+mzL2RGUIbbKOgbFTY35zsRPGq44eDBQ2pLjQvZ1Bn 7Qml0R/E2EY2ZKpoEWQIC4sRz5Wel0+sEj6oAhB9ELFIXjvTqjco9vAt8Aq0f/Abge3p 2cdw== X-Gm-Message-State: AOJu0YwqU1IAiFdxPoh5RY7xTITumPNh9nwefg+dC3BblIbd7OL9ljzI ArFTRy4L64nSvaih/kiTUPVKGU4PZt/m7P0gt0RLWqBWATcLNUcJbxGHzCTTyy54fzIyaBGgOW5 udLWB4cgb1f9M4uj1HYwK8+T++I8JC2QmIKs50UOU8VPXarb399BM X-Gm-Gg: ASbGncuHsHcBa2oj8nfHkupUR7ih252kWVb+iUZlcKUmmYTzTmxurzssWJVouGOpFpx 8r8OxPx3i51PMLSxzoGi/9IeE6oIJNlOoKaVOiXHmEe7CZGZWFLsCTI47ljgnnK0JP58C30X2hl XH9C8+uPNh9H9qf7sLcgoxvB2lwEy9Pf7mNyAHOoRRJrvvnB8AC0QjIloM9ECFIH0UBlqPpAlcV IVKiYvOBiB/EhcvyBvrqvsXfedgNrNuv6Qo9YiRUi6+O3g1X2FF3u//BV/qMnKbqtxIc7ogPX9R glntQbDB8h0OCbwtz65a3TN/b2WqC5dWSMH5MW5pw76+vj78ug== X-Google-Smtp-Source: AGHT+IEuupDfGs84du8inixw8b6kcHUpJctIpcklFiPkbi4B/iAdRDYtwcx3qXuLgxau4jJUEYxIcSY0V1t1 X-Received: by 2002:a17:90b:3b46:b0:32e:d9db:7a86 with SMTP id 98e67ed59e1d1-33b510ff4acmr36537017a91.7.1760425907010; Tue, 14 Oct 2025 00:11:47 -0700 (PDT) Received: from postal.iol.unh.edu (postal.iol.unh.edu. [2606:4100:3880:1234::84]) by smtp-relay.gmail.com with ESMTPS id 41be03b00d2f7-b678de04d5bsm686311a12.7.2025.10.14.00.11.46 (version=TLS1_2 cipher=ECDHE-ECDSA-AES128-GCM-SHA256 bits=128/128); Tue, 14 Oct 2025 00:11:47 -0700 (PDT) X-Relaying-Domain: iol.unh.edu Date: Tue, 14 Oct 2025 00:11:47 -0700 (PDT) Message-ID: <68edf7b3.630a0220.271349.1a34SMTPIN_ADDED_MISSING@mx.google.com> Received: from [172.21.0.2] (unknown [172.18.0.240]) by postal.iol.unh.edu (Postfix) with ESMTP id 3AE0E6051830; Tue, 14 Oct 2025 03:11:46 -0400 (EDT) Subject: |SUCCESS| [GIT MASTER] 3b43ce3f4a54468e7ef65760c2fd7b4d6ee6d9fc From: dpdklab@iol.unh.edu To: Test Report Cc: dpdk-test-reports@iol.unh.edu, Xueming Li , Christian Ehrhardt , Kevin Traynor , Luca Boccassi Content-Type: text/plain X-BeenThere: test-report@dpdk.org X-Mailman-Version: 2.1.29 Precedence: list List-Id: automatic DPDK test reports List-Unsubscribe: , List-Archive: List-Post: List-Help: List-Subscribe: , Errors-To: test-report-bounces@dpdk.org _Testing PASS_ Branch: tags/v22.11 3b43ce3f4a54468e7ef65760c2fd7b4d6ee6d9fc --> testing pass Upstream job id: Generic-DPDK-Compile-Meson#433831 Test environment and result as below: +------------------------------+--------------------+ | Environment | dpdk_meson_compile | +==============================+====================+ | Ubuntu 20.04 | PASS | +------------------------------+--------------------+ | Ubuntu 22.04 | PASS | +------------------------------+--------------------+ | Debian GNU/Linux 12 | PASS | +------------------------------+--------------------+ | Fedora Linux 42 | PASS | +------------------------------+--------------------+ | Red Hat Enterprise Linux 9.5 | PASS | +------------------------------+--------------------+ | CentOS Stream 10 | PASS | +------------------------------+--------------------+ | Ubuntu 24.04 | PASS | +------------------------------+--------------------+ | CentOS Stream 9 | PASS | +------------------------------+--------------------+ Ubuntu 20.04 Kernel: 5.15 Compiler: aarch64-linux-gnu-gcc gcc (Ubuntu 9.4.0-1ubuntu1~20.04.2) 9.4.0 Ubuntu 22.04 Kernel: 5.4 Compiler: gcc gcc (Ubuntu 11.4.0-1ubuntu1~22.04) 11.4.0 Debian GNU/Linux 12 Kernel: 5.4 Compiler: gcc gcc (Debian 12.2.0-14+deb12u1) 12.2.0 Fedora Linux 42 Kernel: 5.4 Compiler: clang gcc (GCC) 15.2.1 20250808 (Red Hat 15.2.1-1) Red Hat Enterprise Linux 9.5 Kernel: 5.4 Compiler: gcc gcc (GCC) 11.5.0 20240719 (Red Hat 11.5.0-2) CentOS Stream 10 Kernel: 5.4 Compiler: gcc gcc (GCC) 14.2.1 20250110 (Red Hat 14.2.1-8) Ubuntu 24.04 Kernel: 5.4 Compiler: gcc gcc (Ubuntu 13.3.0-6ubuntu2~24.04) 13.3.0 CentOS Stream 9 Kernel: 5.4 Compiler: gcc gcc (GCC) 11.5.0 20240719 (Red Hat 11.5.0-11) To view detailed results, visit: https://lab.dpdk.org/results/dashboard/tarballs/35194/ UNH-IOL DPDK Community Lab To manage your email subscriptions, visit: https://lab.dpdk.org/results/dashboard/preferences/subscriptions/