From mboxrd@z Thu Jan 1 00:00:00 1970 Return-Path: Received: from mails.dpdk.org (mails.dpdk.org [217.70.189.124]) by inbox.dpdk.org (Postfix) with ESMTP id 5690F48933 for ; Tue, 14 Oct 2025 10:33:07 +0200 (CEST) Received: from mails.dpdk.org (localhost [127.0.0.1]) by mails.dpdk.org (Postfix) with ESMTP id 52CB040288; Tue, 14 Oct 2025 10:33:07 +0200 (CEST) Received: from mail-pf1-f227.google.com (mail-pf1-f227.google.com [209.85.210.227]) by mails.dpdk.org (Postfix) with ESMTP id 183BB40288 for ; Tue, 14 Oct 2025 10:33:06 +0200 (CEST) Received: by mail-pf1-f227.google.com with SMTP id d2e1a72fcca58-791c287c10dso4272826b3a.1 for ; Tue, 14 Oct 2025 01:33:06 -0700 (PDT) DKIM-Signature: v=1; a=rsa-sha256; c=relaxed/relaxed; d=iol.unh.edu; s=unh-iol; t=1760430785; x=1761035585; darn=dpdk.org; h=references:in-reply-to:cc:to:from:subject:message-id:date:from:to :cc:subject:date:message-id:reply-to; bh=3S1+ygbuW2J/RAjMGLP5IT2Sya+trwGw6RrJSqChq8I=; b=YHoEixg0zoqwLfWaPQhhMB+RZTOQD7g8OL2+k2UB+QKewoFm3+ar+kiwnlFP0REUbd g8cPKoJrYqt07EG3/Xgqzn8ivgRedsyIUNCeO2aYgncY3qN3tpTu3nBYHJA//7giWcY6 /oqTKhYcqd73FmuzUV6eguPpAJT9Qqlzu6PLc= X-Google-DKIM-Signature: v=1; a=rsa-sha256; c=relaxed/relaxed; d=1e100.net; s=20230601; t=1760430785; x=1761035585; h=references:in-reply-to:cc:to:from:subject:message-id:date :x-gm-message-state:from:to:cc:subject:date:message-id:reply-to; bh=3S1+ygbuW2J/RAjMGLP5IT2Sya+trwGw6RrJSqChq8I=; b=YyLrwgnqUVUMlfZYqfvR1AgR60npYdaGHA/w7InxE3kf+NUSah1ucwXjFDzNuz9wFy JwtGU8IB69llAIZcKQT9te4DAyKlYw63J8DVH5a3FwA7CyAnX4VRuUhIQLEq37uFZfyj /UX4PjJTIgPGbhjXWkhVVcjqcLZdXxWREiQyGXxOb2V5m9Dw3P4xixRBHZpFys2GrgoJ hh4/chgSHMHR2ZiW5+EjSd8oJKGSfWhKkXxjqDDp2tnON3hmng9MqJBCiJgnU5g6V4/i pN7EK+kQm7n3iajet3teFkDcsjBo9qWZ5kPKIEEhlzz09qJU8MigVGS8tZ0NcOzaYHBC i6pw== X-Gm-Message-State: AOJu0YxXxCQ/lbDdsf10Zf5OzKmqOa5IdZTGeqqgywWDHDSYnwxs3z3J //iSPNLmh64VRC3MMs+s0y837IMHmkiY6A4RQV1i+nRQ1qi/ejDgNl4XPXo7vIy1tzvOsG+kVcb PG3Nkz2873LvxTCp49HfCNL6SD9MEtilee3fEWHtJPmUl X-Gm-Gg: ASbGncvitKWdU7ZJpUiuzArEcRDmYNMxgi8Y9V8mcrQtrpeYmEgC/f7tPIR/etTInOB IpTCBsL8d3H60EpAZIuYbq5GacVMDM6gXR2PQPNUUedDV9l9IaTS62hbuUN8ON08hPucWrg4xWi 20Dd0gd+8kRHZ/UTVf4zxAsnBElBl1SX5Mut4HlO1WwQFe9QuGkIyH4hXgSIVEuJGW+N+PtSg7E 46DmY/j5hOEu5mUwaBKvRzmvfd6rvujgaESSTQmrgMLeEWYfJ+KtX0laFo4T9gV3bFPxGqoyDWT wNbqroYsc7OKpSHGVdpX6U2wY81DRGLWc6jdO4psfshTkm+lVXPEJi7W3K+0SNmWY1+NwfA4 X-Google-Smtp-Source: AGHT+IEN2sUftBMmffs9JXGlHRv075oICIrlUU1rvNWGFoJYw8NPRo4Y0OJOpN69uqACAeTNzLFZVIYxTMo9 X-Received: by 2002:a05:6a20:12ce:b0:309:48d8:cf0a with SMTP id adf61e73a8af0-32da8462fb2mr32070154637.54.1760430785219; Tue, 14 Oct 2025 01:33:05 -0700 (PDT) Received: from postal.iol.unh.edu (postal.iol.unh.edu. [132.177.123.84]) by smtp-relay.gmail.com with ESMTPS id 41be03b00d2f7-b678df87005sm704874a12.16.2025.10.14.01.33.05 (version=TLS1_2 cipher=ECDHE-ECDSA-AES128-GCM-SHA256 bits=128/128); Tue, 14 Oct 2025 01:33:05 -0700 (PDT) X-Relaying-Domain: iol.unh.edu Date: Tue, 14 Oct 2025 01:33:05 -0700 (PDT) Message-ID: <68ee0ac1.050a0220.22806c.2e57SMTPIN_ADDED_MISSING@mx.google.com> Received: from [172.21.0.4] (unknown [172.18.0.240]) by postal.iol.unh.edu (Postfix) with ESMTP id 79DD96051830; Tue, 14 Oct 2025 04:33:04 -0400 (EDT) Subject: |SUCCESS| pw157509 [PATCH] net/ice: revert count drop-all filter in From: dpdklab@iol.unh.edu To: Test Report Cc: dpdk-test-reports@iol.unh.edu, Bruce Richardson In-Reply-To: <20251014054324.3908737-1-shaiq.wani@intel.com> References: <20251014054324.3908737-1-shaiq.wani@intel.com> Content-Type: text/plain X-BeenThere: test-report@dpdk.org X-Mailman-Version: 2.1.29 Precedence: list List-Id: automatic DPDK test reports List-Unsubscribe: , List-Archive: List-Post: List-Help: List-Subscribe: , Errors-To: test-report-bounces@dpdk.org Test-Label: iol-unit-arm64-testing Test-Status: SUCCESS http://dpdk.org/patch/157509 _Testing PASS_ Submitter: Shaiq Wani Date: Tuesday, October 14 2025 05:43:24 DPDK git baseline: Repo:dpdk-next-net-intel Branch: master CommitID:b26049c00e3c452cb446d688a43c6c7eebbee32e 157509 --> testing pass Upstream job id: Generic-Unit-Test-DPDK#381027 Test environment and result as below: +------------------------------+----------------+---------------------------+------------------------------+--------------+ | Environment | dpdk_unit_test | cryptodev_sw_zuc_autotest | cryptodev_sw_snow3g_autotest | lpm_autotest | +==============================+================+===========================+==============================+==============+ | CentOS Stream 10 | PASS | SKIPPED | SKIPPED | SKIPPED | +------------------------------+----------------+---------------------------+------------------------------+--------------+ | Fedora Linux 41 | PASS | SKIPPED | SKIPPED | SKIPPED | +------------------------------+----------------+---------------------------+------------------------------+--------------+ | CentOS Stream 9 | PASS | SKIPPED | SKIPPED | SKIPPED | +------------------------------+----------------+---------------------------+------------------------------+--------------+ | Ubuntu 20.04 | PASS | SKIPPED | SKIPPED | PASS | +------------------------------+----------------+---------------------------+------------------------------+--------------+ | Fedora Linux 40 | PASS | SKIPPED | SKIPPED | SKIPPED | +------------------------------+----------------+---------------------------+------------------------------+--------------+ | Ubuntu 22.04 | PASS | SKIPPED | SKIPPED | SKIPPED | +------------------------------+----------------+---------------------------+------------------------------+--------------+ | Red Hat Enterprise Linux 9.5 | PASS | SKIPPED | SKIPPED | SKIPPED | +------------------------------+----------------+---------------------------+------------------------------+--------------+ | Fedora Linux 42 | PASS | SKIPPED | SKIPPED | SKIPPED | +------------------------------+----------------+---------------------------+------------------------------+--------------+ | Debian GNU/Linux 12 | PASS | SKIPPED | SKIPPED | SKIPPED | +------------------------------+----------------+---------------------------+------------------------------+--------------+ | Ubuntu 24.04 | PASS | SKIPPED | SKIPPED | SKIPPED | +------------------------------+----------------+---------------------------+------------------------------+--------------+ | Debian 12 (arm) | SKIPPED | PASS | PASS | SKIPPED | +------------------------------+----------------+---------------------------+------------------------------+--------------+ CentOS Stream 10 Kernel: 5.4 Compiler: gcc gcc (GCC) 14.2.1 20250110 (Red Hat 14.2.1-8) Fedora Linux 41 Kernel: 5.4 Compiler: clang gcc (GCC) 14.3.1 20250523 (Red Hat 14.3.1-1) CentOS Stream 9 Kernel: 5.4 Compiler: gcc gcc (GCC) 11.5.0 20240719 (Red Hat 11.5.0-11) Ubuntu 20.04 Kernel: 5.4 Compiler: gcc gcc (Ubuntu 9.4.0-1ubuntu1~20.04.2) 9.4.0 Fedora Linux 40 Kernel: 5.4 Compiler: clang gcc (GCC) 14.2.1 20240912 (Red Hat 14.2.1-3) Ubuntu 22.04 Kernel: 5.4 Compiler: gcc gcc (Ubuntu 11.4.0-1ubuntu1~22.04) 11.4.0 Red Hat Enterprise Linux 9.5 Kernel: 5.4 Compiler: gcc gcc (GCC) 11.5.0 20240719 (Red Hat 11.5.0-2) Fedora Linux 42 Kernel: 5.4 Compiler: gcc gcc (GCC) 15.2.1 20250808 (Red Hat 15.2.1-1) Debian GNU/Linux 12 Kernel: 5.4 Compiler: gcc gcc (Debian 12.2.0-14+deb12u1) 12.2.0 Ubuntu 24.04 Kernel: 5.4 Compiler: gcc gcc (Ubuntu 13.3.0-6ubuntu2~24.04) 13.3.0 Debian 12 (arm) Kernel: Depends on container host Compiler: gcc (Debian 12.2.0-14) 12.2.0 To view detailed results, visit: https://lab.dpdk.org/results/dashboard/patchsets/34267/ UNH-IOL DPDK Community Lab To manage your email subscriptions, visit: https://lab.dpdk.org/results/dashboard/preferences/subscriptions/