From mboxrd@z Thu Jan 1 00:00:00 1970 Return-Path: Received: from mails.dpdk.org (mails.dpdk.org [217.70.189.124]) by inbox.dpdk.org (Postfix) with ESMTP id AA29248933 for ; Tue, 14 Oct 2025 10:35:44 +0200 (CEST) Received: from mails.dpdk.org (localhost [127.0.0.1]) by mails.dpdk.org (Postfix) with ESMTP id A509D40288; Tue, 14 Oct 2025 10:35:44 +0200 (CEST) Received: from mail-io1-f99.google.com (mail-io1-f99.google.com [209.85.166.99]) by mails.dpdk.org (Postfix) with ESMTP id 57A7D40288 for ; Tue, 14 Oct 2025 10:35:43 +0200 (CEST) Received: by mail-io1-f99.google.com with SMTP id ca18e2360f4ac-930cfdfabb3so264052339f.1 for ; Tue, 14 Oct 2025 01:35:43 -0700 (PDT) DKIM-Signature: v=1; a=rsa-sha256; c=relaxed/relaxed; d=iol.unh.edu; s=unh-iol; t=1760430942; x=1761035742; darn=dpdk.org; h=references:in-reply-to:cc:to:from:subject:message-id:date:from:to :cc:subject:date:message-id:reply-to; bh=m6yTEf5Yw9YCpfDDEwbD1NIJE5vXIHltlOfT7qyuO6A=; b=NXgCoswL33Bemifhy09sdDIgmgrC7DkRx9E2u3f8FXSAtyajRq8S4KrI/KR3IjtyAk hi39SDuCHgOZV8l3pvw81DIvZcK/ZidSNlZ3HVDoqpwH2J88KAaXay2/+48TmckmLhQo tFXrmTIOryTIx3qUDMHvoCjqBkSXlXCWE1mcw= X-Google-DKIM-Signature: v=1; a=rsa-sha256; c=relaxed/relaxed; d=1e100.net; s=20230601; t=1760430942; x=1761035742; h=references:in-reply-to:cc:to:from:subject:message-id:date :x-gm-message-state:from:to:cc:subject:date:message-id:reply-to; bh=m6yTEf5Yw9YCpfDDEwbD1NIJE5vXIHltlOfT7qyuO6A=; b=DtzGGMAhZ6OjInz0DlTYlDJ3GYBK+Cv2aWmnbH/VuUHfy30Q0QHS5NVlhk/2BwdPYV VKFNO+xo1wwfIl0YWZQTHRmLTESAxpzepBcUBS2k7ga3tX2+fuzNytVm7VeRHgcUrLfU bJcMjPnAPknZihwwOCYxCTQoXYE7NMEKjXZccizS2r+JPnIOfVES3D+uQK+sIAXpC8sr Yd6+etPFDqjimk0bSyUXPucm06QAvR84LwXvQANuIF4PN4CDIdu4Owkgcg0vhRMV0xZN MfGd2t2dur1gpebqb/08KwB4jQbdEtPY1cJ2EegEjOHtMJqqaFPQOlOZ77l7IhxZU8vL h8XQ== X-Gm-Message-State: AOJu0Yz0mpefxBC1MurYad5D0IppJVAQXAVoHi1Sc6rEC49yUhYxk79m zwc5BHvExwR/lP7GeGHGSkwA7f7AsAkISUK8LRBHgtpo0qyJ2W424SUKval4Z7YHFUHAF5ivjnO hflRWvEMYKSFpS51FDbPVNkJMeFRjFhtpuuref8xjO+2cxNopVB6YIoH1HIwK X-Gm-Gg: ASbGncsaZFJn3ybcxFj99f74/VxKgZIEUfyxPsCPI+aohWp3TPAb7QNBmFRxk7/X+xX NTWrnFNjcYLadnxQuf/HSkyOVp5z0sSCJwY6afW7PBPy7xr/NIAi4nIRuD5EuW+Ui4P2PlFV5zU euQkrlXm8N4LlQngPbdhUvwpfJkKFTz46zqt1pUtb9Se6LLx/wnx8hFfb2wrSWDtLykaY5UOhYV MmG1PKq2gTr41JKrsLHkHp1a5MNi/ytA/bU6hCG0IyQi0yLhzTZYYOpe8MiRoXviDkpXRBIB1iV 7SxYlUK4mJ6z+9S7Nb3G3iFydLmFUx3MRM+HCaX3GjEAUSp5GQ== X-Google-Smtp-Source: AGHT+IGba9WrkxSdqy8R/gRyq182m/zDYlrEdp6eL4JQRGjyoJ+3Qzh3758O5GGI/aF0qEuS6qguKnKvUblP X-Received: by 2002:a05:6e02:19cb:b0:42d:83cf:7eba with SMTP id e9e14a558f8ab-42f87325ceemr269381605ab.0.1760430942670; Tue, 14 Oct 2025 01:35:42 -0700 (PDT) Received: from postal.iol.unh.edu (postal.iol.unh.edu. [2606:4100:3880:1234::84]) by smtp-relay.gmail.com with ESMTPS id e9e14a558f8ab-42f9034759dsm9920415ab.26.2025.10.14.01.35.42 (version=TLS1_2 cipher=ECDHE-ECDSA-AES128-GCM-SHA256 bits=128/128); Tue, 14 Oct 2025 01:35:42 -0700 (PDT) X-Relaying-Domain: iol.unh.edu Date: Tue, 14 Oct 2025 01:35:42 -0700 (PDT) Message-ID: <68ee0b5e.050a0220.2436dc.266dSMTPIN_ADDED_MISSING@mx.google.com> Received: from [172.21.0.4] (unknown [172.18.0.240]) by postal.iol.unh.edu (Postfix) with ESMTP id 3D8106051830; Tue, 14 Oct 2025 04:35:42 -0400 (EDT) Subject: |SUCCESS| pw157510-157516 [PATCH] [v5,7/7] usertools/mbuf: parse mbu From: dpdklab@iol.unh.edu To: Test Report Cc: dpdk-test-reports@iol.unh.edu In-Reply-To: <20251014070517.922137-8-thomas@monjalon.net> References: <20251014070517.922137-8-thomas@monjalon.net> Content-Type: text/plain X-BeenThere: test-report@dpdk.org X-Mailman-Version: 2.1.29 Precedence: list List-Id: automatic DPDK test reports List-Unsubscribe: , List-Archive: List-Post: List-Help: List-Subscribe: , Errors-To: test-report-bounces@dpdk.org Test-Label: iol-unit-amd64-testing Test-Status: SUCCESS http://dpdk.org/patch/157516 _Testing PASS_ Submitter: Thomas Monjalon Date: Tuesday, October 14 2025 06:58:35 DPDK git baseline: Repo:dpdk Branch: master CommitID:2b403dd8fb37d0ba13723e44ffc7ee2c2795f838 157510-157516 --> testing pass Upstream job id: Generic-VM-Unit-Test-DPDK#31769 Test environment and result as below: +-------------------------------+----------------+ | Environment | dpdk_unit_test | +===============================+================+ | Debian GNU/Linux 12 | PASS | +-------------------------------+----------------+ | Ubuntu 20.04 | PASS | +-------------------------------+----------------+ | Fedora Linux 40 | PASS | +-------------------------------+----------------+ | Fedora Linux 41 | PASS | +-------------------------------+----------------+ | Fedora Linux 42 | PASS | +-------------------------------+----------------+ | Ubuntu 24.04 | PASS | +-------------------------------+----------------+ | CentOS Stream 9 | PASS | +-------------------------------+----------------+ | Ubuntu 22.04 | PASS | +-------------------------------+----------------+ | Red Hat Enterprise Linux 8.10 | PASS | +-------------------------------+----------------+ | CentOS Stream 10 | PASS | +-------------------------------+----------------+ | Red Hat Enterprise Linux 9.5 | PASS | +-------------------------------+----------------+ | Windows Server 2022 | PASS | +-------------------------------+----------------+ Debian GNU/Linux 12 Kernel: 5.15 Compiler: gcc gcc (Debian 12.2.0-14+deb12u1) 12.2.0 Ubuntu 20.04 Kernel: 5.15 Compiler: gcc gcc (Ubuntu 9.4.0-1ubuntu1~20.04.2) 9.4.0 Fedora Linux 40 Kernel: 5.15 Compiler: clang gcc (GCC) 14.2.1 20240912 (Red Hat 14.2.1-3) Fedora Linux 41 Kernel: 5.15 Compiler: gcc gcc (GCC) 14.3.1 20250523 (Red Hat 14.3.1-1) Fedora Linux 42 Kernel: 5.15 Compiler: gcc gcc (GCC) 15.2.1 20250808 (Red Hat 15.2.1-1) Ubuntu 24.04 Kernel: 5.15 Compiler: gcc gcc (Ubuntu 13.3.0-6ubuntu2~24.04) 13.3.0 CentOS Stream 9 Kernel: 5.15 Compiler: gcc gcc (GCC) 11.5.0 20240719 (Red Hat 11.5.0-11) Ubuntu 22.04 Kernel: 5.15 Compiler: gcc gcc (Ubuntu 11.4.0-1ubuntu1~22.04) 11.4.0 Red Hat Enterprise Linux 8.10 Kernel: 5.15 Compiler: gcc gcc (GCC) 8.5.0 20210514 (Red Hat 8.5.0-22) CentOS Stream 10 Kernel: 5.15 Compiler: gcc gcc (GCC) 14.2.1 20250110 (Red Hat 14.2.1-8) Red Hat Enterprise Linux 9.5 Kernel: 5.15 Compiler: gcc gcc (GCC) 11.5.0 20240719 (Red Hat 11.5.0-2) Windows Server 2022 Kernel: 10.0.20348.2031 Compiler: clang 15.0.7, gcc 14.1.0 (MinGW), and MSVC VS 19.39.33521 To view detailed results, visit: https://lab.dpdk.org/results/dashboard/patchsets/34268/ UNH-IOL DPDK Community Lab To manage your email subscriptions, visit: https://lab.dpdk.org/results/dashboard/preferences/subscriptions/