From mboxrd@z Thu Jan 1 00:00:00 1970 Return-Path: Received: from mails.dpdk.org (mails.dpdk.org [217.70.189.124]) by inbox.dpdk.org (Postfix) with ESMTP id AA85248933 for ; Tue, 14 Oct 2025 11:00:40 +0200 (CEST) Received: from mails.dpdk.org (localhost [127.0.0.1]) by mails.dpdk.org (Postfix) with ESMTP id A608C402A8; Tue, 14 Oct 2025 11:00:40 +0200 (CEST) Received: from mail-yw1-f226.google.com (mail-yw1-f226.google.com [209.85.128.226]) by mails.dpdk.org (Postfix) with ESMTP id 45519402A8 for ; Tue, 14 Oct 2025 11:00:37 +0200 (CEST) Received: by mail-yw1-f226.google.com with SMTP id 00721157ae682-7814273415cso10338637b3.1 for ; Tue, 14 Oct 2025 02:00:37 -0700 (PDT) DKIM-Signature: v=1; a=rsa-sha256; c=relaxed/relaxed; d=iol.unh.edu; s=unh-iol; t=1760432436; x=1761037236; darn=dpdk.org; h=references:in-reply-to:cc:to:from:subject:message-id:date:from:to :cc:subject:date:message-id:reply-to; bh=6qP7HgaNy7Xps0dfLuKVYiI+DHgTn27KOy3DVeKY3Uw=; b=MmytdoHrhzH8eDtFq5hRGnfuEwsqXBkFO6dP1gjb+7OiN2UZRzn0HkwCuw11n09tZB ysirogwLsDYWV05JrdzUA/90nHZDjSbRvhVa5+N0XgSua64M5vQTrdFXdQPUJxgWPywU FEmxDxYWuVDx+4wMZ+LO9fpBxMt9cM7rWCZQs= X-Google-DKIM-Signature: v=1; a=rsa-sha256; c=relaxed/relaxed; d=1e100.net; s=20230601; t=1760432436; x=1761037236; h=references:in-reply-to:cc:to:from:subject:message-id:date :x-gm-message-state:from:to:cc:subject:date:message-id:reply-to; bh=6qP7HgaNy7Xps0dfLuKVYiI+DHgTn27KOy3DVeKY3Uw=; b=i0itqV3KS+aj+6LVtFdYTjgk8GrJaGk6mjGdVVbvA+4WcKgp563u6O6PhqQR8sB4rZ XuglJQjF1f7/1k8ZiyccYC95XbvFjLcvVGB+OS8VFOgvhRivikM99UMZBtG7+Ckon+oW vz1I8QXJcna7gwbBKwQk/jQVoBF+W9Xv06KbnHqMabBtzdh5WcKulL8Wn8TplpGpiN3P 6xFwrJVObwyLFZQbCTBVVd8ElT34CoF/TYI7QwMi70DEsgbOqpNwsIOr/nLPyM89Lefv d83lUPMZjLynlf079swXWP24JWfqmIttn7QcANNDlE2hXTIixZJzXwqEJ2tf82/66sGK K/Bw== X-Gm-Message-State: AOJu0YwMCZgK58MMbbzHfuZPLrvDlGpVG4R0L9rJi/lDwxIGcxgbKuUa EQNrOf1VRcHrIIjQi3xz6O5OMZbt8DP2mSb60qT9T+X8NrOduNNOoufLgyCKXYKDnLp3uum9UR0 Vexs4D956hVlKKGyBTd5EB8e8y1oz15V437Ftio8dJ91L X-Gm-Gg: ASbGncuQN0HHX9AJzioq9RqdI4cCfYWrONEONLLnW7LzIU0cZOG50ZouBem2Hh2v7yb aPb5miQYtPFLT9RsKL2OPM7hV7gQaZDCVHYDXsVP0ExEaJUZ5CfFFV6ydOufQ/itBzxoRe3ifsa r3mDQqw/E8FtMVY4M5nWDvimvsvfXx3Pa5scKU/kB7c3wGu1FBgnUnOB34+W9c/4M7HxQZK44kM H8f+u/dFok2F96actMrhE5qVpjIoYolgu5W5v2d1R/TpvHzKrWWlx1RppQuGl0hzt6AkqsDIrB5 y5GkZ9BLX+5TMWdZiSSwvb3d3oj4/JN1HqNDwhei9bgwvJuTXHz6VE1P8DuSR3LPD9/Gat/d X-Google-Smtp-Source: AGHT+IGf/+Q7M4cgWoxJtpjQYxcOWjMANZvLCedK9pWi0cccvZiF3MMWQvUrsH2wVSiAKaI4Qk83E6ZXNJ3P X-Received: by 2002:a05:690e:10d:b0:635:4ece:20ad with SMTP id 956f58d0204a3-63ccb9325dbmr15731319d50.50.1760432436513; Tue, 14 Oct 2025 02:00:36 -0700 (PDT) Received: from postal.iol.unh.edu (postal.iol.unh.edu. [132.177.123.84]) by smtp-relay.gmail.com with ESMTPS id 00721157ae682-7814c5a9478sm976117b3.32.2025.10.14.02.00.36 (version=TLS1_2 cipher=ECDHE-ECDSA-AES128-GCM-SHA256 bits=128/128); Tue, 14 Oct 2025 02:00:36 -0700 (PDT) X-Relaying-Domain: iol.unh.edu Date: Tue, 14 Oct 2025 02:00:36 -0700 (PDT) Message-ID: <68ee1134.050a0220.5b2e0.5801SMTPIN_ADDED_MISSING@mx.google.com> Received: from [172.21.0.5] (unknown [172.18.0.240]) by postal.iol.unh.edu (Postfix) with ESMTP id 323966051830; Tue, 14 Oct 2025 05:00:36 -0400 (EDT) Subject: |SUCCESS| pw157510-157516 [PATCH] [v5,7/7] usertools/mbuf: parse mbu From: dpdklab@iol.unh.edu To: Test Report Cc: dpdk-test-reports@iol.unh.edu In-Reply-To: <20251014070517.922137-8-thomas@monjalon.net> References: <20251014070517.922137-8-thomas@monjalon.net> Content-Type: text/plain X-BeenThere: test-report@dpdk.org X-Mailman-Version: 2.1.29 Precedence: list List-Id: automatic DPDK test reports List-Unsubscribe: , List-Archive: List-Post: List-Help: List-Subscribe: , Errors-To: test-report-bounces@dpdk.org Test-Label: iol-compile-amd64-testing Test-Status: SUCCESS http://dpdk.org/patch/157516 _Testing PASS_ Submitter: Thomas Monjalon Date: Tuesday, October 14 2025 06:58:35 DPDK git baseline: Repo:dpdk Branch: master CommitID:2b403dd8fb37d0ba13723e44ffc7ee2c2795f838 157510-157516 --> testing pass Upstream job id: Generic-DPDK-Compile-Meson#433930 Test environment and result as below: +-------------------------------+--------------------+-------------------+------------------+-------------------------+-------------------+----------------------+ | Environment | dpdk_meson_compile | dpdk_compile_spdk | dpdk_compile_ovs | dpdk_llvm_clang_compile | dpdk_msvc_compile | dpdk_mingw64_compile | +===============================+====================+===================+==================+=========================+===================+======================+ | FreeBSD 14.2 | PASS | SKIPPED | SKIPPED | SKIPPED | SKIPPED | SKIPPED | +-------------------------------+--------------------+-------------------+------------------+-------------------------+-------------------+----------------------+ | CentOS Stream 10 | PASS | SKIPPED | SKIPPED | SKIPPED | SKIPPED | SKIPPED | +-------------------------------+--------------------+-------------------+------------------+-------------------------+-------------------+----------------------+ | Ubuntu 20.04 | PASS | SKIPPED | SKIPPED | SKIPPED | SKIPPED | SKIPPED | +-------------------------------+--------------------+-------------------+------------------+-------------------------+-------------------+----------------------+ | CentOS Stream 9 | PASS | PASS | SKIPPED | SKIPPED | SKIPPED | SKIPPED | +-------------------------------+--------------------+-------------------+------------------+-------------------------+-------------------+----------------------+ | Fedora Linux 42 | PASS | PASS | PASS | SKIPPED | SKIPPED | SKIPPED | +-------------------------------+--------------------+-------------------+------------------+-------------------------+-------------------+----------------------+ | openSUSE Leap 15.6 | PASS | SKIPPED | SKIPPED | SKIPPED | SKIPPED | SKIPPED | +-------------------------------+--------------------+-------------------+------------------+-------------------------+-------------------+----------------------+ | Red Hat Enterprise Linux 9.5 | PASS | SKIPPED | SKIPPED | SKIPPED | SKIPPED | SKIPPED | +-------------------------------+--------------------+-------------------+------------------+-------------------------+-------------------+----------------------+ | Debian GNU/Linux 12 | PASS | PASS | SKIPPED | SKIPPED | SKIPPED | SKIPPED | +-------------------------------+--------------------+-------------------+------------------+-------------------------+-------------------+----------------------+ | Ubuntu 22.04 | PASS | PASS | SKIPPED | SKIPPED | SKIPPED | SKIPPED | +-------------------------------+--------------------+-------------------+------------------+-------------------------+-------------------+----------------------+ | Ubuntu 24.04 | PASS | PASS | PASS | SKIPPED | SKIPPED | SKIPPED | +-------------------------------+--------------------+-------------------+------------------+-------------------------+-------------------+----------------------+ | Alpine Linux 3.22.0 | PASS | SKIPPED | SKIPPED | SKIPPED | SKIPPED | SKIPPED | +-------------------------------+--------------------+-------------------+------------------+-------------------------+-------------------+----------------------+ | Red Hat Enterprise Linux 8.10 | PASS | SKIPPED | SKIPPED | SKIPPED | SKIPPED | SKIPPED | +-------------------------------+--------------------+-------------------+------------------+-------------------------+-------------------+----------------------+ | Windows Server 2022 | SKIPPED | SKIPPED | SKIPPED | PASS | PASS | PASS | +-------------------------------+--------------------+-------------------+------------------+-------------------------+-------------------+----------------------+ FreeBSD 14.2 Kernel: 14.2-RELEASE Compiler: clang 18.1.6 CentOS Stream 10 Kernel: 5.15 Compiler: gcc gcc (GCC) 14.2.1 20250110 (Red Hat 14.2.1-8) Ubuntu 20.04 Kernel: 5.15 Compiler: gcc gcc (Ubuntu 9.4.0-1ubuntu1~20.04.2) 9.4.0 CentOS Stream 9 Kernel: 5.15 Compiler: gcc gcc (GCC) 11.5.0 20240719 (Red Hat 11.5.0-11) Fedora Linux 42 Kernel: 5.15 Compiler: clang gcc (GCC) 15.2.1 20250808 (Red Hat 15.2.1-1) openSUSE Leap 15.6 Kernel: 5.15 Compiler: gcc gcc (SUSE Linux) 7.5.0 Red Hat Enterprise Linux 9.5 Kernel: 5.15 Compiler: gcc gcc (GCC) 11.5.0 20240719 (Red Hat 11.5.0-2) Debian GNU/Linux 12 Kernel: 5.15 Compiler: gcc gcc (Debian 12.2.0-14+deb12u1) 12.2.0 Ubuntu 22.04 Kernel: 5.15 Compiler: gcc gcc (Ubuntu 11.4.0-1ubuntu1~22.04) 11.4.0 Ubuntu 24.04 Kernel: 5.15 Compiler: gcc gcc (Ubuntu 13.3.0-6ubuntu2~24.04) 13.3.0 Alpine Linux 3.22.0 Kernel: 5.15 Compiler: gcc gcc (Alpine 14.2.0) 14.2.0 Red Hat Enterprise Linux 8.10 Kernel: 5.15 Compiler: gcc gcc (GCC) 8.5.0 20210514 (Red Hat 8.5.0-22) Windows Server 2022 Kernel: 10.0.20348.2031 Compiler: clang 15.0.7, gcc 14.1.0 (MinGW), and MSVC VS 19.39.33521 To view detailed results, visit: https://lab.dpdk.org/results/dashboard/patchsets/34268/ UNH-IOL DPDK Community Lab To manage your email subscriptions, visit: https://lab.dpdk.org/results/dashboard/preferences/subscriptions/