From mboxrd@z Thu Jan 1 00:00:00 1970 Return-Path: Received: from mails.dpdk.org (mails.dpdk.org [217.70.189.124]) by inbox.dpdk.org (Postfix) with ESMTP id 29EF648933 for ; Tue, 14 Oct 2025 11:14:36 +0200 (CEST) Received: from mails.dpdk.org (localhost [127.0.0.1]) by mails.dpdk.org (Postfix) with ESMTP id 25857402A8; Tue, 14 Oct 2025 11:14:36 +0200 (CEST) Received: from mail-oa1-f100.google.com (mail-oa1-f100.google.com [209.85.160.100]) by mails.dpdk.org (Postfix) with ESMTP id E2678402A8 for ; Tue, 14 Oct 2025 11:14:34 +0200 (CEST) Received: by mail-oa1-f100.google.com with SMTP id 586e51a60fabf-35ba7c71bfdso2385812fac.3 for ; Tue, 14 Oct 2025 02:14:34 -0700 (PDT) DKIM-Signature: v=1; a=rsa-sha256; c=relaxed/relaxed; d=iol.unh.edu; s=unh-iol; t=1760433274; x=1761038074; darn=dpdk.org; h=references:in-reply-to:cc:to:from:subject:message-id:date:from:to :cc:subject:date:message-id:reply-to; bh=CVztRxH7KRFE8f4bfXNK9bvW2Xpl/3+avsymBypGyfE=; b=Ru5wH/iRMyXsExHyZhmgn8KWrC65IN4emHS6RWQ9Jx70kcGHjUgRLvOIZ4Q5ixEQC5 WdqhEM4/61KxtSRY8Bm7kYI2zMmPNZN3J27YjuQBvNM9tpbCQ8v6OBx05m9lhhIucsun VhDxqQWZx5AGw4Jq2k9tMUP/QtJ7ZN5Ojr2/E= X-Google-DKIM-Signature: v=1; a=rsa-sha256; c=relaxed/relaxed; d=1e100.net; s=20230601; t=1760433274; x=1761038074; h=references:in-reply-to:cc:to:from:subject:message-id:date :x-gm-message-state:from:to:cc:subject:date:message-id:reply-to; bh=CVztRxH7KRFE8f4bfXNK9bvW2Xpl/3+avsymBypGyfE=; b=piVyrpVj1f+oojv04Vvq0QSXQFWu+YGtkZ1tgnZG5vLM3Ic1gQ7SH7MEnfGKPEa5UQ W+JTaPnNoOrU8XsnS82Fl99pCq+HJ02z+fiIIJrA4fFEi6nyk6lSsEOTGNxj1QtzlA5t rO5uBJxZrBOIsc2reIAiUFzS4nCz0BrtAFdKAzXbr89FCmRzZIzv0Slmt5c9XjDpH7G/ tub5f7TrQDBmTFlQRPjkuJVSwjRgwKsXzTZGehHy6d7E33SNHo8alp6kMztGZMcu7t3/ LpRmR+8N0akn3ZLVBS5fLPiZxJnAfgeU8xR5pNg9/EIcZkIL+o0WlOo1t1jYhWnwkBsA lYCQ== X-Gm-Message-State: AOJu0YyH9Mkh17y23XdwZhGdpsipwi2+/fQKsceVeXTNdt0FmRF8Y5IC gFC3/lPOTctAaQwBdSSK9dfRy0WLmLfBH4GWXvQnkqt9/THJ+Dh+3zNH1yCKatwZXlpRgbBqqnU yymtzzuCs9PNB1ob2a+WqOQQOd34jFHfvdFYRavzSJZZfWGp3US2zHpR9bu5w X-Gm-Gg: ASbGncuqmOAbouXxhIXssprc8v+yK4gf8Y7aLZ/+yOtFiNuWgQbT8sk8aYMfsFGBkaP AWFJizv2EOGsGPD+JEXuxZJpesZFshaGBw0DvS+/Yk2mrdlXejyPUsT0Z2ETAatS0noakdIInhW Lz+G9xdBoAAUuDyzJuo8ocFOAEIz/9aWSejJ7+x3DQZ3lGogAWeE6j99ESII4VO5FPi3oahjey3 3ODIIWgJAaLzF5VXbFd4Lo/SnCxRUjlMWoYMKecDhY/g3yhMSS1vQEXWN04Ad7u4pHCRCRG/khm t4flcUPsqfPuXzPY+ADvZ7ouFExqyUR4RHGEXiMsAhmSmC0VJQ== X-Google-Smtp-Source: AGHT+IEuTRNpXwE8PNHz/o5vbZR4FMIH/vYd9/5Oe2Kf9fQsQEqs2yLtAeb4WXr7jIEJn9CUZNv4qQv64fXs X-Received: by 2002:a05:6870:c1c2:b0:315:bac0:c47f with SMTP id 586e51a60fabf-3c0f91a53c1mr10885763fac.29.1760433274065; Tue, 14 Oct 2025 02:14:34 -0700 (PDT) Received: from postal.iol.unh.edu (postal.iol.unh.edu. [2606:4100:3880:1234::84]) by smtp-relay.gmail.com with ESMTPS id 586e51a60fabf-3c8c8b11fa8sm1260444fac.1.2025.10.14.02.14.33 (version=TLS1_2 cipher=ECDHE-ECDSA-AES128-GCM-SHA256 bits=128/128); Tue, 14 Oct 2025 02:14:34 -0700 (PDT) X-Relaying-Domain: iol.unh.edu Date: Tue, 14 Oct 2025 02:14:34 -0700 (PDT) Message-ID: <68ee147a.050a0220.251384.1e86SMTPIN_ADDED_MISSING@mx.google.com> Received: from [172.21.0.2] (unknown [172.18.0.240]) by postal.iol.unh.edu (Postfix) with ESMTP id 8DD086051830; Tue, 14 Oct 2025 05:14:33 -0400 (EDT) Subject: |SUCCESS| pw157532-157546 [PATCH] [15/15] net/dpaa2: add Policer sta From: dpdklab@iol.unh.edu To: Test Report Cc: dpdk-test-reports@iol.unh.edu In-Reply-To: <20251014064035.1312896-16-prashant.gupta_3@nxp.com> References: <20251014064035.1312896-16-prashant.gupta_3@nxp.com> Content-Type: text/plain X-BeenThere: test-report@dpdk.org X-Mailman-Version: 2.1.29 Precedence: list List-Id: automatic DPDK test reports List-Unsubscribe: , List-Archive: List-Post: List-Help: List-Subscribe: , Errors-To: test-report-bounces@dpdk.org Test-Label: iol-compile-amd64-testing Test-Status: SUCCESS http://dpdk.org/patch/157546 _Testing PASS_ Submitter: Prashant Gupta Date: Tuesday, October 14 2025 06:40:35 DPDK git baseline: Repo:dpdk Branch: master CommitID:2b403dd8fb37d0ba13723e44ffc7ee2c2795f838 157532-157546 --> testing pass Upstream job id: Windows-Compile-DPDK-Native#31599 Test environment and result as below: +-------------------------------+--------------------+-------------------+------------------+-------------------+-------------------------+ | Environment | dpdk_meson_compile | dpdk_compile_spdk | dpdk_compile_ovs | dpdk_msvc_compile | dpdk_llvm_clang_compile | +===============================+====================+===================+==================+===================+=========================+ | Ubuntu 20.04 | PASS | SKIPPED | SKIPPED | SKIPPED | SKIPPED | +-------------------------------+--------------------+-------------------+------------------+-------------------+-------------------------+ | FreeBSD 14.2 | PASS | SKIPPED | SKIPPED | SKIPPED | SKIPPED | +-------------------------------+--------------------+-------------------+------------------+-------------------+-------------------------+ | openSUSE Leap 15.6 | PASS | SKIPPED | SKIPPED | SKIPPED | SKIPPED | +-------------------------------+--------------------+-------------------+------------------+-------------------+-------------------------+ | CentOS Stream 10 | PASS | SKIPPED | SKIPPED | SKIPPED | SKIPPED | +-------------------------------+--------------------+-------------------+------------------+-------------------+-------------------------+ | Debian GNU/Linux 12 | PASS | PASS | SKIPPED | SKIPPED | SKIPPED | +-------------------------------+--------------------+-------------------+------------------+-------------------+-------------------------+ | Ubuntu 22.04 | PASS | PASS | SKIPPED | SKIPPED | SKIPPED | +-------------------------------+--------------------+-------------------+------------------+-------------------+-------------------------+ | CentOS Stream 9 | PASS | PASS | SKIPPED | SKIPPED | SKIPPED | +-------------------------------+--------------------+-------------------+------------------+-------------------+-------------------------+ | Fedora Linux 42 | PASS | PASS | PASS | SKIPPED | SKIPPED | +-------------------------------+--------------------+-------------------+------------------+-------------------+-------------------------+ | Red Hat Enterprise Linux 8.10 | PASS | SKIPPED | SKIPPED | SKIPPED | SKIPPED | +-------------------------------+--------------------+-------------------+------------------+-------------------+-------------------------+ | Red Hat Enterprise Linux 9.5 | PASS | SKIPPED | SKIPPED | SKIPPED | SKIPPED | +-------------------------------+--------------------+-------------------+------------------+-------------------+-------------------------+ | Ubuntu 24.04 | PASS | PASS | PASS | SKIPPED | SKIPPED | +-------------------------------+--------------------+-------------------+------------------+-------------------+-------------------------+ | Alpine Linux 3.22.0 | PASS | SKIPPED | SKIPPED | SKIPPED | SKIPPED | +-------------------------------+--------------------+-------------------+------------------+-------------------+-------------------------+ | Windows Server 2022 | SKIPPED | SKIPPED | SKIPPED | PASS | PASS | +-------------------------------+--------------------+-------------------+------------------+-------------------+-------------------------+ Ubuntu 20.04 Kernel: 4.19 Compiler: gcc gcc (Ubuntu 9.4.0-1ubuntu1~20.04.2) 9.4.0 FreeBSD 14.2 Kernel: 14.2-RELEASE Compiler: clang 18.1.6 openSUSE Leap 15.6 Kernel: 5.15 Compiler: gcc gcc (SUSE Linux) 7.5.0 CentOS Stream 10 Kernel: 5.15 Compiler: gcc gcc (GCC) 14.2.1 20250110 (Red Hat 14.2.1-8) Debian GNU/Linux 12 Kernel: 5.15 Compiler: gcc gcc (Debian 12.2.0-14+deb12u1) 12.2.0 Ubuntu 22.04 Kernel: 5.15 Compiler: gcc gcc (Ubuntu 11.4.0-1ubuntu1~22.04) 11.4.0 CentOS Stream 9 Kernel: 5.15 Compiler: gcc gcc (GCC) 11.5.0 20240719 (Red Hat 11.5.0-11) Fedora Linux 42 Kernel: 5.15 Compiler: gcc gcc (GCC) 15.2.1 20250808 (Red Hat 15.2.1-1) Red Hat Enterprise Linux 8.10 Kernel: 5.15 Compiler: gcc gcc (GCC) 8.5.0 20210514 (Red Hat 8.5.0-22) Red Hat Enterprise Linux 9.5 Kernel: 5.15 Compiler: gcc gcc (GCC) 11.5.0 20240719 (Red Hat 11.5.0-2) Ubuntu 24.04 Kernel: 5.15 Compiler: gcc gcc (Ubuntu 13.3.0-6ubuntu2~24.04) 13.3.0 Alpine Linux 3.22.0 Kernel: 5.15 Compiler: gcc gcc (Alpine 14.2.0) 14.2.0 Windows Server 2022 Kernel: 10.0.20348.2031 Compiler: clang 15.0.7, gcc 14.1.0 (MinGW), and MSVC VS 19.39.33521 To view detailed results, visit: https://lab.dpdk.org/results/dashboard/patchsets/34269/ UNH-IOL DPDK Community Lab To manage your email subscriptions, visit: https://lab.dpdk.org/results/dashboard/preferences/subscriptions/