From mboxrd@z Thu Jan 1 00:00:00 1970 Return-Path: Received: from mails.dpdk.org (mails.dpdk.org [217.70.189.124]) by inbox.dpdk.org (Postfix) with ESMTP id 6727248933 for ; Tue, 14 Oct 2025 11:22:03 +0200 (CEST) Received: from mails.dpdk.org (localhost [127.0.0.1]) by mails.dpdk.org (Postfix) with ESMTP id 61260402A8; Tue, 14 Oct 2025 11:22:03 +0200 (CEST) Received: from mail-il1-f226.google.com (mail-il1-f226.google.com [209.85.166.226]) by mails.dpdk.org (Postfix) with ESMTP id 4CD31402A8 for ; Tue, 14 Oct 2025 11:22:02 +0200 (CEST) Received: by mail-il1-f226.google.com with SMTP id e9e14a558f8ab-42f8da689a6so50568785ab.2 for ; Tue, 14 Oct 2025 02:22:02 -0700 (PDT) DKIM-Signature: v=1; a=rsa-sha256; c=relaxed/relaxed; d=iol.unh.edu; s=unh-iol; t=1760433721; x=1761038521; darn=dpdk.org; h=references:in-reply-to:cc:to:from:subject:message-id:date:from:to :cc:subject:date:message-id:reply-to; bh=TubJuHV2D1KOdiP7UtbLIPp0weSNPbkAovs7RNUmQZ8=; b=PW9ymghY2n0zp0U13xfzqvsN2FPhx3xsK8vdscV3XOwffI8Pfs8qgGWBUOBv2rZpjv QUo+VsIyCnyloSekQ7o9yEz88JrZF6ApcNmk96GX12D0YHVvJAYOOCLvkyfpbMERRXxv 4pvSHJoKZhDJmHZziae2x9ct5gY/Lzq3FkQeE= X-Google-DKIM-Signature: v=1; a=rsa-sha256; c=relaxed/relaxed; d=1e100.net; s=20230601; t=1760433721; x=1761038521; h=references:in-reply-to:cc:to:from:subject:message-id:date :x-gm-message-state:from:to:cc:subject:date:message-id:reply-to; bh=TubJuHV2D1KOdiP7UtbLIPp0weSNPbkAovs7RNUmQZ8=; b=cNS/tWho5p6Ed/lnpBQVNSTUcUybyVDJ9+XyuhK25ISybDBYOfmlbFGRKp7uJkjyfp vyN2ry3zm1nHVXEkfelJyWwp1mcSgvRwqIxvQN3OolxBK37+oAwOX2iTKxSQeu3H8Cvd fVR2tKJfF7ZeVcj2HAPMuVlfZxdM2TazK5YgaHmZyPGeOd5OkjcgRogPwwwG3ByjyTkR iC6Gpq55jguoTYFVNyKdwC6Er40jAXJ11JoHYBJvz3lyF4gxCGHDjxexdG00Q65zlGjk /A75gKkDOSOmruiWU89J9oxM0Ox5S55MiVTM1lIJMY8Y4g7SaUlkR6+VVEnKaaydWSmu oAFw== X-Gm-Message-State: AOJu0YxCkGYJzCgF6zWfKFgFpRvKlvH/x52aTv25X2GDFeezyoF24do8 Wi5w796jNIlC9/ooluntW/2SHlDprE8cAoOA5PI3raE2sV4oj/2qwF5BQxtIzZ1xOpC8bBvZmRT OaD+tXEI3mOD4xxKAm2sVvclIR7G8CBE6DnRoi4mKxL4j X-Gm-Gg: ASbGnctFCuxHEYZj0MDOuRcdzeEB0Awpxuyl8zlbXIj3uKbYO9fEZOl1nDUzLZfpnLM 46seB0TI/brPqeEMh9H53IhW9bgDMuf3plWDXBG3W9kHs61PqnmWjPXldyp+jT15/VQ0sIBQLsl pcGIx/G1//sGhWckh+cyL8CeNPL1l7Z/Ep4lykiOurTUdb4Kr6MyQpWrDhPq9t6r/grH/L+IMSc apVkK2tMya/tzV/57klRBF/p6nch6+xXYJ+Za1DWaUSXx1xhFS/4exZ/cjzGOMvh+RxTql3qwQ7 Ibf8k/5MXKiI/PlQuzdF49lQp5PFsbb2BxPCjQ2j5jI6nYUtEkF73HRgWZCzKVtx929zwb0O X-Google-Smtp-Source: AGHT+IFioumDmiQa+14J3fcWxlLxV+llGOOcn/hr3qDe99bOt7pcE3ZMwOGF4pgUcFHUUsDWmCCnmAzx5s2c X-Received: by 2002:a05:6e02:19c8:b0:424:8b1a:9326 with SMTP id e9e14a558f8ab-42f873e10demr237881575ab.21.1760433721603; Tue, 14 Oct 2025 02:22:01 -0700 (PDT) Received: from postal.iol.unh.edu (postal.iol.unh.edu. [132.177.123.84]) by smtp-relay.gmail.com with ESMTPS id 8926c6da1cb9f-58f71469828sm1053992173.28.2025.10.14.02.22.01 (version=TLS1_2 cipher=ECDHE-ECDSA-AES128-GCM-SHA256 bits=128/128); Tue, 14 Oct 2025 02:22:01 -0700 (PDT) X-Relaying-Domain: iol.unh.edu Date: Tue, 14 Oct 2025 02:22:01 -0700 (PDT) Message-ID: <68ee1639.050a0220.e795b.4d37SMTPIN_ADDED_MISSING@mx.google.com> Received: from [172.21.0.2] (unknown [172.18.0.240]) by postal.iol.unh.edu (Postfix) with ESMTP id 2FAD86051830; Tue, 14 Oct 2025 05:22:01 -0400 (EDT) Subject: |SUCCESS| pw157532-157546 [PATCH] [15/15] net/dpaa2: add Policer sta From: dpdklab@iol.unh.edu To: Test Report Cc: dpdk-test-reports@iol.unh.edu In-Reply-To: <20251014064035.1312896-16-prashant.gupta_3@nxp.com> References: <20251014064035.1312896-16-prashant.gupta_3@nxp.com> Content-Type: text/plain X-BeenThere: test-report@dpdk.org X-Mailman-Version: 2.1.29 Precedence: list List-Id: automatic DPDK test reports List-Unsubscribe: , List-Archive: List-Post: List-Help: List-Subscribe: , Errors-To: test-report-bounces@dpdk.org Test-Label: iol-unit-amd64-testing Test-Status: SUCCESS http://dpdk.org/patch/157546 _Testing PASS_ Submitter: Prashant Gupta Date: Tuesday, October 14 2025 06:40:35 DPDK git baseline: Repo:dpdk Branch: master CommitID:2b403dd8fb37d0ba13723e44ffc7ee2c2795f838 157532-157546 --> testing pass Upstream job id: Generic-VM-Unit-Test-DPDK#31770 Test environment and result as below: +-------------------------------+----------------+ | Environment | dpdk_unit_test | +===============================+================+ | CentOS Stream 10 | PASS | +-------------------------------+----------------+ | Fedora Linux 41 | PASS | +-------------------------------+----------------+ | Fedora Linux 40 | PASS | +-------------------------------+----------------+ | Fedora Linux 42 | PASS | +-------------------------------+----------------+ | CentOS Stream 9 | PASS | +-------------------------------+----------------+ | Ubuntu 22.04 | PASS | +-------------------------------+----------------+ | Ubuntu 20.04 | PASS | +-------------------------------+----------------+ | Debian GNU/Linux 12 | PASS | +-------------------------------+----------------+ | Red Hat Enterprise Linux 8.10 | PASS | +-------------------------------+----------------+ | Ubuntu 24.04 | PASS | +-------------------------------+----------------+ | Red Hat Enterprise Linux 9.5 | PASS | +-------------------------------+----------------+ | Windows Server 2022 | PASS | +-------------------------------+----------------+ CentOS Stream 10 Kernel: 5.15 Compiler: gcc gcc (GCC) 14.2.1 20250110 (Red Hat 14.2.1-8) Fedora Linux 41 Kernel: 5.15 Compiler: clang gcc (GCC) 14.3.1 20250523 (Red Hat 14.3.1-1) Fedora Linux 40 Kernel: 5.15 Compiler: gcc gcc (GCC) 14.2.1 20240912 (Red Hat 14.2.1-3) Fedora Linux 42 Kernel: 5.15 Compiler: clang gcc (GCC) 15.2.1 20250808 (Red Hat 15.2.1-1) CentOS Stream 9 Kernel: 5.15 Compiler: gcc gcc (GCC) 11.5.0 20240719 (Red Hat 11.5.0-11) Ubuntu 22.04 Kernel: 5.15 Compiler: gcc gcc (Ubuntu 11.4.0-1ubuntu1~22.04) 11.4.0 Ubuntu 20.04 Kernel: 5.15 Compiler: gcc gcc (Ubuntu 9.4.0-1ubuntu1~20.04.2) 9.4.0 Debian GNU/Linux 12 Kernel: 5.15 Compiler: gcc gcc (Debian 12.2.0-14+deb12u1) 12.2.0 Red Hat Enterprise Linux 8.10 Kernel: 5.15 Compiler: gcc gcc (GCC) 8.5.0 20210514 (Red Hat 8.5.0-22) Ubuntu 24.04 Kernel: 5.15 Compiler: gcc gcc (Ubuntu 13.3.0-6ubuntu2~24.04) 13.3.0 Red Hat Enterprise Linux 9.5 Kernel: 5.15 Compiler: gcc gcc (GCC) 11.5.0 20240719 (Red Hat 11.5.0-2) Windows Server 2022 Kernel: 10.0.20348.2031 Compiler: clang 15.0.7, gcc 14.1.0 (MinGW), and MSVC VS 19.39.33521 To view detailed results, visit: https://lab.dpdk.org/results/dashboard/patchsets/34269/ UNH-IOL DPDK Community Lab To manage your email subscriptions, visit: https://lab.dpdk.org/results/dashboard/preferences/subscriptions/