From mboxrd@z Thu Jan 1 00:00:00 1970 Return-Path: Received: from mails.dpdk.org (mails.dpdk.org [217.70.189.124]) by inbox.dpdk.org (Postfix) with ESMTP id 0A20C48933 for ; Tue, 14 Oct 2025 11:27:26 +0200 (CEST) Received: from mails.dpdk.org (localhost [127.0.0.1]) by mails.dpdk.org (Postfix) with ESMTP id 045CB402A8; Tue, 14 Oct 2025 11:27:26 +0200 (CEST) Received: from mail-io1-f98.google.com (mail-io1-f98.google.com [209.85.166.98]) by mails.dpdk.org (Postfix) with ESMTP id B7BC6402A8 for ; Tue, 14 Oct 2025 11:27:24 +0200 (CEST) Received: by mail-io1-f98.google.com with SMTP id ca18e2360f4ac-92cebee95a8so223417839f.0 for ; Tue, 14 Oct 2025 02:27:24 -0700 (PDT) DKIM-Signature: v=1; a=rsa-sha256; c=relaxed/relaxed; d=iol.unh.edu; s=unh-iol; t=1760434044; x=1761038844; darn=dpdk.org; h=references:in-reply-to:cc:to:from:subject:message-id:date:from:to :cc:subject:date:message-id:reply-to; bh=knPNSkgrAG96Tvi2KUbUdztBXHrIh9H8Ho7dvQMzcfo=; b=FwD5wMd9BfoqQ6T3u23Xs7ZWboWR53Y1IEtDIpyyjz18e98c151UL5rWEY+/qduHsm z4C2tu6yqFQGxLk+ZUYoKtPHihGoRENzTvTszK7HEWDh5PZjeAKA6L982xBwqW2D+wqH nIynY/BFGI6z+lc1Anua+1w5633UfubsLFwGw= X-Google-DKIM-Signature: v=1; a=rsa-sha256; c=relaxed/relaxed; d=1e100.net; s=20230601; t=1760434044; x=1761038844; h=references:in-reply-to:cc:to:from:subject:message-id:date :x-gm-message-state:from:to:cc:subject:date:message-id:reply-to; bh=knPNSkgrAG96Tvi2KUbUdztBXHrIh9H8Ho7dvQMzcfo=; b=E/aG7VHUoua8NdcqUACVq75KjF0MOfqm+euakoHbDT2ArFLJLSHziuXBif3vkKELHr 203jHGaBLmsG4gj7VnDd/GoHYfSM4GwnW0jy1pbb7w4UhlqrK84Zf+L7OvcxLyX84pWp 0o+XgC3dkV+rP8ZibIEUNl/T8I5QpH8NXtCVlBYIWBbx3zclmP7CxjsqaMmQsDsCRfAE jdgUqEmdizgOHv6+jYo3IQTI0EdF/GMWIjuDAdNjEJ1l+/N6+J58CWXoBMrK/jdidl8y ESOaYNbgQVNrWeHfk2R88PWC706JP/HddOFMpVr71WGNSLo7CTMDQVuTDN9YhZFFTFsB h2Xg== X-Gm-Message-State: AOJu0YzArNgONFrvzBtR65x1Hi0qEgyEIFDrok3SXp8Gn8WsRBNnP6ji zl4qZbUQUaTzhuw0tkrfBGL/liZFDO2iMlBkOotPqV3rT1doIFtm0CpC0gr07uUThL+3/86BWjx znzttuFp7th0aJD6+ffONU+3cchwJ8bOEV5XdLUBYV13pU2JABprDZHwKulOq X-Gm-Gg: ASbGncu+f/FnfZEkMD6EDWC/YI+v/8MKMWo3CIo4XFwomsxxKi0qVqPRP8MhzotnsyV APEJK9TFchWso/7/YcXyJgDI914rS0srUTKfNRWnZjeYCsG/xuaFgHeyfR/4wvuCn8fooRXtTBw 01LIOQF2hjEiiPAb2LcOH9sjvWefgIf+sSOppTol1V/X53u4qiaZDcUmHD3hzhDt1N7yA47Ahq2 djSTAkeU95JU7dH/RJ50f5ArwcCb0CvvP705GPwUlC7LMqk1zAcIXRp/eNCh0wTWQwA/qZviHvz Q7uuIqv/HIHD9wanlbRtyGga1CI0JE98rthmMVHl/0din2iUbA== X-Google-Smtp-Source: AGHT+IHBO6PcHBsPQoTkQZTIxwYjOlzoCVNEuwszRKl8RM1UqtKuJ7qAvCbEfDiLpJMvJvrvnThmswfahHdT X-Received: by 2002:a05:6602:2c11:b0:92e:298e:eedb with SMTP id ca18e2360f4ac-93bd199b1cemr2884596439f.10.1760434044077; Tue, 14 Oct 2025 02:27:24 -0700 (PDT) Received: from postal.iol.unh.edu (postal.iol.unh.edu. [2606:4100:3880:1234::84]) by smtp-relay.gmail.com with ESMTPS id ca18e2360f4ac-93e25927e95sm69551139f.3.2025.10.14.02.27.24 (version=TLS1_2 cipher=ECDHE-ECDSA-AES128-GCM-SHA256 bits=128/128); Tue, 14 Oct 2025 02:27:24 -0700 (PDT) X-Relaying-Domain: iol.unh.edu Date: Tue, 14 Oct 2025 02:27:24 -0700 (PDT) Message-ID: <68ee177c.050a0220.3cae74.29c1SMTPIN_ADDED_MISSING@mx.google.com> Received: from [172.21.0.2] (unknown [172.18.0.240]) by postal.iol.unh.edu (Postfix) with ESMTP id A6D5D6051830; Tue, 14 Oct 2025 05:27:23 -0400 (EDT) Subject: |SUCCESS| pw157517-157531 [PATCH] [15/15] net/dpaa2: add Policer sta From: dpdklab@iol.unh.edu To: Test Report Cc: dpdk-test-reports@iol.unh.edu In-Reply-To: <20251014060045.1304694-16-prashant.gupta_3@nxp.com> References: <20251014060045.1304694-16-prashant.gupta_3@nxp.com> Content-Type: text/plain X-BeenThere: test-report@dpdk.org X-Mailman-Version: 2.1.29 Precedence: list List-Id: automatic DPDK test reports List-Unsubscribe: , List-Archive: List-Post: List-Help: List-Subscribe: , Errors-To: test-report-bounces@dpdk.org Test-Label: iol-unit-amd64-testing Test-Status: SUCCESS http://dpdk.org/patch/157531 _Testing PASS_ Submitter: Prashant Gupta Date: Tuesday, October 14 2025 06:00:45 DPDK git baseline: Repo:dpdk Branch: master CommitID:2b403dd8fb37d0ba13723e44ffc7ee2c2795f838 157517-157531 --> testing pass Upstream job id: Generic-Unit-Test-DPDK#381120 Test environment and result as below: +-------------------------------+----------------+ | Environment | dpdk_unit_test | +===============================+================+ | CentOS Stream 9 | PASS | +-------------------------------+----------------+ | Fedora Linux 42 | PASS | +-------------------------------+----------------+ | Fedora Linux 40 | PASS | +-------------------------------+----------------+ | CentOS Stream 10 | PASS | +-------------------------------+----------------+ | Fedora Linux 41 | PASS | +-------------------------------+----------------+ | Red Hat Enterprise Linux 9.5 | PASS | +-------------------------------+----------------+ | Red Hat Enterprise Linux 8.10 | PASS | +-------------------------------+----------------+ | Debian GNU/Linux 12 | PASS | +-------------------------------+----------------+ | Ubuntu 22.04 | PASS | +-------------------------------+----------------+ | Ubuntu 20.04 | PASS | +-------------------------------+----------------+ | Ubuntu 24.04 | PASS | +-------------------------------+----------------+ CentOS Stream 9 Kernel: 5.15 Compiler: gcc gcc (GCC) 11.5.0 20240719 (Red Hat 11.5.0-11) Fedora Linux 42 Kernel: 5.15 Compiler: gcc gcc (GCC) 15.2.1 20250808 (Red Hat 15.2.1-1) Fedora Linux 40 Kernel: 5.15 Compiler: gcc gcc (GCC) 14.2.1 20240912 (Red Hat 14.2.1-3) CentOS Stream 10 Kernel: 5.15 Compiler: gcc gcc (GCC) 14.2.1 20250110 (Red Hat 14.2.1-8) Fedora Linux 41 Kernel: 5.15 Compiler: gcc gcc (GCC) 14.3.1 20250523 (Red Hat 14.3.1-1) Red Hat Enterprise Linux 9.5 Kernel: 5.15 Compiler: gcc gcc (GCC) 11.5.0 20240719 (Red Hat 11.5.0-2) Red Hat Enterprise Linux 8.10 Kernel: 5.15 Compiler: gcc gcc (GCC) 8.5.0 20210514 (Red Hat 8.5.0-22) Debian GNU/Linux 12 Kernel: 5.15 Compiler: gcc gcc (Debian 12.2.0-14+deb12u1) 12.2.0 Ubuntu 22.04 Kernel: 5.15 Compiler: gcc gcc (Ubuntu 11.4.0-1ubuntu1~22.04) 11.4.0 Ubuntu 20.04 Kernel: 5.15 Compiler: gcc gcc (Ubuntu 9.4.0-1ubuntu1~20.04.2) 9.4.0 Ubuntu 24.04 Kernel: 5.15 Compiler: gcc gcc (Ubuntu 13.3.0-6ubuntu2~24.04) 13.3.0 To view detailed results, visit: https://lab.dpdk.org/results/dashboard/patchsets/34270/ UNH-IOL DPDK Community Lab To manage your email subscriptions, visit: https://lab.dpdk.org/results/dashboard/preferences/subscriptions/