From mboxrd@z Thu Jan 1 00:00:00 1970 Return-Path: Received: from mails.dpdk.org (mails.dpdk.org [217.70.189.124]) by inbox.dpdk.org (Postfix) with ESMTP id 5342548933 for ; Tue, 14 Oct 2025 11:30:18 +0200 (CEST) Received: from mails.dpdk.org (localhost [127.0.0.1]) by mails.dpdk.org (Postfix) with ESMTP id 4410A402A8; Tue, 14 Oct 2025 11:30:18 +0200 (CEST) Received: from mail-io1-f98.google.com (mail-io1-f98.google.com [209.85.166.98]) by mails.dpdk.org (Postfix) with ESMTP id ABC58402A8 for ; Tue, 14 Oct 2025 11:30:17 +0200 (CEST) Received: by mail-io1-f98.google.com with SMTP id ca18e2360f4ac-93bccd4901aso517191939f.2 for ; Tue, 14 Oct 2025 02:30:17 -0700 (PDT) DKIM-Signature: v=1; a=rsa-sha256; c=relaxed/relaxed; d=iol.unh.edu; s=unh-iol; t=1760434217; x=1761039017; darn=dpdk.org; h=references:in-reply-to:cc:to:from:subject:message-id:date:from:to :cc:subject:date:message-id:reply-to; bh=6FwkRnIY1wZveu0dwqFla5eBKmSQRFwpMvjBWA4GYK0=; b=Yr6b/Qwu9HD0niDNrxS2PLnTBE9rDImiVOQka4ccRMMBYGawzjvLiZlgHfgwpVqJDU UI9TGcEWRXT1MdbDUe2MsjUYpFcq5G0e4f/akLBjw/GT5lOhsVmKquHYF2kpV+FKD8F2 uPtEk/FgowyEbECN2C/m1P5/fwKxpYRPPK6d0= X-Google-DKIM-Signature: v=1; a=rsa-sha256; c=relaxed/relaxed; d=1e100.net; s=20230601; t=1760434217; x=1761039017; h=references:in-reply-to:cc:to:from:subject:message-id:date :x-gm-message-state:from:to:cc:subject:date:message-id:reply-to; bh=6FwkRnIY1wZveu0dwqFla5eBKmSQRFwpMvjBWA4GYK0=; b=EWec08gEytrRHxenYJjAAvEo4FXKhtDljUK5wJn8W8+w1ytVWvSpcxl//13kh7u2Ov h3rhtWJUKCUirN6KGw0xxOApdgbKYbiY5kJm34G49MUlTtZoNLnwcF2woVTTpO4wb7uG iVKPPEykCo2zKme9m26KZhSMJvWHDeRnUBDE/A9SKOUW/9b1X+fxs7LSVgNCuIbD2kUv uwx1Wj5HOJmbW6VVVK55tp9UvZJzxuhuQc05EKreE+eHPTH1A3huKeyvgRdI8h2RxUHh k6p/rgpZ0y1HtKlP19nkpViBUOrUgd524PyoPLPnKk6nc9LshEJ4kKn5b4pSk9bj0wAz RqMg== X-Gm-Message-State: AOJu0YxY5PCdZqENVe+7SUYx0xL7RgvVSy8QnB2rZDqgEQatlGcfDr8O awN+q1Z+48PHu4PEgC4SCCudDqPHKT48I9mFmnGAXbNlpfLQT4B5gHFEwdPB1DC/vplempNsYrH uV1uPUQmMq9MIBuDg77LspSIZj18dUVXEVKOyKKqLBp1E+jKbntRpd7yewpq5 X-Gm-Gg: ASbGnctEv2cSRlT4En41lnc+6vTSxg6ZiOnyKgu4q9MaxLcTAEbJYDkA3BcwBQk+xJi jMeUeAT9Rignog1z0FWaE1/vFfc+hVfWT/Q/7Li6IiInrnAm4i+OJsAOnY71CFMyWMB313WxDd6 xisRAbVhNx94jOYMEIRwEO97P9m0filIKRhp0Cx1kW5nwwbTlc+zyaFNTGGabZE2nbOp5GuXc1J ttEycn66h1K6aD8m1a5D6sS7HSqTWnxbEHLCxaJJH60GnDvNud/JnPMrziehPJ2rjWppOkF/aHE xchYPZobOGtGJnCPpqp8w9K2SbtuS7OO/M6rVghdZ4rRZGJ2kg== X-Google-Smtp-Source: AGHT+IHPXBn9C05j1wuwXHYP6EfFY8vhVKZDzxTp3GKJz4Y6igaX9bxJzco+yNEtVDKeaDoeOAHW6B/K/4my X-Received: by 2002:a05:6e02:3a04:b0:42e:70fd:f5a1 with SMTP id e9e14a558f8ab-42f8735560cmr275650105ab.3.1760434216845; Tue, 14 Oct 2025 02:30:16 -0700 (PDT) Received: from postal.iol.unh.edu (postal.iol.unh.edu. [2606:4100:3880:1234::84]) by smtp-relay.gmail.com with ESMTPS id e9e14a558f8ab-430a1363245sm1126575ab.0.2025.10.14.02.30.16 (version=TLS1_2 cipher=ECDHE-ECDSA-AES128-GCM-SHA256 bits=128/128); Tue, 14 Oct 2025 02:30:16 -0700 (PDT) X-Relaying-Domain: iol.unh.edu Date: Tue, 14 Oct 2025 02:30:16 -0700 (PDT) Message-ID: <68ee1828.050a0220.241194.584fSMTPIN_ADDED_MISSING@mx.google.com> Received: from [172.21.0.3] (unknown [172.18.0.240]) by postal.iol.unh.edu (Postfix) with ESMTP id 63CDC6051830; Tue, 14 Oct 2025 05:30:16 -0400 (EDT) Subject: |SUCCESS| pw157532-157546 [PATCH] [15/15] net/dpaa2: add Policer sta From: dpdklab@iol.unh.edu To: Test Report Cc: dpdk-test-reports@iol.unh.edu In-Reply-To: <20251014064035.1312896-16-prashant.gupta_3@nxp.com> References: <20251014064035.1312896-16-prashant.gupta_3@nxp.com> Content-Type: text/plain X-BeenThere: test-report@dpdk.org X-Mailman-Version: 2.1.29 Precedence: list List-Id: automatic DPDK test reports List-Unsubscribe: , List-Archive: List-Post: List-Help: List-Subscribe: , Errors-To: test-report-bounces@dpdk.org Test-Label: iol-unit-amd64-testing Test-Status: SUCCESS http://dpdk.org/patch/157546 _Testing PASS_ Submitter: Prashant Gupta Date: Tuesday, October 14 2025 06:40:35 DPDK git baseline: Repo:dpdk Branch: master CommitID:2b403dd8fb37d0ba13723e44ffc7ee2c2795f838 157532-157546 --> testing pass Upstream job id: Generic-VM-Unit-Test-DPDK#31771 Test environment and result as below: +-------------------------------+----------------+ | Environment | dpdk_unit_test | +===============================+================+ | CentOS Stream 10 | PASS | +-------------------------------+----------------+ | Fedora Linux 41 | PASS | +-------------------------------+----------------+ | Fedora Linux 40 | PASS | +-------------------------------+----------------+ | Fedora Linux 42 | PASS | +-------------------------------+----------------+ | CentOS Stream 9 | PASS | +-------------------------------+----------------+ | Ubuntu 22.04 | PASS | +-------------------------------+----------------+ | Ubuntu 20.04 | PASS | +-------------------------------+----------------+ | Debian GNU/Linux 12 | PASS | +-------------------------------+----------------+ | Red Hat Enterprise Linux 8.10 | PASS | +-------------------------------+----------------+ | Ubuntu 24.04 | PASS | +-------------------------------+----------------+ | Red Hat Enterprise Linux 9.5 | PASS | +-------------------------------+----------------+ | Windows Server 2022 | PASS | +-------------------------------+----------------+ CentOS Stream 10 Kernel: 5.15 Compiler: gcc gcc (GCC) 14.2.1 20250110 (Red Hat 14.2.1-8) Fedora Linux 41 Kernel: 5.15 Compiler: clang gcc (GCC) 14.3.1 20250523 (Red Hat 14.3.1-1) Fedora Linux 40 Kernel: 5.15 Compiler: gcc gcc (GCC) 14.2.1 20240912 (Red Hat 14.2.1-3) Fedora Linux 42 Kernel: 5.15 Compiler: clang gcc (GCC) 15.2.1 20250808 (Red Hat 15.2.1-1) CentOS Stream 9 Kernel: 5.15 Compiler: gcc gcc (GCC) 11.5.0 20240719 (Red Hat 11.5.0-11) Ubuntu 22.04 Kernel: 5.15 Compiler: gcc gcc (Ubuntu 11.4.0-1ubuntu1~22.04) 11.4.0 Ubuntu 20.04 Kernel: 5.15 Compiler: gcc gcc (Ubuntu 9.4.0-1ubuntu1~20.04.2) 9.4.0 Debian GNU/Linux 12 Kernel: 5.15 Compiler: gcc gcc (Debian 12.2.0-14+deb12u1) 12.2.0 Red Hat Enterprise Linux 8.10 Kernel: 5.15 Compiler: gcc gcc (GCC) 8.5.0 20210514 (Red Hat 8.5.0-22) Ubuntu 24.04 Kernel: 5.15 Compiler: gcc gcc (Ubuntu 13.3.0-6ubuntu2~24.04) 13.3.0 Red Hat Enterprise Linux 9.5 Kernel: 5.15 Compiler: gcc gcc (GCC) 11.5.0 20240719 (Red Hat 11.5.0-2) Windows Server 2022 Kernel: 10.0.20348.2031 Compiler: clang 15.0.7, gcc 14.1.0 (MinGW), and MSVC VS 19.39.33521 To view detailed results, visit: https://lab.dpdk.org/results/dashboard/patchsets/34269/ UNH-IOL DPDK Community Lab To manage your email subscriptions, visit: https://lab.dpdk.org/results/dashboard/preferences/subscriptions/