From mboxrd@z Thu Jan 1 00:00:00 1970 Return-Path: Received: from mails.dpdk.org (mails.dpdk.org [217.70.189.124]) by inbox.dpdk.org (Postfix) with ESMTP id 51FE848933 for ; Tue, 14 Oct 2025 11:36:01 +0200 (CEST) Received: from mails.dpdk.org (localhost [127.0.0.1]) by mails.dpdk.org (Postfix) with ESMTP id 4B7BB402A8; Tue, 14 Oct 2025 11:36:01 +0200 (CEST) Received: from mail-pj1-f98.google.com (mail-pj1-f98.google.com [209.85.216.98]) by mails.dpdk.org (Postfix) with ESMTP id AF997402A8 for ; Tue, 14 Oct 2025 11:35:59 +0200 (CEST) Received: by mail-pj1-f98.google.com with SMTP id 98e67ed59e1d1-330b0bb4507so4560819a91.3 for ; Tue, 14 Oct 2025 02:35:59 -0700 (PDT) DKIM-Signature: v=1; a=rsa-sha256; c=relaxed/relaxed; d=iol.unh.edu; s=unh-iol; t=1760434559; x=1761039359; darn=dpdk.org; h=cc:to:from:subject:message-id:date:from:to:cc:subject:date :message-id:reply-to; bh=RkNAoeS3hQHUkrYrA3gdflzTEJwgg0O2TS6tFSgWoXQ=; b=ObrQ65ei9DByMOjVnWQlX/MGGds94UYDiXGimLOq1fVGJe70oUqZ2AdwdekIPo3HYg zkYxmCREAZTS4+uddet6uWtn3l3+PVGqm2fnTK/yCz6bnEQdhW5ajMwvGbxgApMiG1wn EQ4CB2e3mFJY44w7uOHPYF6sQWjXoOkWR1R9U= X-Google-DKIM-Signature: v=1; a=rsa-sha256; c=relaxed/relaxed; d=1e100.net; s=20230601; t=1760434559; x=1761039359; h=cc:to:from:subject:message-id:date:x-gm-message-state:from:to:cc :subject:date:message-id:reply-to; bh=RkNAoeS3hQHUkrYrA3gdflzTEJwgg0O2TS6tFSgWoXQ=; b=vukjeleFhDGTysAeSvDljJHesHkDc2T1xiyaII501Dg8Eye9Okz6ZNlSE85y+E3OeX rvnYSvhsKXSZW6fk6bAE1Hi2DKcdWeLRaZKhITxuTIaLDWmBz3av0W2O/jPrKc3qRVQJ /5u+toLlImx73C1JxNhMFJxuorIlhbzE0fI2D2WmT4CswfpJGJZqfqk0ze7QG/bHQ98K ZSnzR6gTRxv7tU48s6kkOVty7fL0Om4tG9o65D80JEBbD55witAfn1m5EY2A1bji00AB BQAi259RdNSHFtJR61EXUnm1MR6WHpC5Jj3gfjD7KDZl0OXM0LEQw9kdNXcSv5YiaGXV o4Lw== X-Gm-Message-State: AOJu0Yy/Jf7k2nNH8lNQR677c5yRAs+2gLEwhLZvDwCmfNOkhTdq1UkJ MgpGYf6Rb2zn2cHYoCckalvjxPvRfKbPvvZcb1kVnno+VPNEEHcmS+JjqIYDH9TCj/ZbExJRUTE MGofG0L4DYdRAs8DU55NqMaZPjNvKxy23Dor2 X-Gm-Gg: ASbGnct6NQh6LRKRdJknMAVt4bYFuQxhhPEAwwUcOg5gmzCEBOqqkklfgMf2Atxp/5T glsD76kxETSO4nuQcE0ScSFDdFOUVAx9izzBHtWeE0mwZJUnWThmB4TPn3aSilVwyriOVkEgve5 m4rrqyThGVHvginvAGJ0Tu/XBofNWtF6g3o9sXrmAlRTLCf4TwA9PLVgixs9NXwB4uACKnpYMba JdVHFXKG0eQeAfN4X7Ab6Roveem8aEg1h3NOoj+pA7IBxvMvw2BWAE/z0tS7cJrXVY5IFa3rgeh TG4muinuNkOPayN3hT/1I7WPZZsJZ/NsD68F/VwGCJzWNVD/Z4XT7UnwGc55j1divbRcEFDB X-Google-Smtp-Source: AGHT+IEX+u0y6ysbdpeIPz5MAhu0KBicOAD0uBxcDU5rNmt5DsxkqBIhYnws9GZmmB5D7XqoThOlGqnYdnfT X-Received: by 2002:a17:90b:1b42:b0:32d:17ce:49de with SMTP id 98e67ed59e1d1-33b510ff459mr31428678a91.4.1760434558845; Tue, 14 Oct 2025 02:35:58 -0700 (PDT) Received: from postal.iol.unh.edu (postal.iol.unh.edu. [132.177.123.84]) by smtp-relay.gmail.com with ESMTPS id 98e67ed59e1d1-33b8ac44003sm193867a91.2.2025.10.14.02.35.58 (version=TLS1_2 cipher=ECDHE-ECDSA-AES128-GCM-SHA256 bits=128/128); Tue, 14 Oct 2025 02:35:58 -0700 (PDT) X-Relaying-Domain: iol.unh.edu Date: Tue, 14 Oct 2025 02:35:58 -0700 (PDT) Message-ID: <68ee197e.170a0220.1c28f8.9aacSMTPIN_ADDED_MISSING@mx.google.com> Received: from [172.21.0.5] (unknown [172.18.0.240]) by postal.iol.unh.edu (Postfix) with ESMTP id 229DE6051830; Tue, 14 Oct 2025 05:35:58 -0400 (EDT) Subject: |SUCCESS| [GIT MASTER] b287e404643aeab5bb5db084c142789df187844e From: dpdklab@iol.unh.edu To: Test Report Cc: dpdk-test-reports@iol.unh.edu, Xueming Li , Christian Ehrhardt , Kevin Traynor , Luca Boccassi Content-Type: text/plain X-BeenThere: test-report@dpdk.org X-Mailman-Version: 2.1.29 Precedence: list List-Id: automatic DPDK test reports List-Unsubscribe: , List-Archive: List-Post: List-Help: List-Subscribe: , Errors-To: test-report-bounces@dpdk.org _Testing PASS_ Branch: tags/v24.11 b287e404643aeab5bb5db084c142789df187844e --> testing pass Upstream job id: Generic-DPDK-Compile-Meson#433897 Test environment and result as below: +------------------------------+--------------------+ | Environment | dpdk_meson_compile | +==============================+====================+ | Red Hat Enterprise Linux 9.5 | PASS | +------------------------------+--------------------+ | Ubuntu 20.04 | PASS | +------------------------------+--------------------+ | Debian GNU/Linux 12 | PASS | +------------------------------+--------------------+ | Ubuntu 22.04 | PASS | +------------------------------+--------------------+ | Ubuntu 24.04 | PASS | +------------------------------+--------------------+ | Fedora Linux 42 | PASS | +------------------------------+--------------------+ | CentOS Stream 9 | PASS | +------------------------------+--------------------+ | CentOS Stream 10 | PASS | +------------------------------+--------------------+ Red Hat Enterprise Linux 9.5 Kernel: 5.4 Compiler: gcc gcc (GCC) 11.5.0 20240719 (Red Hat 11.5.0-2) Ubuntu 20.04 Kernel: 5.15 Compiler: aarch64-linux-gnu-gcc gcc (Ubuntu 9.4.0-1ubuntu1~20.04.2) 9.4.0 Debian GNU/Linux 12 Kernel: 5.4 Compiler: gcc gcc (Debian 12.2.0-14+deb12u1) 12.2.0 Ubuntu 22.04 Kernel: 5.4 Compiler: gcc gcc (Ubuntu 11.4.0-1ubuntu1~22.04) 11.4.0 Ubuntu 24.04 Kernel: 5.4 Compiler: gcc gcc (Ubuntu 13.3.0-6ubuntu2~24.04) 13.3.0 Fedora Linux 42 Kernel: 5.4 Compiler: gcc gcc (GCC) 15.2.1 20250808 (Red Hat 15.2.1-1) CentOS Stream 9 Kernel: 5.4 Compiler: gcc gcc (GCC) 11.5.0 20240719 (Red Hat 11.5.0-11) CentOS Stream 10 Kernel: 5.4 Compiler: gcc gcc (GCC) 14.2.1 20250110 (Red Hat 14.2.1-8) To view detailed results, visit: https://lab.dpdk.org/results/dashboard/tarballs/35193/ UNH-IOL DPDK Community Lab To manage your email subscriptions, visit: https://lab.dpdk.org/results/dashboard/preferences/subscriptions/