From mboxrd@z Thu Jan 1 00:00:00 1970 Return-Path: Received: from mails.dpdk.org (mails.dpdk.org [217.70.189.124]) by inbox.dpdk.org (Postfix) with ESMTP id 4382F48933 for ; Tue, 14 Oct 2025 11:53:04 +0200 (CEST) Received: from mails.dpdk.org (localhost [127.0.0.1]) by mails.dpdk.org (Postfix) with ESMTP id 3D6C1402A8; Tue, 14 Oct 2025 11:53:04 +0200 (CEST) Received: from mail-qk1-f225.google.com (mail-qk1-f225.google.com [209.85.222.225]) by mails.dpdk.org (Postfix) with ESMTP id A1EF3402A8 for ; Tue, 14 Oct 2025 11:53:02 +0200 (CEST) Received: by mail-qk1-f225.google.com with SMTP id af79cd13be357-855d525cd00so903981885a.2 for ; Tue, 14 Oct 2025 02:53:02 -0700 (PDT) DKIM-Signature: v=1; a=rsa-sha256; c=relaxed/relaxed; d=iol.unh.edu; s=unh-iol; t=1760435582; x=1761040382; darn=dpdk.org; h=references:in-reply-to:cc:to:from:subject:message-id:date:from:to :cc:subject:date:message-id:reply-to; bh=wLxtnHvpqE9AbWBLIzBdJ27pkFqDjRfLcQyi7myPD6Q=; b=QmH9G7s7fIEpYW5LnArqcHkw4PFSCBw00c/0KkAGURMpeetw8iCXEMk6oOmbpsrvMH UNiAKvcL0viOkOsbEDVqK1RLpyiaKAkCEzArxY48P8LIfRhczPlq0cRI4G7NswjH2pvS ZlGeFoFw2eiI0S5vr1uekuMcZd7YHi9Rv9NwQ= X-Google-DKIM-Signature: v=1; a=rsa-sha256; c=relaxed/relaxed; d=1e100.net; s=20230601; t=1760435582; x=1761040382; h=references:in-reply-to:cc:to:from:subject:message-id:date :x-gm-message-state:from:to:cc:subject:date:message-id:reply-to; bh=wLxtnHvpqE9AbWBLIzBdJ27pkFqDjRfLcQyi7myPD6Q=; b=eKrSauNOgnCqyFfaucbTizCzzCCkABewVJtSciQ8IbRmqbiz6HM+5qEHYjQrqVjbwv XuVpeYLHpOMrRHoO9IwbdPVRBNmOTYNWzuuLWAhtuX4Qv7c4RgaVrUByxs3jabsufmGj 4fNVufgB6o3bjWYtl7vhYeW6cmOwOjYpSbA9MSUxwXRPMb3zP6JIBF7IhOxIUEG9KwVn lQVx963RNrMR0pfxDRQtRbuKX3NwWv1ruWnpDmgl8vEa6HkCYPKUHB/5WBMRWdk1oRto hEVRMyKG9UOMy+lm6T9UWbA3nsTYpw01DYH79zTZbaRNnG7e4hQsGKVgZB96OfqwBm2B rXIA== X-Gm-Message-State: AOJu0YzjdtNjtZ5VnagNQrvpsjVxXvkZ2SYk6TJmE/JkZZaoLpDF/ydg AZu4+dzg86rJwfeYJRvKuMfR6JAn91fcbE2m6VbDRXpr5GTmsQjRp4F0/UPEUWjcXOf0E31wYzB bJpTByl4riCG83zrmzj8hg8OE2UXtMSYHafVbkdZlHwT7 X-Gm-Gg: ASbGncub/UkVUkzy/rbY32KTsS9zkpmLN64/ZWhh2LXuBdvK6Of4CT8zzbQwmXkSMwd o7crb/T3cozgbSV+AuR6L3vPvPk0lHBkfZUXkRvq8nbmC06TA123FnMf9PE/SZ6XC+q6pjiH8nT 1UooDnz3cW0MmGIVc5wKQelMKa0G8ukCQd2aJuVnZ676vshCqrMiniUBDslh4OJlgSqfSEtu0cB Yhf3T8axDTYbTH+noASF5AKNjb2d/vd1A3n960MI1SkUEPB23eHFW5CJ1EBCYE8N+MB3iy6hONB yzjm4MWZrWcgKmB/2WR8NHAtugebU8MQ+Af8kapOBLG1Je+hf3cMFKjEwMKoquf0+NQjbgbo X-Google-Smtp-Source: AGHT+IGZXuSjaYyXzqHOR8IBjKxFocuNC32X4q0Znjf0MofAb/QJ9wWVmZ/p0zvjfFi992EV2SGeFeZ8y4ZA X-Received: by 2002:a05:620a:4492:b0:865:cacf:e133 with SMTP id af79cd13be357-8835104c86bmr2776088385a.36.1760435581903; Tue, 14 Oct 2025 02:53:01 -0700 (PDT) Received: from postal.iol.unh.edu (postal.iol.unh.edu. [132.177.123.84]) by smtp-relay.gmail.com with ESMTPS id 6a1803df08f44-87bc3462a0asm10605426d6.16.2025.10.14.02.53.01 (version=TLS1_2 cipher=ECDHE-ECDSA-AES128-GCM-SHA256 bits=128/128); Tue, 14 Oct 2025 02:53:01 -0700 (PDT) X-Relaying-Domain: iol.unh.edu Date: Tue, 14 Oct 2025 02:53:01 -0700 (PDT) Message-ID: <68ee1d7d.0c0a0220.106fb1.4ee8SMTPIN_ADDED_MISSING@mx.google.com> Received: from [172.21.0.2] (unknown [172.18.0.240]) by postal.iol.unh.edu (Postfix) with ESMTP id 9E9966051830; Tue, 14 Oct 2025 05:53:01 -0400 (EDT) Subject: |SUCCESS| pw157547 [PATCH] devtools: honor -n flag regardless of std From: dpdklab@iol.unh.edu To: Test Report Cc: dpdk-test-reports@iol.unh.edu In-Reply-To: <20251014074340.2364328-1-alialnu@nvidia.com> References: <20251014074340.2364328-1-alialnu@nvidia.com> Content-Type: text/plain X-BeenThere: test-report@dpdk.org X-Mailman-Version: 2.1.29 Precedence: list List-Id: automatic DPDK test reports List-Unsubscribe: , List-Archive: List-Post: List-Help: List-Subscribe: , Errors-To: test-report-bounces@dpdk.org Test-Label: iol-unit-amd64-testing Test-Status: SUCCESS http://dpdk.org/patch/157547 _Testing PASS_ Submitter: Ali Alnubani Date: Tuesday, October 14 2025 07:43:40 DPDK git baseline: Repo:dpdk Branch: master CommitID:2b403dd8fb37d0ba13723e44ffc7ee2c2795f838 157547 --> testing pass Upstream job id: Generic-Unit-Test-DPDK#381152 Test environment and result as below: +-------------------------------+----------------+ | Environment | dpdk_unit_test | +===============================+================+ | CentOS Stream 10 | PASS | +-------------------------------+----------------+ | CentOS Stream 9 | PASS | +-------------------------------+----------------+ | Debian GNU/Linux 12 | PASS | +-------------------------------+----------------+ | Fedora Linux 40 | PASS | +-------------------------------+----------------+ | Fedora Linux 41 | PASS | +-------------------------------+----------------+ | Red Hat Enterprise Linux 8.10 | PASS | +-------------------------------+----------------+ | Fedora Linux 42 | PASS | +-------------------------------+----------------+ | Ubuntu 22.04 | PASS | +-------------------------------+----------------+ | Ubuntu 20.04 | PASS | +-------------------------------+----------------+ | Red Hat Enterprise Linux 9.5 | PASS | +-------------------------------+----------------+ | Ubuntu 24.04 | PASS | +-------------------------------+----------------+ CentOS Stream 10 Kernel: 5.15 Compiler: gcc gcc (GCC) 14.2.1 20250110 (Red Hat 14.2.1-8) CentOS Stream 9 Kernel: 5.15 Compiler: gcc gcc (GCC) 11.5.0 20240719 (Red Hat 11.5.0-11) Debian GNU/Linux 12 Kernel: 5.15 Compiler: gcc gcc (Debian 12.2.0-14+deb12u1) 12.2.0 Fedora Linux 40 Kernel: 5.15 Compiler: gcc gcc (GCC) 14.2.1 20240912 (Red Hat 14.2.1-3) Fedora Linux 41 Kernel: 5.15 Compiler: clang gcc (GCC) 14.3.1 20250523 (Red Hat 14.3.1-1) Red Hat Enterprise Linux 8.10 Kernel: 5.15 Compiler: gcc gcc (GCC) 8.5.0 20210514 (Red Hat 8.5.0-22) Fedora Linux 42 Kernel: 5.15 Compiler: gcc gcc (GCC) 15.2.1 20250808 (Red Hat 15.2.1-1) Ubuntu 22.04 Kernel: 5.15 Compiler: gcc gcc (Ubuntu 11.4.0-1ubuntu1~22.04) 11.4.0 Ubuntu 20.04 Kernel: 5.15 Compiler: gcc gcc (Ubuntu 9.4.0-1ubuntu1~20.04.2) 9.4.0 Red Hat Enterprise Linux 9.5 Kernel: 5.15 Compiler: gcc gcc (GCC) 11.5.0 20240719 (Red Hat 11.5.0-2) Ubuntu 24.04 Kernel: 5.15 Compiler: gcc gcc (Ubuntu 13.3.0-6ubuntu2~24.04) 13.3.0 To view detailed results, visit: https://lab.dpdk.org/results/dashboard/patchsets/34271/ UNH-IOL DPDK Community Lab To manage your email subscriptions, visit: https://lab.dpdk.org/results/dashboard/preferences/subscriptions/