From mboxrd@z Thu Jan 1 00:00:00 1970 Return-Path: Received: from mails.dpdk.org (mails.dpdk.org [217.70.189.124]) by inbox.dpdk.org (Postfix) with ESMTP id C4DE348933 for ; Tue, 14 Oct 2025 11:57:39 +0200 (CEST) Received: from mails.dpdk.org (localhost [127.0.0.1]) by mails.dpdk.org (Postfix) with ESMTP id A4564402A8; Tue, 14 Oct 2025 11:57:39 +0200 (CEST) Received: from mail-vk1-f227.google.com (mail-vk1-f227.google.com [209.85.221.227]) by mails.dpdk.org (Postfix) with ESMTP id D84BD402A8 for ; Tue, 14 Oct 2025 11:57:38 +0200 (CEST) Received: by mail-vk1-f227.google.com with SMTP id 71dfb90a1353d-54a8f6a2d80so1689709e0c.3 for ; Tue, 14 Oct 2025 02:57:38 -0700 (PDT) DKIM-Signature: v=1; a=rsa-sha256; c=relaxed/relaxed; d=iol.unh.edu; s=unh-iol; t=1760435858; x=1761040658; darn=dpdk.org; h=references:in-reply-to:cc:to:from:subject:message-id:date:from:to :cc:subject:date:message-id:reply-to; bh=hMTyGkKXndrPRCEugfi24VoHP/eqdgGAEoBzsrrnY+k=; b=UKR2opbvSvWhFCI2alqxrCVlornBuejVBb5s1Jdqz+Ocffz0gu9qFIauSMPgUuBP1m ETfCSSxCvvu7+dRW8Syhp+ITrBtDoj+m9GChYRavVPpeaBwqdSivGrT7TvTOgNiySNfP jRKOgImTzzGfPN49Guw1mqfdUSJVhm1c9NXf8= X-Google-DKIM-Signature: v=1; a=rsa-sha256; c=relaxed/relaxed; d=1e100.net; s=20230601; t=1760435858; x=1761040658; h=references:in-reply-to:cc:to:from:subject:message-id:date :x-gm-message-state:from:to:cc:subject:date:message-id:reply-to; bh=hMTyGkKXndrPRCEugfi24VoHP/eqdgGAEoBzsrrnY+k=; b=u/gWFr3+kGPJmzsCpUatmZ4eugLK8Ct0GIkQ9kRIFXsH8X/yIbu/Eo4/Ct7yHXBAxL Lx74NK6ePGOa+6leWfr7na/tB9bEfKaYSN25SGQCTBMgeGik4lY3x2QnkDq7K0f5P4SB A4NU9EECiJwSOVR9bW1GVLuLKBIq+vLh3yllH5tuS0FJOOLepTPbFYat6umFY5L9SN+I Eg/8LdB1Ne4ZoUH8Fd5rxNTVohfdKkZ2WPwo0j6ArT6yuHZ8AYb7tn4uOEcPplnrwF6/ ChcOgXzavt2WWRz6/cFsjkrtEtyQhxecDCCk/pAMgm9Gowce1RnUe1yS7rBR1npndlcH BIiw== X-Gm-Message-State: AOJu0Yy1cfdZxB2eM6vNbN3K+bImi51HiwPpvveZecRs/LPUw2N4PYfX VWgpB9E3IvmQI+LfH7VyyaRDviS3kqyWrEK5CBAyc7BgqOuAmlMlwPmkoYVku17qNJtizPg9RSR iq0hJo8iuh08T30ZGoF4OUhLJYRuUqFOKwm2ecZz3DiNyFS5kcT5+UykInSOA X-Gm-Gg: ASbGncu9SMd0cE5M3hZdQkg9C5M/8P/W2WwtVK1QJrT6wbHoCCSxQ0J7Jzx5BKLQyes K1JdBK5JTDR4SMz2HJU/EDXufoTsfOcYK0EnnugunqI8uVDCSjS8NGKfN2L1wQSvkh13KfpNsYz O4tJbMwkkIi3H1mEj/VIFg2wEc2SKi/6YgrMhnob6MpSuCWHiGp0QWiS0jDt0TIl3EUgKekGr+v vG+yZOEiiwRECwhJsThzFZamDp8UtIyyDLmdqVYyBO5PM0wgprIKdo+IHx3qoxz6v6Q/hkXASLJ qqbYUCM7dLKaXZAozvfUqIheT4uD552vKzMpCoh0W9vs/4C+1g== X-Google-Smtp-Source: AGHT+IHUxIfSKY89ZBeKbciXSpeUlKRtDhO2fEt/YyX/ZkAtAvxIV2hRhh5l7Ea+z+5VLUgOcxHBl0BIlDQP X-Received: by 2002:a05:6122:2228:b0:54c:da0:f708 with SMTP id 71dfb90a1353d-554b8bb8c55mr7555953e0c.9.1760435858092; Tue, 14 Oct 2025 02:57:38 -0700 (PDT) Received: from postal.iol.unh.edu (postal.iol.unh.edu. [2606:4100:3880:1234::84]) by smtp-relay.gmail.com with ESMTPS id 71dfb90a1353d-554d803b7fcsm1314575e0c.8.2025.10.14.02.57.38 (version=TLS1_2 cipher=ECDHE-ECDSA-AES128-GCM-SHA256 bits=128/128); Tue, 14 Oct 2025 02:57:38 -0700 (PDT) X-Relaying-Domain: iol.unh.edu Date: Tue, 14 Oct 2025 02:57:38 -0700 (PDT) Message-ID: <68ee1e92.050a0220.27047e.0bbcSMTPIN_ADDED_MISSING@mx.google.com> Received: from [172.21.0.2] (unknown [172.18.0.240]) by postal.iol.unh.edu (Postfix) with ESMTP id B48D66051830; Tue, 14 Oct 2025 05:57:37 -0400 (EDT) Subject: |SUCCESS| pw157517-157531 [PATCH] [15/15] net/dpaa2: add Policer sta From: dpdklab@iol.unh.edu To: Test Report Cc: dpdk-test-reports@iol.unh.edu In-Reply-To: <20251014060045.1304694-16-prashant.gupta_3@nxp.com> References: <20251014060045.1304694-16-prashant.gupta_3@nxp.com> Content-Type: text/plain X-BeenThere: test-report@dpdk.org X-Mailman-Version: 2.1.29 Precedence: list List-Id: automatic DPDK test reports List-Unsubscribe: , List-Archive: List-Post: List-Help: List-Subscribe: , Errors-To: test-report-bounces@dpdk.org Test-Label: iol-compile-amd64-testing Test-Status: SUCCESS http://dpdk.org/patch/157531 _Testing PASS_ Submitter: Prashant Gupta Date: Tuesday, October 14 2025 06:00:45 DPDK git baseline: Repo:dpdk Branch: master CommitID:2b403dd8fb37d0ba13723e44ffc7ee2c2795f838 157517-157531 --> testing pass Upstream job id: Windows-Compile-DPDK-VS#7185 Test environment and result as below: +-------------------------------+--------------------+-------------------+------------------+-------------------+ | Environment | dpdk_meson_compile | dpdk_compile_spdk | dpdk_compile_ovs | dpdk_msvc_compile | +===============================+====================+===================+==================+===================+ | FreeBSD 14.2 | PASS | SKIPPED | SKIPPED | SKIPPED | +-------------------------------+--------------------+-------------------+------------------+-------------------+ | Ubuntu 20.04 | PASS | SKIPPED | SKIPPED | SKIPPED | +-------------------------------+--------------------+-------------------+------------------+-------------------+ | CentOS Stream 9 | PASS | PASS | SKIPPED | SKIPPED | +-------------------------------+--------------------+-------------------+------------------+-------------------+ | CentOS Stream 10 | PASS | SKIPPED | SKIPPED | SKIPPED | +-------------------------------+--------------------+-------------------+------------------+-------------------+ | Debian GNU/Linux 12 | PASS | PASS | SKIPPED | SKIPPED | +-------------------------------+--------------------+-------------------+------------------+-------------------+ | Fedora Linux 42 | PASS | PASS | PASS | SKIPPED | +-------------------------------+--------------------+-------------------+------------------+-------------------+ | Red Hat Enterprise Linux 8.10 | PASS | SKIPPED | SKIPPED | SKIPPED | +-------------------------------+--------------------+-------------------+------------------+-------------------+ | openSUSE Leap 15.6 | PASS | SKIPPED | SKIPPED | SKIPPED | +-------------------------------+--------------------+-------------------+------------------+-------------------+ | Red Hat Enterprise Linux 9.5 | PASS | SKIPPED | SKIPPED | SKIPPED | +-------------------------------+--------------------+-------------------+------------------+-------------------+ | Alpine Linux 3.22.0 | PASS | SKIPPED | SKIPPED | SKIPPED | +-------------------------------+--------------------+-------------------+------------------+-------------------+ | Ubuntu 24.04 | PASS | PASS | PASS | SKIPPED | +-------------------------------+--------------------+-------------------+------------------+-------------------+ | Ubuntu 22.04 | PASS | PASS | SKIPPED | SKIPPED | +-------------------------------+--------------------+-------------------+------------------+-------------------+ | Windows Server 2022 | SKIPPED | SKIPPED | SKIPPED | PASS | +-------------------------------+--------------------+-------------------+------------------+-------------------+ FreeBSD 14.2 Kernel: 14.2-RELEASE Compiler: clang 18.1.6 Ubuntu 20.04 Kernel: 4.19 Compiler: gcc gcc (Ubuntu 9.4.0-1ubuntu1~20.04.2) 9.4.0 CentOS Stream 9 Kernel: 5.15 Compiler: gcc gcc (GCC) 11.5.0 20240719 (Red Hat 11.5.0-11) CentOS Stream 10 Kernel: 5.15 Compiler: gcc gcc (GCC) 14.2.1 20250110 (Red Hat 14.2.1-8) Debian GNU/Linux 12 Kernel: 5.15 Compiler: gcc gcc (Debian 12.2.0-14+deb12u1) 12.2.0 Fedora Linux 42 Kernel: 5.15 Compiler: clang gcc (GCC) 15.2.1 20250808 (Red Hat 15.2.1-1) Red Hat Enterprise Linux 8.10 Kernel: 5.15 Compiler: gcc gcc (GCC) 8.5.0 20210514 (Red Hat 8.5.0-22) openSUSE Leap 15.6 Kernel: 5.15 Compiler: gcc gcc (SUSE Linux) 7.5.0 Red Hat Enterprise Linux 9.5 Kernel: 5.15 Compiler: gcc gcc (GCC) 11.5.0 20240719 (Red Hat 11.5.0-2) Alpine Linux 3.22.0 Kernel: 5.15 Compiler: gcc gcc (Alpine 14.2.0) 14.2.0 Ubuntu 24.04 Kernel: 5.15 Compiler: gcc gcc (Ubuntu 13.3.0-6ubuntu2~24.04) 13.3.0 Ubuntu 22.04 Kernel: 5.15 Compiler: gcc gcc (Ubuntu 11.4.0-1ubuntu1~22.04) 11.4.0 Windows Server 2022 Kernel: 10.0.20348.2031 Compiler: clang 15.0.7, gcc 14.1.0 (MinGW), and MSVC VS 19.39.33521 To view detailed results, visit: https://lab.dpdk.org/results/dashboard/patchsets/34270/ UNH-IOL DPDK Community Lab To manage your email subscriptions, visit: https://lab.dpdk.org/results/dashboard/preferences/subscriptions/