From mboxrd@z Thu Jan 1 00:00:00 1970 Return-Path: Received: from mails.dpdk.org (mails.dpdk.org [217.70.189.124]) by inbox.dpdk.org (Postfix) with ESMTP id D3B2D48933 for ; Tue, 14 Oct 2025 11:59:10 +0200 (CEST) Received: from mails.dpdk.org (localhost [127.0.0.1]) by mails.dpdk.org (Postfix) with ESMTP id CE03F402A8; Tue, 14 Oct 2025 11:59:10 +0200 (CEST) Received: from mail-il1-f225.google.com (mail-il1-f225.google.com [209.85.166.225]) by mails.dpdk.org (Postfix) with ESMTP id EDE91402A8 for ; Tue, 14 Oct 2025 11:59:09 +0200 (CEST) Received: by mail-il1-f225.google.com with SMTP id e9e14a558f8ab-43090377002so9468685ab.0 for ; Tue, 14 Oct 2025 02:59:09 -0700 (PDT) DKIM-Signature: v=1; a=rsa-sha256; c=relaxed/relaxed; d=iol.unh.edu; s=unh-iol; t=1760435949; x=1761040749; darn=dpdk.org; h=references:in-reply-to:cc:to:from:subject:message-id:date:from:to :cc:subject:date:message-id:reply-to; bh=BNPboyurw6O/DZ8fBMCBcXHRQcboLA+8soc0FPvDpcM=; b=PamZViQRPHDpVOiWGKBod5OwhcuiKXRsvv4g2X2V49yned9MxtnJ3YpICureLI2IL9 M6O4GN0aEotcOifdNCphU30y0sVKX428gldgSL4IlceHn1Qc1P5p7T4AzvU2riXIHeHI HB4cQWYbUJEWPIQDD3eTSmqVHjLkiYlWgX4zw= X-Google-DKIM-Signature: v=1; a=rsa-sha256; c=relaxed/relaxed; d=1e100.net; s=20230601; t=1760435949; x=1761040749; h=references:in-reply-to:cc:to:from:subject:message-id:date :x-gm-message-state:from:to:cc:subject:date:message-id:reply-to; bh=BNPboyurw6O/DZ8fBMCBcXHRQcboLA+8soc0FPvDpcM=; b=Bj6RS6LNZb2d7b74QViH26h8QersvjFPjg3V+15PJrStoe8Kd5T5MTwgm4zcIrm8qo cOtXG9jB8txOjlvjowSvz6Cglk4riwckFDNXg6i7YkU27VUPLiNBqZurckhNUKJqf2g5 CTXLceqCRMyGVchxo/ubVWqtss67LC0KRpAUHCAkXyeCPuQsycu4cLCfgZpMy0+azw8a Yb6R08QbjAl3CBC0Kd6wSamMoCC/fRr4pUFW18rgKZzQeVWf8DEE3BmH1X05ItbKvq8E 800BbR2HXTPF5QayvG3v4DB21BHURAdo2DUe8o1MRpDQuMxPM9QhkzGdZB7bkoffiz5P wYNg== X-Gm-Message-State: AOJu0YyI6l9dYoUttOfBlLvWev7hdKett8YmvnUeWTqox9OdBY9oVIZu q/BXOji17RpT9T190YJzEkCBXP8N6yl9QMZITbVuG8VvZFuXyGTcIX0Fbvqm/rYrnEBPrWIRRAj Ak/mdJERG1f+XxLQ5qABvLryHCcY2qiUnVVn0zoOuZ3Jssdj874et9ESpShVA X-Gm-Gg: ASbGncu+k5tqR9oulbHbj/h9rBYFGKg+ds+f0WZCb1DB9/W5XiC0r4GxV3MtSBFBuz6 gAoHo1dJzd4MMWKjyko9nRQKMUQz+iIdRRhUpl0n5VaRL3V3p68BQg1HUk0Y/u0DQDyydYg5npW 040JYg+o4tDZZBpkkncXKYRDp96L7DpAlmcVH/QzZdT9aaiAI0dUhY2oFCMa8PIbvf35DsmDJLk IH2p+3vuTimRcbpD0UGM3WMZ0DpI5IXirHDU+wt/K0YItSBtatm3cUp8btZ5POqKtlsXE9y9gCd OoeLP4KIUkSWs6e863G+rRINBjgHS7it2hSCLjY5JCed6oeHWQ== X-Google-Smtp-Source: AGHT+IERstnIuGRhvtDWSD+D3kiUTTunwswW6eKYWnFdeS/s85EbnVrNImyStK6/+tW8IferJwCVAlLRlQlo X-Received: by 2002:a05:6e02:1a48:b0:42f:9dd5:3ebc with SMTP id e9e14a558f8ab-42f9dd540fbmr156054665ab.23.1760435949189; Tue, 14 Oct 2025 02:59:09 -0700 (PDT) Received: from postal.iol.unh.edu (postal.iol.unh.edu. [2606:4100:3880:1234::84]) by smtp-relay.gmail.com with ESMTPS id e9e14a558f8ab-42f9031796esm9606825ab.18.2025.10.14.02.59.09 (version=TLS1_2 cipher=ECDHE-ECDSA-AES128-GCM-SHA256 bits=128/128); Tue, 14 Oct 2025 02:59:09 -0700 (PDT) X-Relaying-Domain: iol.unh.edu Date: Tue, 14 Oct 2025 02:59:09 -0700 (PDT) Message-ID: <68ee1eed.050a0220.4fb5e.20c9SMTPIN_ADDED_MISSING@mx.google.com> Received: from [172.21.0.2] (unknown [172.18.0.240]) by postal.iol.unh.edu (Postfix) with ESMTP id AD30B6051830; Tue, 14 Oct 2025 05:59:08 -0400 (EDT) Subject: |SUCCESS| pw157532-157546 [PATCH] [15/15] net/dpaa2: add Policer sta From: dpdklab@iol.unh.edu To: Test Report Cc: dpdk-test-reports@iol.unh.edu In-Reply-To: <20251014064035.1312896-16-prashant.gupta_3@nxp.com> References: <20251014064035.1312896-16-prashant.gupta_3@nxp.com> Content-Type: text/plain X-BeenThere: test-report@dpdk.org X-Mailman-Version: 2.1.29 Precedence: list List-Id: automatic DPDK test reports List-Unsubscribe: , List-Archive: List-Post: List-Help: List-Subscribe: , Errors-To: test-report-bounces@dpdk.org Test-Label: iol-compile-amd64-testing Test-Status: SUCCESS http://dpdk.org/patch/157546 _Testing PASS_ Submitter: Prashant Gupta Date: Tuesday, October 14 2025 06:40:35 DPDK git baseline: Repo:dpdk Branch: master CommitID:2b403dd8fb37d0ba13723e44ffc7ee2c2795f838 157532-157546 --> testing pass Upstream job id: Windows-Compile-DPDK-Native#31600 Test environment and result as below: +-------------------------------+--------------------+-------------------+------------------+-------------------+-------------------------+----------------------+ | Environment | dpdk_meson_compile | dpdk_compile_spdk | dpdk_compile_ovs | dpdk_msvc_compile | dpdk_llvm_clang_compile | dpdk_mingw64_compile | +===============================+====================+===================+==================+===================+=========================+======================+ | Ubuntu 20.04 | PASS | SKIPPED | SKIPPED | SKIPPED | SKIPPED | SKIPPED | +-------------------------------+--------------------+-------------------+------------------+-------------------+-------------------------+----------------------+ | FreeBSD 14.2 | PASS | SKIPPED | SKIPPED | SKIPPED | SKIPPED | SKIPPED | +-------------------------------+--------------------+-------------------+------------------+-------------------+-------------------------+----------------------+ | openSUSE Leap 15.6 | PASS | SKIPPED | SKIPPED | SKIPPED | SKIPPED | SKIPPED | +-------------------------------+--------------------+-------------------+------------------+-------------------+-------------------------+----------------------+ | CentOS Stream 10 | PASS | SKIPPED | SKIPPED | SKIPPED | SKIPPED | SKIPPED | +-------------------------------+--------------------+-------------------+------------------+-------------------+-------------------------+----------------------+ | Debian GNU/Linux 12 | PASS | PASS | SKIPPED | SKIPPED | SKIPPED | SKIPPED | +-------------------------------+--------------------+-------------------+------------------+-------------------+-------------------------+----------------------+ | Ubuntu 22.04 | PASS | PASS | SKIPPED | SKIPPED | SKIPPED | SKIPPED | +-------------------------------+--------------------+-------------------+------------------+-------------------+-------------------------+----------------------+ | CentOS Stream 9 | PASS | PASS | SKIPPED | SKIPPED | SKIPPED | SKIPPED | +-------------------------------+--------------------+-------------------+------------------+-------------------+-------------------------+----------------------+ | Fedora Linux 42 | PASS | PASS | PASS | SKIPPED | SKIPPED | SKIPPED | +-------------------------------+--------------------+-------------------+------------------+-------------------+-------------------------+----------------------+ | Red Hat Enterprise Linux 8.10 | PASS | SKIPPED | SKIPPED | SKIPPED | SKIPPED | SKIPPED | +-------------------------------+--------------------+-------------------+------------------+-------------------+-------------------------+----------------------+ | Red Hat Enterprise Linux 9.5 | PASS | SKIPPED | SKIPPED | SKIPPED | SKIPPED | SKIPPED | +-------------------------------+--------------------+-------------------+------------------+-------------------+-------------------------+----------------------+ | Ubuntu 24.04 | PASS | PASS | PASS | SKIPPED | SKIPPED | SKIPPED | +-------------------------------+--------------------+-------------------+------------------+-------------------+-------------------------+----------------------+ | Alpine Linux 3.22.0 | PASS | SKIPPED | SKIPPED | SKIPPED | SKIPPED | SKIPPED | +-------------------------------+--------------------+-------------------+------------------+-------------------+-------------------------+----------------------+ | Windows Server 2022 | SKIPPED | SKIPPED | SKIPPED | PASS | PASS | PASS | +-------------------------------+--------------------+-------------------+------------------+-------------------+-------------------------+----------------------+ Ubuntu 20.04 Kernel: 4.19 Compiler: gcc gcc (Ubuntu 9.4.0-1ubuntu1~20.04.2) 9.4.0 FreeBSD 14.2 Kernel: 14.2-RELEASE Compiler: clang 18.1.6 openSUSE Leap 15.6 Kernel: 5.15 Compiler: gcc gcc (SUSE Linux) 7.5.0 CentOS Stream 10 Kernel: 5.15 Compiler: gcc gcc (GCC) 14.2.1 20250110 (Red Hat 14.2.1-8) Debian GNU/Linux 12 Kernel: 5.15 Compiler: gcc gcc (Debian 12.2.0-14+deb12u1) 12.2.0 Ubuntu 22.04 Kernel: 5.15 Compiler: gcc gcc (Ubuntu 11.4.0-1ubuntu1~22.04) 11.4.0 CentOS Stream 9 Kernel: 5.15 Compiler: gcc gcc (GCC) 11.5.0 20240719 (Red Hat 11.5.0-11) Fedora Linux 42 Kernel: 5.15 Compiler: gcc gcc (GCC) 15.2.1 20250808 (Red Hat 15.2.1-1) Red Hat Enterprise Linux 8.10 Kernel: 5.15 Compiler: gcc gcc (GCC) 8.5.0 20210514 (Red Hat 8.5.0-22) Red Hat Enterprise Linux 9.5 Kernel: 5.15 Compiler: gcc gcc (GCC) 11.5.0 20240719 (Red Hat 11.5.0-2) Ubuntu 24.04 Kernel: 5.15 Compiler: gcc gcc (Ubuntu 13.3.0-6ubuntu2~24.04) 13.3.0 Alpine Linux 3.22.0 Kernel: 5.15 Compiler: gcc gcc (Alpine 14.2.0) 14.2.0 Windows Server 2022 Kernel: 10.0.20348.2031 Compiler: clang 15.0.7, gcc 14.1.0 (MinGW), and MSVC VS 19.39.33521 To view detailed results, visit: https://lab.dpdk.org/results/dashboard/patchsets/34269/ UNH-IOL DPDK Community Lab To manage your email subscriptions, visit: https://lab.dpdk.org/results/dashboard/preferences/subscriptions/