From mboxrd@z Thu Jan 1 00:00:00 1970 Return-Path: Received: from mails.dpdk.org (mails.dpdk.org [217.70.189.124]) by inbox.dpdk.org (Postfix) with ESMTP id AD05248934 for ; Tue, 14 Oct 2025 12:10:14 +0200 (CEST) Received: from mails.dpdk.org (localhost [127.0.0.1]) by mails.dpdk.org (Postfix) with ESMTP id 8A243402A8; Tue, 14 Oct 2025 12:10:14 +0200 (CEST) Received: from mail-pg1-f228.google.com (mail-pg1-f228.google.com [209.85.215.228]) by mails.dpdk.org (Postfix) with ESMTP id F38C8402A8 for ; Tue, 14 Oct 2025 12:10:13 +0200 (CEST) Received: by mail-pg1-f228.google.com with SMTP id 41be03b00d2f7-b67ae7e76abso1884522a12.3 for ; Tue, 14 Oct 2025 03:10:13 -0700 (PDT) DKIM-Signature: v=1; a=rsa-sha256; c=relaxed/relaxed; d=iol.unh.edu; s=unh-iol; t=1760436613; x=1761041413; darn=dpdk.org; h=references:in-reply-to:cc:to:from:subject:message-id:date:from:to :cc:subject:date:message-id:reply-to; bh=b8m2yWCPdpjAPBXXTmoF/i6iEcLOYLYtr3ZjlMRfI9o=; b=CBwHL/iNiIImt/1FoM56yp4qZ2aGD3S0eBT+SJfFEhD8SC/LjnN/grDwFDYesT93J7 pdssHJerwcV5S1qjQiPb2Z5ik5UUum2IsRSsnGhKEK+QTSTBTccdbdardZoefXLTponk ch4ouK0+jlvOOE4cp8eCjgEgERQsD05fQVQC8= X-Google-DKIM-Signature: v=1; a=rsa-sha256; c=relaxed/relaxed; d=1e100.net; s=20230601; t=1760436613; x=1761041413; h=references:in-reply-to:cc:to:from:subject:message-id:date :x-gm-message-state:from:to:cc:subject:date:message-id:reply-to; bh=b8m2yWCPdpjAPBXXTmoF/i6iEcLOYLYtr3ZjlMRfI9o=; b=acBime9P5RWikmfDZOuIuaiq8PZApZ0pRuC5Xjkj6rztMn2TH+ubbUuucPb6C8sDi/ wQPgRZM5/rFc+7gGAN5PvIZwU6H1a/0N8iUFLxzWbvWKR3yDqetXsMFXJvQ5+bRXFAYA v17v2M3KGm4sRJfEFJ1Dcn6Y3GN8uJvXtB5eU9zQboYjhWJAHhijbDmQgUbyPLwS8QQ8 pekuIay78d8usVVHnDGjg6L5JCuK/fx9nEC6cLhrg9UUhhNk2+YbOkQF74nW/lWujhNc lBsfxGGaj4QGuZDJOPc5N8PzmiuEhqunqG/Tnn/2qEU0Jjvo+I+Ijxzhv1qvYmqTew8/ cRJA== X-Gm-Message-State: AOJu0YwYUmO8AvHINA8IbYfUXB2c+mP21CMczoPHOHW0CSVQtt5GVqqH OG5Pys6R881Nnp22nw483VR+1eBeM8JgS6rbPwFMHJmSZgCLX2Qbh1YZKrLCoXHzgh3okoccefP 7KHsacBzv3Cv1noOIQMajnD+TKUHlXuktGmgejPT6kAxFTCCXog1zyFa6+qLU X-Gm-Gg: ASbGnctHfKTrZI07hhu69A9vZx53Op72DnlK+ksdd/ccwnfmbUuDvWdyIYr+cXLtnMk 7qjDYgzoZ6q9c2N/gFw9Vl3UfK+keo7VHXjKiRyTm16CrpVH5ppYtn4Mulo6al2t1KkAG1AbFWo g26aAr84XQbWVBPAuvdyYQwKyKoBrL3KgoSvRShmRH5Xp/BWJBBz+AU9vIlY7o4XW7QV1ijV8GM lQe82IIE2eVRSlRUTVBso9W9EdCp29Nc7N3SEpWPhhxpwxQAOhKwDYJgouQaB6GA1xc5GUcbpsf A1Bg6o1jTaebfAhYAltDUtVCBjmFq9sFqjqkDbrYgn9AFm3V2g== X-Google-Smtp-Source: AGHT+IGTUv42ilLycKNOf66UwWDDL9AVGHdcP9pofNa3fsw3WyjGAaZloFt13J8xDby6TACXoQ3+ZPwfJBqF X-Received: by 2002:a17:902:e851:b0:26d:58d6:3fb2 with SMTP id d9443c01a7336-2902729031cmr344821815ad.12.1760436613050; Tue, 14 Oct 2025 03:10:13 -0700 (PDT) Received: from postal.iol.unh.edu (postal.iol.unh.edu. [2606:4100:3880:1234::84]) by smtp-relay.gmail.com with ESMTPS id d9443c01a7336-29034f2ca5dsm13736825ad.49.2025.10.14.03.10.12 (version=TLS1_2 cipher=ECDHE-ECDSA-AES128-GCM-SHA256 bits=128/128); Tue, 14 Oct 2025 03:10:13 -0700 (PDT) X-Relaying-Domain: iol.unh.edu Date: Tue, 14 Oct 2025 03:10:13 -0700 (PDT) Message-ID: <68ee2185.170a0220.1539ab.4d5eSMTPIN_ADDED_MISSING@mx.google.com> Received: from [172.21.0.3] (unknown [172.18.0.240]) by postal.iol.unh.edu (Postfix) with ESMTP id 800346051830; Tue, 14 Oct 2025 06:10:12 -0400 (EDT) Subject: |SUCCESS| pw157517-157531 [PATCH] [15/15] net/dpaa2: add Policer sta From: dpdklab@iol.unh.edu To: Test Report Cc: dpdk-test-reports@iol.unh.edu In-Reply-To: <20251014060045.1304694-16-prashant.gupta_3@nxp.com> References: <20251014060045.1304694-16-prashant.gupta_3@nxp.com> Content-Type: text/plain X-BeenThere: test-report@dpdk.org X-Mailman-Version: 2.1.29 Precedence: list List-Id: automatic DPDK test reports List-Unsubscribe: , List-Archive: List-Post: List-Help: List-Subscribe: , Errors-To: test-report-bounces@dpdk.org Test-Label: iol-unit-amd64-testing Test-Status: SUCCESS http://dpdk.org/patch/157531 _Testing PASS_ Submitter: Prashant Gupta Date: Tuesday, October 14 2025 06:00:45 DPDK git baseline: Repo:dpdk Branch: master CommitID:2b403dd8fb37d0ba13723e44ffc7ee2c2795f838 157517-157531 --> testing pass Upstream job id: Generic-VM-Unit-Test-DPDK#31772 Test environment and result as below: +-------------------------------+----------------+ | Environment | dpdk_unit_test | +===============================+================+ | CentOS Stream 9 | PASS | +-------------------------------+----------------+ | Fedora Linux 42 | PASS | +-------------------------------+----------------+ | Fedora Linux 40 | PASS | +-------------------------------+----------------+ | CentOS Stream 10 | PASS | +-------------------------------+----------------+ | Fedora Linux 41 | PASS | +-------------------------------+----------------+ | Red Hat Enterprise Linux 9.5 | PASS | +-------------------------------+----------------+ | Red Hat Enterprise Linux 8.10 | PASS | +-------------------------------+----------------+ | Debian GNU/Linux 12 | PASS | +-------------------------------+----------------+ | Ubuntu 22.04 | PASS | +-------------------------------+----------------+ | Ubuntu 20.04 | PASS | +-------------------------------+----------------+ | Ubuntu 24.04 | PASS | +-------------------------------+----------------+ | Windows Server 2022 | PASS | +-------------------------------+----------------+ CentOS Stream 9 Kernel: 5.15 Compiler: gcc gcc (GCC) 11.5.0 20240719 (Red Hat 11.5.0-11) Fedora Linux 42 Kernel: 5.15 Compiler: gcc gcc (GCC) 15.2.1 20250808 (Red Hat 15.2.1-1) Fedora Linux 40 Kernel: 5.15 Compiler: gcc gcc (GCC) 14.2.1 20240912 (Red Hat 14.2.1-3) CentOS Stream 10 Kernel: 5.15 Compiler: gcc gcc (GCC) 14.2.1 20250110 (Red Hat 14.2.1-8) Fedora Linux 41 Kernel: 5.15 Compiler: gcc gcc (GCC) 14.3.1 20250523 (Red Hat 14.3.1-1) Red Hat Enterprise Linux 9.5 Kernel: 5.15 Compiler: gcc gcc (GCC) 11.5.0 20240719 (Red Hat 11.5.0-2) Red Hat Enterprise Linux 8.10 Kernel: 5.15 Compiler: gcc gcc (GCC) 8.5.0 20210514 (Red Hat 8.5.0-22) Debian GNU/Linux 12 Kernel: 5.15 Compiler: gcc gcc (Debian 12.2.0-14+deb12u1) 12.2.0 Ubuntu 22.04 Kernel: 5.15 Compiler: gcc gcc (Ubuntu 11.4.0-1ubuntu1~22.04) 11.4.0 Ubuntu 20.04 Kernel: 5.15 Compiler: gcc gcc (Ubuntu 9.4.0-1ubuntu1~20.04.2) 9.4.0 Ubuntu 24.04 Kernel: 5.15 Compiler: gcc gcc (Ubuntu 13.3.0-6ubuntu2~24.04) 13.3.0 Windows Server 2022 Kernel: 10.0.20348.2031 Compiler: clang 15.0.7, gcc 14.1.0 (MinGW), and MSVC VS 19.39.33521 To view detailed results, visit: https://lab.dpdk.org/results/dashboard/patchsets/34270/ UNH-IOL DPDK Community Lab To manage your email subscriptions, visit: https://lab.dpdk.org/results/dashboard/preferences/subscriptions/