From mboxrd@z Thu Jan 1 00:00:00 1970 Return-Path: Received: from mails.dpdk.org (mails.dpdk.org [217.70.189.124]) by inbox.dpdk.org (Postfix) with ESMTP id 641EB48935 for ; Tue, 14 Oct 2025 12:17:36 +0200 (CEST) Received: from mails.dpdk.org (localhost [127.0.0.1]) by mails.dpdk.org (Postfix) with ESMTP id 523E340650; Tue, 14 Oct 2025 12:17:36 +0200 (CEST) Received: from mail-pj1-f98.google.com (mail-pj1-f98.google.com [209.85.216.98]) by mails.dpdk.org (Postfix) with ESMTP id D7E7A402A8 for ; Tue, 14 Oct 2025 12:17:34 +0200 (CEST) Received: by mail-pj1-f98.google.com with SMTP id 98e67ed59e1d1-32eb45ab7a0so5523516a91.0 for ; Tue, 14 Oct 2025 03:17:34 -0700 (PDT) DKIM-Signature: v=1; a=rsa-sha256; c=relaxed/relaxed; d=iol.unh.edu; s=unh-iol; t=1760437054; x=1761041854; darn=dpdk.org; h=references:in-reply-to:cc:to:from:subject:message-id:date:from:to :cc:subject:date:message-id:reply-to; bh=+D/ZwkmAnyYeOA8myCAx0P3BQ2BnFPXpyLPCBA8R88c=; b=W3yYaeCId2IDBEvpmtpTDETX0Ntx7gBV1zXGMLpcr321+4qmDkpfSbcNPyMIZBC9ye 1AEwZPrzFqOpFkSYLkksPuCn8vN9GOuKlsGpPYJi3EMzFVFcFGhoFem6UZ7mC3bqb7Sz H10AUL+ODI82GyeU7Qk2B2XGHx+9zHF0HIY4Q= X-Google-DKIM-Signature: v=1; a=rsa-sha256; c=relaxed/relaxed; d=1e100.net; s=20230601; t=1760437054; x=1761041854; h=references:in-reply-to:cc:to:from:subject:message-id:date :x-gm-message-state:from:to:cc:subject:date:message-id:reply-to; bh=+D/ZwkmAnyYeOA8myCAx0P3BQ2BnFPXpyLPCBA8R88c=; b=UjW5zUE8IQImquBkeZAIuwWxsaRWIErd8wviGNosQCYPQsgxU9Wsfvaz3jBF1FNJGK 9vvQDKv9TJWzUPAOBK1IBO13ea9+0p3lL8rD3oCnFEwHf5aQODMhdYmg35MW/hB+S1nd OpVU6qV+wSxMaeDtqIH7Jwkc4w3vlsNGhSFuKhRabq+IKDg1pdqWsRFxUSM+xPPIfjfL BKSAd2Z2c8VP4Z5/emq7b7xI3TVfP7NY1R3gBOY8Jx2YjIyv2FJV0eaWBYD5bpXIdawm ljyic/576OnCW4whlwmyUXPTSD1K+lB3r620cqCzH7ZVjEJc+Em18rpcOt1xMjmwLpZ2 C6HQ== X-Gm-Message-State: AOJu0Yx87WRSA8IY6XvBpj9oTkiKU7d5jlhSCV+XCXxhB1eQAykk2Z/+ N8uffyQ8rpcyj6S0yVc3CmuJ7ZbpZ6kW5mT/KujRMxGIpQRbErrFkxny3lByE3G9SMQRK87DMbB RRpPrarfHKJXqAh8UoTpaYLgj/A9Y21eKU45QyYIrAp2/ X-Gm-Gg: ASbGncu5bSfksyF63tXsSEfcwrIp/mGhF75AkGLpOSVaRJiZxI35lT6LRiQJp4Wxdt2 8YAYBQaUh8EylxsrkvcTp0t/uSE1AJpFW0mnCq4jRiverngUwbIbULSSOrChPtzRO98pbE9N8RY hVSgOpLMl8eEzQjAENt6R6LDEoGk1evM2cwhOR0AZ1Iz6VkrTn7F6qGDwpMyKE5y3qc6gnGKn/M meA6cIyPqA08sV0jZzuxQRoceYuYt6VENkmE4FbE/dLNY5jvkGxSUseW07fYqYytYFK7fGnUAqF msL//xgMnIev2nwmcnIR5Wm2swH2iknqElp6A4GtRuX3uWppeaF/6ZLBh8ZVZ4jgB47Nmr8F X-Google-Smtp-Source: AGHT+IEc1CxBtPzxtPqosJQzu9Im6Nfd/ZQJSIdJE86yrOCgCIn6NHzwe1Ktfo0MMtDNvjNY2lS3rNlmKkk3 X-Received: by 2002:a17:90b:1a8b:b0:32b:9750:10e4 with SMTP id 98e67ed59e1d1-33b513cedb2mr33955008a91.27.1760437054025; Tue, 14 Oct 2025 03:17:34 -0700 (PDT) Received: from postal.iol.unh.edu (postal.iol.unh.edu. [132.177.123.84]) by smtp-relay.gmail.com with ESMTPS id 98e67ed59e1d1-33b626ea0b6sm1288915a91.7.2025.10.14.03.17.33 (version=TLS1_2 cipher=ECDHE-ECDSA-AES128-GCM-SHA256 bits=128/128); Tue, 14 Oct 2025 03:17:34 -0700 (PDT) X-Relaying-Domain: iol.unh.edu Date: Tue, 14 Oct 2025 03:17:34 -0700 (PDT) Message-ID: <68ee233e.170a0220.1c8e4b.fdb3SMTPIN_ADDED_MISSING@mx.google.com> Received: from [172.21.0.2] (unknown [172.18.0.240]) by postal.iol.unh.edu (Postfix) with ESMTP id 4D24E6051830; Tue, 14 Oct 2025 06:17:33 -0400 (EDT) Subject: |SUCCESS| pw157517-157531 [PATCH] [15/15] net/dpaa2: add Policer sta From: dpdklab@iol.unh.edu To: Test Report Cc: dpdk-test-reports@iol.unh.edu In-Reply-To: <20251014060045.1304694-16-prashant.gupta_3@nxp.com> References: <20251014060045.1304694-16-prashant.gupta_3@nxp.com> Content-Type: text/plain X-BeenThere: test-report@dpdk.org X-Mailman-Version: 2.1.29 Precedence: list List-Id: automatic DPDK test reports List-Unsubscribe: , List-Archive: List-Post: List-Help: List-Subscribe: , Errors-To: test-report-bounces@dpdk.org Test-Label: iol-unit-amd64-testing Test-Status: SUCCESS http://dpdk.org/patch/157531 _Testing PASS_ Submitter: Prashant Gupta Date: Tuesday, October 14 2025 06:00:45 DPDK git baseline: Repo:dpdk Branch: master CommitID:2b403dd8fb37d0ba13723e44ffc7ee2c2795f838 157517-157531 --> testing pass Upstream job id: Generic-VM-Unit-Test-DPDK#31773 Test environment and result as below: +-------------------------------+----------------+ | Environment | dpdk_unit_test | +===============================+================+ | CentOS Stream 9 | PASS | +-------------------------------+----------------+ | Fedora Linux 42 | PASS | +-------------------------------+----------------+ | Fedora Linux 40 | PASS | +-------------------------------+----------------+ | CentOS Stream 10 | PASS | +-------------------------------+----------------+ | Fedora Linux 41 | PASS | +-------------------------------+----------------+ | Red Hat Enterprise Linux 9.5 | PASS | +-------------------------------+----------------+ | Red Hat Enterprise Linux 8.10 | PASS | +-------------------------------+----------------+ | Debian GNU/Linux 12 | PASS | +-------------------------------+----------------+ | Ubuntu 22.04 | PASS | +-------------------------------+----------------+ | Ubuntu 20.04 | PASS | +-------------------------------+----------------+ | Ubuntu 24.04 | PASS | +-------------------------------+----------------+ | Windows Server 2022 | PASS | +-------------------------------+----------------+ CentOS Stream 9 Kernel: 5.15 Compiler: gcc gcc (GCC) 11.5.0 20240719 (Red Hat 11.5.0-11) Fedora Linux 42 Kernel: 5.15 Compiler: gcc gcc (GCC) 15.2.1 20250808 (Red Hat 15.2.1-1) Fedora Linux 40 Kernel: 5.15 Compiler: gcc gcc (GCC) 14.2.1 20240912 (Red Hat 14.2.1-3) CentOS Stream 10 Kernel: 5.15 Compiler: gcc gcc (GCC) 14.2.1 20250110 (Red Hat 14.2.1-8) Fedora Linux 41 Kernel: 5.15 Compiler: gcc gcc (GCC) 14.3.1 20250523 (Red Hat 14.3.1-1) Red Hat Enterprise Linux 9.5 Kernel: 5.15 Compiler: gcc gcc (GCC) 11.5.0 20240719 (Red Hat 11.5.0-2) Red Hat Enterprise Linux 8.10 Kernel: 5.15 Compiler: gcc gcc (GCC) 8.5.0 20210514 (Red Hat 8.5.0-22) Debian GNU/Linux 12 Kernel: 5.15 Compiler: gcc gcc (Debian 12.2.0-14+deb12u1) 12.2.0 Ubuntu 22.04 Kernel: 5.15 Compiler: gcc gcc (Ubuntu 11.4.0-1ubuntu1~22.04) 11.4.0 Ubuntu 20.04 Kernel: 5.15 Compiler: gcc gcc (Ubuntu 9.4.0-1ubuntu1~20.04.2) 9.4.0 Ubuntu 24.04 Kernel: 5.15 Compiler: gcc gcc (Ubuntu 13.3.0-6ubuntu2~24.04) 13.3.0 Windows Server 2022 Kernel: 10.0.20348.2031 Compiler: clang 15.0.7, gcc 14.1.0 (MinGW), and MSVC VS 19.39.33521 To view detailed results, visit: https://lab.dpdk.org/results/dashboard/patchsets/34270/ UNH-IOL DPDK Community Lab To manage your email subscriptions, visit: https://lab.dpdk.org/results/dashboard/preferences/subscriptions/