From mboxrd@z Thu Jan 1 00:00:00 1970 Return-Path: Received: from mails.dpdk.org (mails.dpdk.org [217.70.189.124]) by inbox.dpdk.org (Postfix) with ESMTP id F2BA148934 for ; Tue, 14 Oct 2025 12:29:09 +0200 (CEST) Received: from mails.dpdk.org (localhost [127.0.0.1]) by mails.dpdk.org (Postfix) with ESMTP id EAB9B402AE; Tue, 14 Oct 2025 12:29:09 +0200 (CEST) Received: from mail-qv1-f99.google.com (mail-qv1-f99.google.com [209.85.219.99]) by mails.dpdk.org (Postfix) with ESMTP id 72E33402AE for ; Tue, 14 Oct 2025 12:29:08 +0200 (CEST) Received: by mail-qv1-f99.google.com with SMTP id 6a1803df08f44-80ff41475cdso106265216d6.2 for ; Tue, 14 Oct 2025 03:29:08 -0700 (PDT) DKIM-Signature: v=1; a=rsa-sha256; c=relaxed/relaxed; d=iol.unh.edu; s=unh-iol; t=1760437748; x=1761042548; darn=dpdk.org; h=references:in-reply-to:cc:to:from:subject:message-id:date:from:to :cc:subject:date:message-id:reply-to; bh=Or3ule2hPBJK76SX+bObw4/iCF1mGAB/PgBG+OfTiPI=; b=REOsuGAg6OL08bC5ro/xDj78ddREutuw7ac3kO4HdGnUj6ReqfcdSQj52aolyCtoBc NTOYBrIoqOnvai6dU6Pyg8q0c/iFgEw6jNbOe1aTESFrMt0Z1ZsBn2MIqB06ndWenbUY 0apDzi0MViCibvFlN+LbPcQiaMV9ice5zYK0A= X-Google-DKIM-Signature: v=1; a=rsa-sha256; c=relaxed/relaxed; d=1e100.net; s=20230601; t=1760437748; x=1761042548; h=references:in-reply-to:cc:to:from:subject:message-id:date :x-gm-message-state:from:to:cc:subject:date:message-id:reply-to; bh=Or3ule2hPBJK76SX+bObw4/iCF1mGAB/PgBG+OfTiPI=; b=vnHv9FAT9+kycVJNeQtWMq9dcRgjvGfoXAIyk1OewaiJ9b9f5ZlL081H73CFylydi8 v0msLt2F1WLQZcG4vVrtIyHpAVnuMjyS8pe+d4dTtmAYTFYWhb1P0ZLN2cxzH+9oc3lT vIpYA53KTs8FYBW2Dk6quRe3fmkm4UKu2BROB+OcZXadHfgxssJex3bcD4u/S81ixPXo DRJ0Hjt9L1ypx94XFmg+80vkxj/xalLiVmaKwmF3XmzJvFYw5JdRHg6zMsCBXFA7ObXv jXWzew80RJeOQyTJlIok8hx8x+V3C5Oz5p55aync5BBHniCQvmWlHmwt/iw8Vt8MtJv+ ljJQ== X-Gm-Message-State: AOJu0YxjwJ2RziPQx7GeQ5tQR2hQH4rT+Udi7mbaSrzam6Cz4ZexMDrq CqGXcMJkxWEUhQHfdjPiv9Xo5l1PxrDU7U2xIKKVolHrSiW9mPR7XgX72apfQv9PvvokjuFvihr trhcxsDD9JCivJEQ2H1cKCt2WW/3KpCDb523kqgs/aV58 X-Gm-Gg: ASbGncu5bFVLLMWuEw/V97S0t8RWmO1m74X2oU4AWLqruQhR/kR+i/JE2n94t1PhZ1J g0IJb4jLKrNanthkIS5unidoKadsSjy5dHZsxFyzwabgAEZg5aX4r+2PcZYqFNOOC1pKvCMHejX 4BkCBkRQCgPkoITB+c0qiupWPMJRcSHgGXmJ9JNgOCCrBOSQ4dUDj0trt8Kja8QiDcyBmrT2s/2 a/z7UCSFBwiZ5xjUdKOBSBTM2NKovwhIR934WRtR+KxinONdwAVvlUeqPu+CD73ToxmhuSsZnYu QDz8R1pHB+pMUyTDlhVUhq+TgpOxX7jj9QsnCZhSp6sTYf8YVN5a+g6T7Yq839pdkQnQoLAJ X-Google-Smtp-Source: AGHT+IHGDiMbREQ6nIfSFMnPWEL4Nt5O256WwbcnEz8Ma76ugdgol3SbKLyqYkYmsEqYxUDywAFx9aa6YQ+c X-Received: by 2002:a05:6214:2aa4:b0:87b:cbf7:5ebe with SMTP id 6a1803df08f44-87bcbf764abmr163836966d6.40.1760437747735; Tue, 14 Oct 2025 03:29:07 -0700 (PDT) Received: from postal.iol.unh.edu (postal.iol.unh.edu. [132.177.123.84]) by smtp-relay.gmail.com with ESMTPS id 6a1803df08f44-87bc3461604sm10373886d6.15.2025.10.14.03.29.07 (version=TLS1_2 cipher=ECDHE-ECDSA-AES128-GCM-SHA256 bits=128/128); Tue, 14 Oct 2025 03:29:07 -0700 (PDT) X-Relaying-Domain: iol.unh.edu Date: Tue, 14 Oct 2025 03:29:07 -0700 (PDT) Message-ID: <68ee25f3.050a0220.3d6104.37c0SMTPIN_ADDED_MISSING@mx.google.com> Received: from [172.21.0.4] (unknown [172.18.0.240]) by postal.iol.unh.edu (Postfix) with ESMTP id 70D126051830; Tue, 14 Oct 2025 06:29:07 -0400 (EDT) Subject: |SUCCESS| pw157548-157553 [PATCH] [6/6] net/ice: reformat the Rx pat From: dpdklab@iol.unh.edu To: Test Report Cc: dpdk-test-reports@iol.unh.edu, Bruce Richardson In-Reply-To: <20251014084517.1407407-7-ciara.loftus@intel.com> References: <20251014084517.1407407-7-ciara.loftus@intel.com> Content-Type: text/plain X-BeenThere: test-report@dpdk.org X-Mailman-Version: 2.1.29 Precedence: list List-Id: automatic DPDK test reports List-Unsubscribe: , List-Archive: List-Post: List-Help: List-Subscribe: , Errors-To: test-report-bounces@dpdk.org Test-Label: iol-compile-amd64-testing Test-Status: SUCCESS http://dpdk.org/patch/157553 _Testing PASS_ Submitter: Ciara Loftus Date: Tuesday, October 14 2025 08:45:17 DPDK git baseline: Repo:dpdk-next-net-intel Branch: master CommitID:b26049c00e3c452cb446d688a43c6c7eebbee32e 157548-157553 --> testing pass Upstream job id: Generic-DPDK-Compile-Meson#434037 Test environment and result as below: +-------------------------------+--------------------+-------------------+------------------+ | Environment | dpdk_meson_compile | dpdk_compile_spdk | dpdk_compile_ovs | +===============================+====================+===================+==================+ | Ubuntu 20.04 | PASS | SKIPPED | SKIPPED | +-------------------------------+--------------------+-------------------+------------------+ | FreeBSD 14.2 | PASS | SKIPPED | SKIPPED | +-------------------------------+--------------------+-------------------+------------------+ | CentOS Stream 9 | PASS | PASS | SKIPPED | +-------------------------------+--------------------+-------------------+------------------+ | CentOS Stream 10 | PASS | SKIPPED | SKIPPED | +-------------------------------+--------------------+-------------------+------------------+ | Debian GNU/Linux 12 | PASS | PASS | SKIPPED | +-------------------------------+--------------------+-------------------+------------------+ | Fedora Linux 42 | PASS | PASS | PASS | +-------------------------------+--------------------+-------------------+------------------+ | openSUSE Leap 15.6 | PASS | SKIPPED | SKIPPED | +-------------------------------+--------------------+-------------------+------------------+ | Red Hat Enterprise Linux 8.10 | PASS | SKIPPED | SKIPPED | +-------------------------------+--------------------+-------------------+------------------+ | Red Hat Enterprise Linux 9.5 | PASS | SKIPPED | SKIPPED | +-------------------------------+--------------------+-------------------+------------------+ | Ubuntu 22.04 | PASS | PASS | SKIPPED | +-------------------------------+--------------------+-------------------+------------------+ | Ubuntu 24.04 | PASS | PASS | PASS | +-------------------------------+--------------------+-------------------+------------------+ | Alpine Linux 3.22.0 | PASS | SKIPPED | SKIPPED | +-------------------------------+--------------------+-------------------+------------------+ Ubuntu 20.04 Kernel: 4.19 Compiler: gcc gcc (Ubuntu 9.4.0-1ubuntu1~20.04.2) 9.4.0 FreeBSD 14.2 Kernel: 14.2-RELEASE Compiler: clang 18.1.6 CentOS Stream 9 Kernel: 5.15 Compiler: gcc gcc (GCC) 11.5.0 20240719 (Red Hat 11.5.0-11) CentOS Stream 10 Kernel: 5.15 Compiler: gcc gcc (GCC) 14.2.1 20250110 (Red Hat 14.2.1-8) Debian GNU/Linux 12 Kernel: 5.15 Compiler: gcc gcc (Debian 12.2.0-14+deb12u1) 12.2.0 Fedora Linux 42 Kernel: 5.15 Compiler: clang gcc (GCC) 15.2.1 20250808 (Red Hat 15.2.1-1) openSUSE Leap 15.6 Kernel: 5.15 Compiler: gcc gcc (SUSE Linux) 7.5.0 Red Hat Enterprise Linux 8.10 Kernel: 5.15 Compiler: gcc gcc (GCC) 8.5.0 20210514 (Red Hat 8.5.0-22) Red Hat Enterprise Linux 9.5 Kernel: 5.15 Compiler: gcc gcc (GCC) 11.5.0 20240719 (Red Hat 11.5.0-2) Ubuntu 22.04 Kernel: 5.15 Compiler: gcc gcc (Ubuntu 11.4.0-1ubuntu1~22.04) 11.4.0 Ubuntu 24.04 Kernel: 5.15 Compiler: gcc gcc (Ubuntu 13.3.0-6ubuntu2~24.04) 13.3.0 Alpine Linux 3.22.0 Kernel: 5.15 Compiler: gcc gcc (Alpine 14.2.0) 14.2.0 To view detailed results, visit: https://lab.dpdk.org/results/dashboard/patchsets/34272/ UNH-IOL DPDK Community Lab To manage your email subscriptions, visit: https://lab.dpdk.org/results/dashboard/preferences/subscriptions/