From mboxrd@z Thu Jan 1 00:00:00 1970 Return-Path: Received: from mails.dpdk.org (mails.dpdk.org [217.70.189.124]) by inbox.dpdk.org (Postfix) with ESMTP id 342E148934 for ; Tue, 14 Oct 2025 12:30:59 +0200 (CEST) Received: from mails.dpdk.org (localhost [127.0.0.1]) by mails.dpdk.org (Postfix) with ESMTP id 29A98402AE; Tue, 14 Oct 2025 12:30:59 +0200 (CEST) Received: from mail-qk1-f225.google.com (mail-qk1-f225.google.com [209.85.222.225]) by mails.dpdk.org (Postfix) with ESMTP id E544E402AE for ; Tue, 14 Oct 2025 12:30:57 +0200 (CEST) Received: by mail-qk1-f225.google.com with SMTP id af79cd13be357-8582a34639aso387092685a.3 for ; Tue, 14 Oct 2025 03:30:57 -0700 (PDT) DKIM-Signature: v=1; a=rsa-sha256; c=relaxed/relaxed; d=iol.unh.edu; s=unh-iol; t=1760437857; x=1761042657; darn=dpdk.org; h=references:in-reply-to:cc:to:from:subject:message-id:date:from:to :cc:subject:date:message-id:reply-to; bh=qWqb2FK9Ng44wtXQwe7y1M0I+xzVFiI99iB9C8FD1p4=; b=F49j5UJO+K3SIcOEnc3dqUyIl6dpuLdas6DVxC5LaurfJfmldRI92rRobQ/mRH9MUg pAhaSMeqjhuZgt9jbuVq4ATAqPq+fhcv1NV6GqrT2ljpUf3b3LP8DkKJcp/e1l4+NXAc BYUlvDapElwnkyJ6bf8ZPhCgTwpdSQ795SbMY= X-Google-DKIM-Signature: v=1; a=rsa-sha256; c=relaxed/relaxed; d=1e100.net; s=20230601; t=1760437857; x=1761042657; h=references:in-reply-to:cc:to:from:subject:message-id:date :x-gm-message-state:from:to:cc:subject:date:message-id:reply-to; bh=qWqb2FK9Ng44wtXQwe7y1M0I+xzVFiI99iB9C8FD1p4=; b=HTUCl1rbSRxBRWwJitsn8bhc7PzSsjvlKLNfXqV44S/t0CI3nA7MNGeAsw0t+R87xn 19yPiRPzKcOo1c0r0WEtsRRlT1G9Pq8DupNtwm4N05sVZGIRwg1YQKjxjkBgqgpePid/ knWmwn9lL+baxiVGzIvzSXp3e6D4IBPyTSDVuGlc9w6qP1QZHe3CcQcAYASR0Hoiyxi8 vsaBIZQZiDxwpJhNXg7XmZfuXHjxlHOgckNddI6XkCRpFUbl+l66x4vwST/CIN9fSWm4 VRrCkEDH0E6AQFTjcCa0lt2IXXdObDiBoWiuIsWLkORKZ0t6BAsUUh9o6R4wv3ijzrm4 CnzA== X-Gm-Message-State: AOJu0YzW8onFFPF6VF9AOsxE5VdcXvz07Ulk3uHc41FerylsYnBrwj5B Oq8pz/pRx0J60sBlloxcoi8EojGDeCQ3iSo/Z2+AOROCuQ72Dg/EwIzIAhUb5pzISGR+M9tUqk0 BvVRfDA6sEhImGoAEfrqxPpYAeSM+gOKfb9YoxqZvX2zwTfa1RZPzwkEdUDjI X-Gm-Gg: ASbGncufNYf4Fbd9BIR5V+QlzQLY1RJfT4BL//EX4ZwNzz8p6Z6VFFEh/ER28mO1hNn EmhQGNV9i7M+/1tJfa4KDrhJvLzkHzFiStD4UsF5BGKbG8FUq5FGDs4aLm70eZU1drL3Jn5Q3/c r0+NAv2IX+Xp/oxB3wERdOfneSCqcsT7gNMtA9FL9U9apGTgkEzbF6WAeZgE6Xm7u2pjIbpwwDe XA9+IAVkASI6GbPl5tBkRCPlBSJz34KW5ElXu0BN22KJl1Pzy2pqOZnFqjiLOSevOWWLrig45CR YBQhh/2CbYCGzIR2FonccSA6unkCrRlx8Lzz2RbHaEAmWTem1A== X-Google-Smtp-Source: AGHT+IGwX6LydKb7Cs2IUOLpro9VPyNp0pGHnSyczmEgOkP8LGb7eoO98JSGQ/uJad28wE8BgjDpJNnTbGcq X-Received: by 2002:a05:620a:488e:b0:857:8e81:bd1a with SMTP id af79cd13be357-88356becfa2mr3171567485a.70.1760437857184; Tue, 14 Oct 2025 03:30:57 -0700 (PDT) Received: from postal.iol.unh.edu (postal.iol.unh.edu. [2606:4100:3880:1234::84]) by smtp-relay.gmail.com with ESMTPS id af79cd13be357-888c9ad6187sm43715685a.1.2025.10.14.03.30.57 (version=TLS1_2 cipher=ECDHE-ECDSA-AES128-GCM-SHA256 bits=128/128); Tue, 14 Oct 2025 03:30:57 -0700 (PDT) X-Relaying-Domain: iol.unh.edu Date: Tue, 14 Oct 2025 03:30:57 -0700 (PDT) Message-ID: <68ee2661.050a0220.19968b.5926SMTPIN_ADDED_MISSING@mx.google.com> Received: from [172.21.0.4] (unknown [172.18.0.240]) by postal.iol.unh.edu (Postfix) with ESMTP id 944056051830; Tue, 14 Oct 2025 06:30:55 -0400 (EDT) Subject: |SUCCESS| pw157554-157556 [PATCH] [v4,3/3] bbdev: fix build with Min From: dpdklab@iol.unh.edu To: Test Report Cc: dpdk-test-reports@iol.unh.edu In-Reply-To: <20251014091528.936405-4-thomas@monjalon.net> References: <20251014091528.936405-4-thomas@monjalon.net> Content-Type: text/plain X-BeenThere: test-report@dpdk.org X-Mailman-Version: 2.1.29 Precedence: list List-Id: automatic DPDK test reports List-Unsubscribe: , List-Archive: List-Post: List-Help: List-Subscribe: , Errors-To: test-report-bounces@dpdk.org Test-Label: iol-compile-amd64-testing Test-Status: SUCCESS http://dpdk.org/patch/157556 _Testing PASS_ Submitter: Thomas Monjalon Date: Tuesday, October 14 2025 09:14:01 DPDK git baseline: Repo:dpdk Branch: master CommitID:2b403dd8fb37d0ba13723e44ffc7ee2c2795f838 157554-157556 --> testing pass Upstream job id: Generic-DPDK-Compile-Meson#434087 Test environment and result as below: +-------------------------------+--------------------+-------------------+------------------+ | Environment | dpdk_meson_compile | dpdk_compile_spdk | dpdk_compile_ovs | +===============================+====================+===================+==================+ | CentOS Stream 9 | PASS | PASS | SKIPPED | +-------------------------------+--------------------+-------------------+------------------+ | CentOS Stream 10 | PASS | SKIPPED | SKIPPED | +-------------------------------+--------------------+-------------------+------------------+ | Debian GNU/Linux 12 | PASS | PASS | SKIPPED | +-------------------------------+--------------------+-------------------+------------------+ | Fedora Linux 42 | PASS | PASS | PASS | +-------------------------------+--------------------+-------------------+------------------+ | openSUSE Leap 15.6 | PASS | SKIPPED | SKIPPED | +-------------------------------+--------------------+-------------------+------------------+ | Red Hat Enterprise Linux 8.10 | PASS | SKIPPED | SKIPPED | +-------------------------------+--------------------+-------------------+------------------+ | Red Hat Enterprise Linux 9.5 | PASS | SKIPPED | SKIPPED | +-------------------------------+--------------------+-------------------+------------------+ | Ubuntu 20.04 | PASS | SKIPPED | SKIPPED | +-------------------------------+--------------------+-------------------+------------------+ | Ubuntu 22.04 | PASS | PASS | SKIPPED | +-------------------------------+--------------------+-------------------+------------------+ | Ubuntu 24.04 | PASS | PASS | PASS | +-------------------------------+--------------------+-------------------+------------------+ | Alpine Linux 3.22.0 | PASS | SKIPPED | SKIPPED | +-------------------------------+--------------------+-------------------+------------------+ | FreeBSD 14.2 | PASS | SKIPPED | SKIPPED | +-------------------------------+--------------------+-------------------+------------------+ CentOS Stream 9 Kernel: 5.15 Compiler: gcc gcc (GCC) 11.5.0 20240719 (Red Hat 11.5.0-11) CentOS Stream 10 Kernel: 5.15 Compiler: gcc gcc (GCC) 14.2.1 20250110 (Red Hat 14.2.1-8) Debian GNU/Linux 12 Kernel: 5.15 Compiler: gcc gcc (Debian 12.2.0-14+deb12u1) 12.2.0 Fedora Linux 42 Kernel: 5.15 Compiler: clang gcc (GCC) 15.2.1 20250808 (Red Hat 15.2.1-1) openSUSE Leap 15.6 Kernel: 5.15 Compiler: gcc gcc (SUSE Linux) 7.5.0 Red Hat Enterprise Linux 8.10 Kernel: 5.15 Compiler: gcc gcc (GCC) 8.5.0 20210514 (Red Hat 8.5.0-22) Red Hat Enterprise Linux 9.5 Kernel: 5.15 Compiler: gcc gcc (GCC) 11.5.0 20240719 (Red Hat 11.5.0-2) Ubuntu 20.04 Kernel: 5.15 Compiler: gcc gcc (Ubuntu 9.4.0-1ubuntu1~20.04.2) 9.4.0 Ubuntu 22.04 Kernel: 5.15 Compiler: gcc gcc (Ubuntu 11.4.0-1ubuntu1~22.04) 11.4.0 Ubuntu 24.04 Kernel: 5.15 Compiler: gcc gcc (Ubuntu 13.3.0-6ubuntu2~24.04) 13.3.0 Alpine Linux 3.22.0 Kernel: 5.15 Compiler: gcc gcc (Alpine 14.2.0) 14.2.0 FreeBSD 14.2 Kernel: 14.2-RELEASE Compiler: clang 18.1.6 To view detailed results, visit: https://lab.dpdk.org/results/dashboard/patchsets/34273/ UNH-IOL DPDK Community Lab To manage your email subscriptions, visit: https://lab.dpdk.org/results/dashboard/preferences/subscriptions/