From mboxrd@z Thu Jan 1 00:00:00 1970 Return-Path: Received: from mails.dpdk.org (mails.dpdk.org [217.70.189.124]) by inbox.dpdk.org (Postfix) with ESMTP id 385BE48934 for ; Tue, 14 Oct 2025 12:39:46 +0200 (CEST) Received: from mails.dpdk.org (localhost [127.0.0.1]) by mails.dpdk.org (Postfix) with ESMTP id 34DF1402AE; Tue, 14 Oct 2025 12:39:46 +0200 (CEST) Received: from mail-pg1-f225.google.com (mail-pg1-f225.google.com [209.85.215.225]) by mails.dpdk.org (Postfix) with ESMTP id 4708B402AE for ; Tue, 14 Oct 2025 12:39:45 +0200 (CEST) Received: by mail-pg1-f225.google.com with SMTP id 41be03b00d2f7-b58445361e8so4128804a12.0 for ; Tue, 14 Oct 2025 03:39:45 -0700 (PDT) DKIM-Signature: v=1; a=rsa-sha256; c=relaxed/relaxed; d=iol.unh.edu; s=unh-iol; t=1760438384; x=1761043184; darn=dpdk.org; h=references:in-reply-to:cc:to:from:subject:message-id:date:from:to :cc:subject:date:message-id:reply-to; bh=Dolwbi/7mw9wx3as7GU+spF7xqi9uoAg33FZ5neh7Ww=; b=gf3+xKfxFryk/0aGjzdh5ZQM3zMwa/SJhxzdTm7q52PU4LrREt96eTaiKJz7EvydGN 8aSJ5MMUDi6iJ/yaakn6caOGhTAoQGjTPR51P2trb9gppKVphfrxZAMkwpn/PPVtW1NG LtAmSYSVN8OTmngpwwRNM7068v37a9vha7KjY= X-Google-DKIM-Signature: v=1; a=rsa-sha256; c=relaxed/relaxed; d=1e100.net; s=20230601; t=1760438384; x=1761043184; h=references:in-reply-to:cc:to:from:subject:message-id:date :x-gm-message-state:from:to:cc:subject:date:message-id:reply-to; bh=Dolwbi/7mw9wx3as7GU+spF7xqi9uoAg33FZ5neh7Ww=; b=DRHp5jy/dGljQsdpPo3XdFrFEyHI7cXXRC1z2cjiY1FoLNHJzWFUPtPkIFzmCImYjW REvJdVjpqoG817rL4JcDJdRlPuyRnZfRyGtFcQqGmJMN1umgSgYUZB1sUvpdURfICoIQ +2OUVZLzvJ5/yMt2t8aLwMGXjFl7OoG3I54M96jEtTGrX/O5RpBSh8B+hXgdNRY8xKBu 9ElYLCzyz/YJEuAejt/3+iauop0zo0bnoHSz4HY0CxsYZFYJ5U4JAOMQQq9UffrrlL3+ rARaFb7NOJ/3GCClIRsvfMDgeb/CbQ2YLMI6t2DGBji0LM6exakg47BF6XSigcwZV0L4 WrWQ== X-Gm-Message-State: AOJu0YwoVhvS0zipPJ6y8WF4YWU1e36jTatE1aHJ7Jp06O8zAEd3YYsD LNX8kG7z0lpQBz7b68X1d48eYkhjqBH7lvO0zMw1MNITsxxqkioCQ43Zykd5Tn6H7oUvynmyaud QXvBiHyP8k5lvCAWDg2vL8pdjPXNcusoGQOW4MxAWz8pJ X-Gm-Gg: ASbGnct4CbbAR4kApYTY8umVv1WYh71a5dnjz/KalpqxC6huCxFILhSa9ki91ogbl3K AVSnc3rt9JBlPOo7ktyP032p91M3BA+OOrnmRJnzUYhbCMORVcAtT31kCY2R7XWuU+KYqaKx78e I/CEPhAga6+aO0uJ+ALbkPxR7No6nlTFisnNtmprHADLLwJ98DxzMzkfwFKZozo3wXPGCukOJyg Xw2bsZgkjQRQb5rYoNNDMu2WjKz4mg/kx0093Wb5j8WgFVeM1iW0GaVmK6ZigXScgiwIu97UJWt rGa1EaCuQ9vcy8g/wp/pkNc4OXKqTK04qs2XmuJpnZYeLGthfWO6xkEn4pcTpetYN5wKxGjY X-Google-Smtp-Source: AGHT+IHXBZHjlcPZWcv6LQ7spPGk+GRXljCO3zC6M2pPo2kTBnzEB0V9IeqPqCsHAf6Nt0+Bo/CV6Gf9QEKG X-Received: by 2002:a17:902:c410:b0:249:71f5:4e5a with SMTP id d9443c01a7336-29027f3e32emr344017515ad.26.1760438384433; Tue, 14 Oct 2025 03:39:44 -0700 (PDT) Received: from postal.iol.unh.edu (postal.iol.unh.edu. [132.177.123.84]) by smtp-relay.gmail.com with ESMTPS id d9443c01a7336-29034e24429sm13179305ad.22.2025.10.14.03.39.44 (version=TLS1_2 cipher=ECDHE-ECDSA-AES128-GCM-SHA256 bits=128/128); Tue, 14 Oct 2025 03:39:44 -0700 (PDT) X-Relaying-Domain: iol.unh.edu Date: Tue, 14 Oct 2025 03:39:44 -0700 (PDT) Message-ID: <68ee2870.170a0220.31500f.2d16SMTPIN_ADDED_MISSING@mx.google.com> Received: from [172.21.0.7] (unknown [172.18.0.240]) by postal.iol.unh.edu (Postfix) with ESMTP id B5CAA6051830; Tue, 14 Oct 2025 06:39:43 -0400 (EDT) Subject: |SUCCESS| pw157509 [PATCH] net/ice: revert count drop-all filter in From: dpdklab@iol.unh.edu To: Test Report Cc: dpdk-test-reports@iol.unh.edu, Bruce Richardson In-Reply-To: <20251014054324.3908737-1-shaiq.wani@intel.com> References: <20251014054324.3908737-1-shaiq.wani@intel.com> Content-Type: text/plain X-BeenThere: test-report@dpdk.org X-Mailman-Version: 2.1.29 Precedence: list List-Id: automatic DPDK test reports List-Unsubscribe: , List-Archive: List-Post: List-Help: List-Subscribe: , Errors-To: test-report-bounces@dpdk.org Test-Label: iol-compile-arm64-testing Test-Status: SUCCESS http://dpdk.org/patch/157509 _Testing PASS_ Submitter: Shaiq Wani Date: Tuesday, October 14 2025 05:43:24 DPDK git baseline: Repo:dpdk-next-net-intel Branch: master CommitID:b26049c00e3c452cb446d688a43c6c7eebbee32e 157509 --> testing pass Upstream job id: Generic-DPDK-Compile-Meson#433917 Test environment and result as below: +------------------------------+--------------------+ | Environment | dpdk_meson_compile | +==============================+====================+ | Red Hat Enterprise Linux 9.5 | PASS | +------------------------------+--------------------+ | Ubuntu 22.04 | PASS | +------------------------------+--------------------+ | Ubuntu 24.04 | PASS | +------------------------------+--------------------+ | Fedora Linux 42 | PASS | +------------------------------+--------------------+ | Debian GNU/Linux 12 | PASS | +------------------------------+--------------------+ | Ubuntu 20.04 | PASS | +------------------------------+--------------------+ | CentOS Stream 10 | PASS | +------------------------------+--------------------+ | CentOS Stream 9 | PASS | +------------------------------+--------------------+ Red Hat Enterprise Linux 9.5 Kernel: 5.4 Compiler: gcc gcc (GCC) 11.5.0 20240719 (Red Hat 11.5.0-2) Ubuntu 22.04 Kernel: 5.4 Compiler: gcc gcc (Ubuntu 11.4.0-1ubuntu1~22.04) 11.4.0 Ubuntu 24.04 Kernel: 5.4 Compiler: gcc gcc (Ubuntu 13.3.0-6ubuntu2~24.04) 13.3.0 Fedora Linux 42 Kernel: 5.4 Compiler: gcc gcc (GCC) 15.2.1 20250808 (Red Hat 15.2.1-1) Debian GNU/Linux 12 Kernel: 5.4 Compiler: gcc gcc (Debian 12.2.0-14+deb12u1) 12.2.0 Ubuntu 20.04 Kernel: 5.15 Compiler: aarch64-linux-gnu-gcc gcc (Ubuntu 9.4.0-1ubuntu1~20.04.2) 9.4.0 CentOS Stream 10 Kernel: 5.4 Compiler: gcc gcc (GCC) 14.2.1 20250110 (Red Hat 14.2.1-8) CentOS Stream 9 Kernel: 5.4 Compiler: gcc gcc (GCC) 11.5.0 20240719 (Red Hat 11.5.0-11) To view detailed results, visit: https://lab.dpdk.org/results/dashboard/patchsets/34267/ UNH-IOL DPDK Community Lab To manage your email subscriptions, visit: https://lab.dpdk.org/results/dashboard/preferences/subscriptions/