From mboxrd@z Thu Jan 1 00:00:00 1970 Return-Path: Received: from mails.dpdk.org (mails.dpdk.org [217.70.189.124]) by inbox.dpdk.org (Postfix) with ESMTP id 401C548934 for ; Tue, 14 Oct 2025 12:48:33 +0200 (CEST) Received: from mails.dpdk.org (localhost [127.0.0.1]) by mails.dpdk.org (Postfix) with ESMTP id 3B458402D3; Tue, 14 Oct 2025 12:48:33 +0200 (CEST) Received: from mail-pf1-f227.google.com (mail-pf1-f227.google.com [209.85.210.227]) by mails.dpdk.org (Postfix) with ESMTP id 1B481402D3 for ; Tue, 14 Oct 2025 12:48:31 +0200 (CEST) Received: by mail-pf1-f227.google.com with SMTP id d2e1a72fcca58-76e4fc419a9so4665074b3a.0 for ; Tue, 14 Oct 2025 03:48:31 -0700 (PDT) DKIM-Signature: v=1; a=rsa-sha256; c=relaxed/relaxed; d=iol.unh.edu; s=unh-iol; t=1760438910; x=1761043710; darn=dpdk.org; h=references:in-reply-to:cc:to:from:subject:message-id:date:from:to :cc:subject:date:message-id:reply-to; bh=GGnc4+ef4qHVkaYxnUncPvIoZdo3y7zv0W/K080djSg=; b=YSTrYRH6bezg8kUHQTK1xS6p6en3M2SQZWqBF0x60KazpzECVs5ruOXB4uDZmAdjw0 JcgWr2OlXcbdlVbKGrBtrCyhDGxvnHCK6dkiX4S3B9Y3AAr+TN+4t8v0+Jtav+4o/Hn2 YIg597rxTAiqXOnqDeX86sQiLbZHgvsP14BWo= X-Google-DKIM-Signature: v=1; a=rsa-sha256; c=relaxed/relaxed; d=1e100.net; s=20230601; t=1760438910; x=1761043710; h=references:in-reply-to:cc:to:from:subject:message-id:date :x-gm-message-state:from:to:cc:subject:date:message-id:reply-to; bh=GGnc4+ef4qHVkaYxnUncPvIoZdo3y7zv0W/K080djSg=; b=eVVLT6agPuPiDoFxtq+6WCuyInBImxlIASqFDr8EVjEXwuQdxzfnGar4+vHbp5xHBf NvIwfBq7eRQhR9AThSwzTSIqgCDh2o4uPvvx/VjnKEd1MjZ/p9YzFVOGpLc9+AoC+Vaw pIUf6ChlVE8unkdkLrI1Vwi2dDCit7KL6iwmOpczP8AjqY/3kFzhOMeNzAnkT9kdKhdg eP7lzyEBkaSaqiGpcx7CxoddYRmzKUaKT1ono1lukyRz98ugrGMAM3nmKut49lSBW1mm lUc4sZb8GsyvHVWb7Ho9n+HqDZp9iCPZHIodbEulJVTDv9DlTYEReXDvI7HnfHnnBF2l bUBw== X-Gm-Message-State: AOJu0YxKjKAsyAaXS1hM+rO15cdNhRxKfdNizNFjXmj2M/bglAicFD9Z LfqjOU7s5mnRrApZCtXsfxR4E+TK6eiZGDV3VRMmZl2rKBT7/3nbpdjAvTbzND3rgea/SAADY1D TEmr3wz8UuBteTEkELoDapF7YFftqUsTBBrypqHskIfOn X-Gm-Gg: ASbGncvDLdv8L+PBKsm2Qf4T7R8VITYNdptC2LZGloLcudn7UWeFnDqZ4/fFcDWOtca NuPXWU3MSa7HQpijaML303gi44Yc0RTT3M5CiJfSf2IpwIplHckIy/aeymYzzk7Z+/9TZdPLdFa athJnBG6dQj8Cjdzabsz84z5ppN7h2YgldDgxVFRpoyE+c8eDjj2k21JIln5yuhtB2JL5u5KdXt tEJkzqvFJ3Hd6/sFQy5bOkYALxw8kyvK1y8ToZfmpUKAR1QsWq7OigTeHPB7Ahp54+szWHJ8gl5 2wvUJx+yp2Sc2GY1KrmB4WcK8iy3U29eF1E/LOjrK323s0aWIOX8sBNpml6T93nAjJ0kEI98 X-Google-Smtp-Source: AGHT+IFuEvkgtHgy0Ofi2jW0Lr7iZVgqqLtLB3Rt+QraQqh0ZlFCYSw48yQHIythUXYxp98aVMR7iX9sVkNz X-Received: by 2002:a17:903:13c8:b0:267:9a29:7800 with SMTP id d9443c01a7336-2902741d09cmr325351785ad.59.1760438910193; Tue, 14 Oct 2025 03:48:30 -0700 (PDT) Received: from postal.iol.unh.edu (postal.iol.unh.edu. [132.177.123.84]) by smtp-relay.gmail.com with ESMTPS id d9443c01a7336-29034e2905esm13440065ad.24.2025.10.14.03.48.30 (version=TLS1_2 cipher=ECDHE-ECDSA-AES128-GCM-SHA256 bits=128/128); Tue, 14 Oct 2025 03:48:30 -0700 (PDT) X-Relaying-Domain: iol.unh.edu Date: Tue, 14 Oct 2025 03:48:30 -0700 (PDT) Message-ID: <68ee2a7e.170a0220.2b285d.465bSMTPIN_ADDED_MISSING@mx.google.com> Received: from [172.21.0.3] (unknown [172.18.0.240]) by postal.iol.unh.edu (Postfix) with ESMTP id 7AEF56051830; Tue, 14 Oct 2025 06:48:29 -0400 (EDT) Subject: |SUCCESS| pw157554-157556 [PATCH] [v4,3/3] bbdev: fix build with Min From: dpdklab@iol.unh.edu To: Test Report Cc: dpdk-test-reports@iol.unh.edu In-Reply-To: <20251014091528.936405-4-thomas@monjalon.net> References: <20251014091528.936405-4-thomas@monjalon.net> Content-Type: text/plain X-BeenThere: test-report@dpdk.org X-Mailman-Version: 2.1.29 Precedence: list List-Id: automatic DPDK test reports List-Unsubscribe: , List-Archive: List-Post: List-Help: List-Subscribe: , Errors-To: test-report-bounces@dpdk.org Test-Label: iol-unit-amd64-testing Test-Status: SUCCESS http://dpdk.org/patch/157556 _Testing PASS_ Submitter: Thomas Monjalon Date: Tuesday, October 14 2025 09:14:01 DPDK git baseline: Repo:dpdk Branch: master CommitID:2b403dd8fb37d0ba13723e44ffc7ee2c2795f838 157554-157556 --> testing pass Upstream job id: Generic-Unit-Test-DPDK#381217 Test environment and result as below: +-------------------------------+----------------+ | Environment | dpdk_unit_test | +===============================+================+ | CentOS Stream 9 | PASS | +-------------------------------+----------------+ | CentOS Stream 10 | PASS | +-------------------------------+----------------+ | Debian GNU/Linux 12 | PASS | +-------------------------------+----------------+ | Fedora Linux 40 | PASS | +-------------------------------+----------------+ | Fedora Linux 41 | PASS | +-------------------------------+----------------+ | Fedora Linux 42 | PASS | +-------------------------------+----------------+ | Ubuntu 20.04 | PASS | +-------------------------------+----------------+ | Ubuntu 22.04 | PASS | +-------------------------------+----------------+ | Red Hat Enterprise Linux 8.10 | PASS | +-------------------------------+----------------+ | Red Hat Enterprise Linux 9.5 | PASS | +-------------------------------+----------------+ | Ubuntu 24.04 | PASS | +-------------------------------+----------------+ CentOS Stream 9 Kernel: 5.15 Compiler: gcc gcc (GCC) 11.5.0 20240719 (Red Hat 11.5.0-11) CentOS Stream 10 Kernel: 5.15 Compiler: gcc gcc (GCC) 14.2.1 20250110 (Red Hat 14.2.1-8) Debian GNU/Linux 12 Kernel: 5.15 Compiler: gcc gcc (Debian 12.2.0-14+deb12u1) 12.2.0 Fedora Linux 40 Kernel: 5.15 Compiler: gcc gcc (GCC) 14.2.1 20240912 (Red Hat 14.2.1-3) Fedora Linux 41 Kernel: 5.15 Compiler: clang gcc (GCC) 14.3.1 20250523 (Red Hat 14.3.1-1) Fedora Linux 42 Kernel: 5.15 Compiler: clang gcc (GCC) 15.2.1 20250808 (Red Hat 15.2.1-1) Ubuntu 20.04 Kernel: 5.15 Compiler: gcc gcc (Ubuntu 9.4.0-1ubuntu1~20.04.2) 9.4.0 Ubuntu 22.04 Kernel: 5.15 Compiler: gcc gcc (Ubuntu 11.4.0-1ubuntu1~22.04) 11.4.0 Red Hat Enterprise Linux 8.10 Kernel: 5.15 Compiler: gcc gcc (GCC) 8.5.0 20210514 (Red Hat 8.5.0-22) Red Hat Enterprise Linux 9.5 Kernel: 5.15 Compiler: gcc gcc (GCC) 11.5.0 20240719 (Red Hat 11.5.0-2) Ubuntu 24.04 Kernel: 5.15 Compiler: gcc gcc (Ubuntu 13.3.0-6ubuntu2~24.04) 13.3.0 To view detailed results, visit: https://lab.dpdk.org/results/dashboard/patchsets/34273/ UNH-IOL DPDK Community Lab To manage your email subscriptions, visit: https://lab.dpdk.org/results/dashboard/preferences/subscriptions/