From mboxrd@z Thu Jan 1 00:00:00 1970 Return-Path: Received: from mails.dpdk.org (mails.dpdk.org [217.70.189.124]) by inbox.dpdk.org (Postfix) with ESMTP id 27FEE48934 for ; Tue, 14 Oct 2025 12:55:11 +0200 (CEST) Received: from mails.dpdk.org (localhost [127.0.0.1]) by mails.dpdk.org (Postfix) with ESMTP id 0729E402AE; Tue, 14 Oct 2025 12:55:11 +0200 (CEST) Received: from mail-io1-f100.google.com (mail-io1-f100.google.com [209.85.166.100]) by mails.dpdk.org (Postfix) with ESMTP id 8CAB7402AE for ; Tue, 14 Oct 2025 12:55:10 +0200 (CEST) Received: by mail-io1-f100.google.com with SMTP id ca18e2360f4ac-911520e43edso225960839f.0 for ; Tue, 14 Oct 2025 03:55:10 -0700 (PDT) DKIM-Signature: v=1; a=rsa-sha256; c=relaxed/relaxed; d=iol.unh.edu; s=unh-iol; t=1760439310; x=1761044110; darn=dpdk.org; h=references:in-reply-to:cc:to:from:subject:message-id:date:from:to :cc:subject:date:message-id:reply-to; bh=NA8bDAAm6x/Y6GMmGLteC/0P/Rfu727j4C4OqIWnFps=; b=UcNIYLQ3RzZS8Zi8aQ+e/KuoErvYM7I6IwE70YAgvq8ESCLLk0zrmLG4WFIDh880QR veHFtG0QgA2IBFgJeXn0uatlSsFCyXPI+NiHXPyd2lya40eC58B2w2nR5pqh3RWU1KJo svU39UOb/z8+/pS8Ar0CWHk6dAEWxx25fLrfA= X-Google-DKIM-Signature: v=1; a=rsa-sha256; c=relaxed/relaxed; d=1e100.net; s=20230601; t=1760439310; x=1761044110; h=references:in-reply-to:cc:to:from:subject:message-id:date :x-gm-message-state:from:to:cc:subject:date:message-id:reply-to; bh=NA8bDAAm6x/Y6GMmGLteC/0P/Rfu727j4C4OqIWnFps=; b=X+AaKq0lzF9pbWLH1wRU+udPhV3U6l1AX9Xghe5cGzdM4rKlOG8BnpF04XVfQfWRu2 ncyDSTctGGhnqY6zForwJobrIdrUG7OeRxw3QGBHPKdp4WaBFgkLgjrZZYh3CGKNAMIN ayuENddlFl/udmkRbPIBvgL/IRsGkVezQtO7r3+cUm/ajfF7e+8cRHZMOSuM7XQtJCff JKjhIK0zxaUrpbXCtQqT7SFd9ZksZXVPlYfIsKsO4lZLduztqW4jy4YRU+IH0rD7ZTUc nwKSnJLEJ9tEM10p3lOzDssPlR8AC5n6PHcbEHvlN4qSxoiuanjnT4gjRpMkC//o0zpr Fw1g== X-Gm-Message-State: AOJu0YzfiFuKbINuyfe/CRZT4yOh56KmzTVlsjZ8OW1G/+J1sb3ckiko Jl1OtKWDO3X8xOkIb4qqxSJleJkxvBI0BJa+wKQSAmUW95p0m0Gy+KGxSiPzqBUZzizTxpYZyH9 dC3j2XwBVSVg+AU40qxOxDX9vC5vmvsl/qYnxd9YYkLlL X-Gm-Gg: ASbGncu0lAFjyhwSIDnZJAPzgaMAb8CK6oNYM9J/8uIRpuHEf2CvUEV5ZlOcgjhCoLz FqZzWB8tzljOT5eFRIaHRFYNJF0MSrRYkGPZCMtfQ8OFtxDg43CdKSzpliDhkuWAAiXz/NBovfD 2Q9AVfnonhUJkKodc+2rQ/I2JvMWPJx1VYdxURIAXLN6r0cuJT95xmEeDL78cPFX78o1iKSQHga ishvB22hd91F18hT4POmpQt/OOm5LkYJcMbOj/I9+/27EVVCZc5uCQwRm8MJDZHTEeGNVSgmwDj BnZs3fGFXZ+QwJOeh0o7Zp85R8wn2gxIhjvidIlM2BjpnquJq8ApuywsYLAx4VwUM28Rms/c X-Google-Smtp-Source: AGHT+IEDcLjOIo5vKFkgzlrI8fOo6nDnBb19b5UpPNsJMiQjYleqYcXoMpZUj41ElX4Rm/tsVpkPM1Xnr3bR X-Received: by 2002:a05:6e02:2513:b0:42f:91aa:510b with SMTP id e9e14a558f8ab-42f91aa52acmr200229085ab.4.1760439309776; Tue, 14 Oct 2025 03:55:09 -0700 (PDT) Received: from postal.iol.unh.edu (postal.iol.unh.edu. [132.177.123.84]) by smtp-relay.gmail.com with ESMTPS id e9e14a558f8ab-430a1363245sm1251935ab.0.2025.10.14.03.55.09 (version=TLS1_2 cipher=ECDHE-ECDSA-AES128-GCM-SHA256 bits=128/128); Tue, 14 Oct 2025 03:55:09 -0700 (PDT) X-Relaying-Domain: iol.unh.edu Date: Tue, 14 Oct 2025 03:55:09 -0700 (PDT) Message-ID: <68ee2c0d.050a0220.241194.61afSMTPIN_ADDED_MISSING@mx.google.com> Received: from [172.21.0.3] (unknown [172.18.0.240]) by postal.iol.unh.edu (Postfix) with ESMTP id 32CE16051830; Tue, 14 Oct 2025 06:55:09 -0400 (EDT) Subject: |SUCCESS| pw157517-157531 [PATCH] [15/15] net/dpaa2: add Policer sta From: dpdklab@iol.unh.edu To: Test Report Cc: dpdk-test-reports@iol.unh.edu In-Reply-To: <20251014060045.1304694-16-prashant.gupta_3@nxp.com> References: <20251014060045.1304694-16-prashant.gupta_3@nxp.com> Content-Type: text/plain X-BeenThere: test-report@dpdk.org X-Mailman-Version: 2.1.29 Precedence: list List-Id: automatic DPDK test reports List-Unsubscribe: , List-Archive: List-Post: List-Help: List-Subscribe: , Errors-To: test-report-bounces@dpdk.org Test-Label: iol-compile-amd64-testing Test-Status: SUCCESS http://dpdk.org/patch/157531 _Testing PASS_ Submitter: Prashant Gupta Date: Tuesday, October 14 2025 06:00:45 DPDK git baseline: Repo:dpdk Branch: master CommitID:2b403dd8fb37d0ba13723e44ffc7ee2c2795f838 157517-157531 --> testing pass Upstream job id: Windows-Compile-DPDK-Native#31601 Test environment and result as below: +-------------------------------+--------------------+-------------------+------------------+-------------------+-------------------------+ | Environment | dpdk_meson_compile | dpdk_compile_spdk | dpdk_compile_ovs | dpdk_msvc_compile | dpdk_llvm_clang_compile | +===============================+====================+===================+==================+===================+=========================+ | FreeBSD 14.2 | PASS | SKIPPED | SKIPPED | SKIPPED | SKIPPED | +-------------------------------+--------------------+-------------------+------------------+-------------------+-------------------------+ | Ubuntu 20.04 | PASS | SKIPPED | SKIPPED | SKIPPED | SKIPPED | +-------------------------------+--------------------+-------------------+------------------+-------------------+-------------------------+ | CentOS Stream 9 | PASS | PASS | SKIPPED | SKIPPED | SKIPPED | +-------------------------------+--------------------+-------------------+------------------+-------------------+-------------------------+ | CentOS Stream 10 | PASS | SKIPPED | SKIPPED | SKIPPED | SKIPPED | +-------------------------------+--------------------+-------------------+------------------+-------------------+-------------------------+ | Debian GNU/Linux 12 | PASS | PASS | SKIPPED | SKIPPED | SKIPPED | +-------------------------------+--------------------+-------------------+------------------+-------------------+-------------------------+ | Fedora Linux 42 | PASS | PASS | PASS | SKIPPED | SKIPPED | +-------------------------------+--------------------+-------------------+------------------+-------------------+-------------------------+ | Red Hat Enterprise Linux 8.10 | PASS | SKIPPED | SKIPPED | SKIPPED | SKIPPED | +-------------------------------+--------------------+-------------------+------------------+-------------------+-------------------------+ | openSUSE Leap 15.6 | PASS | SKIPPED | SKIPPED | SKIPPED | SKIPPED | +-------------------------------+--------------------+-------------------+------------------+-------------------+-------------------------+ | Red Hat Enterprise Linux 9.5 | PASS | SKIPPED | SKIPPED | SKIPPED | SKIPPED | +-------------------------------+--------------------+-------------------+------------------+-------------------+-------------------------+ | Alpine Linux 3.22.0 | PASS | SKIPPED | SKIPPED | SKIPPED | SKIPPED | +-------------------------------+--------------------+-------------------+------------------+-------------------+-------------------------+ | Ubuntu 24.04 | PASS | PASS | PASS | SKIPPED | SKIPPED | +-------------------------------+--------------------+-------------------+------------------+-------------------+-------------------------+ | Ubuntu 22.04 | PASS | PASS | SKIPPED | SKIPPED | SKIPPED | +-------------------------------+--------------------+-------------------+------------------+-------------------+-------------------------+ | Windows Server 2022 | SKIPPED | SKIPPED | SKIPPED | PASS | PASS | +-------------------------------+--------------------+-------------------+------------------+-------------------+-------------------------+ FreeBSD 14.2 Kernel: 14.2-RELEASE Compiler: clang 18.1.6 Ubuntu 20.04 Kernel: 4.19 Compiler: gcc gcc (Ubuntu 9.4.0-1ubuntu1~20.04.2) 9.4.0 CentOS Stream 9 Kernel: 5.15 Compiler: gcc gcc (GCC) 11.5.0 20240719 (Red Hat 11.5.0-11) CentOS Stream 10 Kernel: 5.15 Compiler: gcc gcc (GCC) 14.2.1 20250110 (Red Hat 14.2.1-8) Debian GNU/Linux 12 Kernel: 5.15 Compiler: gcc gcc (Debian 12.2.0-14+deb12u1) 12.2.0 Fedora Linux 42 Kernel: 5.15 Compiler: clang gcc (GCC) 15.2.1 20250808 (Red Hat 15.2.1-1) Red Hat Enterprise Linux 8.10 Kernel: 5.15 Compiler: gcc gcc (GCC) 8.5.0 20210514 (Red Hat 8.5.0-22) openSUSE Leap 15.6 Kernel: 5.15 Compiler: gcc gcc (SUSE Linux) 7.5.0 Red Hat Enterprise Linux 9.5 Kernel: 5.15 Compiler: gcc gcc (GCC) 11.5.0 20240719 (Red Hat 11.5.0-2) Alpine Linux 3.22.0 Kernel: 5.15 Compiler: gcc gcc (Alpine 14.2.0) 14.2.0 Ubuntu 24.04 Kernel: 5.15 Compiler: gcc gcc (Ubuntu 13.3.0-6ubuntu2~24.04) 13.3.0 Ubuntu 22.04 Kernel: 5.15 Compiler: gcc gcc (Ubuntu 11.4.0-1ubuntu1~22.04) 11.4.0 Windows Server 2022 Kernel: 10.0.20348.2031 Compiler: clang 15.0.7, gcc 14.1.0 (MinGW), and MSVC VS 19.39.33521 To view detailed results, visit: https://lab.dpdk.org/results/dashboard/patchsets/34270/ UNH-IOL DPDK Community Lab To manage your email subscriptions, visit: https://lab.dpdk.org/results/dashboard/preferences/subscriptions/