From mboxrd@z Thu Jan 1 00:00:00 1970 Return-Path: Received: from mails.dpdk.org (mails.dpdk.org [217.70.189.124]) by inbox.dpdk.org (Postfix) with ESMTP id 1AD8148934 for ; Tue, 14 Oct 2025 13:04:14 +0200 (CEST) Received: from mails.dpdk.org (localhost [127.0.0.1]) by mails.dpdk.org (Postfix) with ESMTP id E3A5D402AE; Tue, 14 Oct 2025 13:04:13 +0200 (CEST) Received: from mail-pf1-f227.google.com (mail-pf1-f227.google.com [209.85.210.227]) by mails.dpdk.org (Postfix) with ESMTP id A8B57402AE for ; Tue, 14 Oct 2025 13:04:12 +0200 (CEST) Received: by mail-pf1-f227.google.com with SMTP id d2e1a72fcca58-78af743c232so4700523b3a.1 for ; Tue, 14 Oct 2025 04:04:12 -0700 (PDT) DKIM-Signature: v=1; a=rsa-sha256; c=relaxed/relaxed; d=iol.unh.edu; s=unh-iol; t=1760439852; x=1761044652; darn=dpdk.org; h=references:in-reply-to:cc:to:from:subject:message-id:date:from:to :cc:subject:date:message-id:reply-to; bh=8LNg75jkXyPWP7IHyqyNfDtP0VAubdoUqPgYMeA4pgg=; b=KJ7WetXGl6fRL14rZgeL3ZWhJTrtbWHRaSXUJaET9XNwYZiDjUwwE7W1NCXXKOAY0h b3z2NJzDpyM7z2D4T/CGoGS5o80Bu5KgtZIxHGrTB/F1plNm8FhgBMFGBE1Ner6iidHd yLy0Ae6hsnoVlAjdwuq/fkd5Ut1TvS8Ib7cSk= X-Google-DKIM-Signature: v=1; a=rsa-sha256; c=relaxed/relaxed; d=1e100.net; s=20230601; t=1760439852; x=1761044652; h=references:in-reply-to:cc:to:from:subject:message-id:date :x-gm-message-state:from:to:cc:subject:date:message-id:reply-to; bh=8LNg75jkXyPWP7IHyqyNfDtP0VAubdoUqPgYMeA4pgg=; b=RhkML0OoSdY2ubRlK0WiYO+WyqVXOQQAGwvyXvF3A6ZkS21SP9plDa9KY5+lagL10C T04TgfiuClcRMCUqspf5/FzJm1rtsssETGna3b0R6HvZNR8XvPWt5IZ9hEW6FO8IKC+g IO6TbLuWQQCZ9z5u5bAKMI22A8tO7XiWgQsnrHGKyy7f5YGi5lexboycUfo/J/Qu209p TEM8XfGf5IjUx/OLivLwqYit36I8sOkdRHzDpv6jmQFZp/4QSWt7u1nr/tjcTvoe3hi6 ih9pdOJG9YLoCLB20uZd2qm7bNm6O1nCJXc+WiHl//lPuxN72DtaxmEA2dy92KTQJI6t kdbw== X-Gm-Message-State: AOJu0YzjuIBg6wOShsRCJV6mFOhaIH88FtYOSnv/cznRIPfntaJhS9KR wxYC/QaM6jmOE6cyrDpkaKNojO13Hlsi6lv6bmLE5zM3mTYfG1VmA+/h95QczIFKUgGotfJediq djIP/mXIxfEq3ZeTVnwh4KYcbnP2alzTydCrJ0C/JRDK2hQPJZ7xQPKCxrG9d X-Gm-Gg: ASbGncuOnlu8VsnvU0bUy3Gtfm3YJ/CpnxywVRDPLE7LkDIdCt1oO62jG/bibxGAHl9 Y6GKLxC6dSL0s3BNcb1iqvJ0aR1uk09NyeZSFp/Y6VPuRIJJrwFDmDbQJMbds6q9xhCIEmSmlPJ ORUjX0BvrFkF4Cn64ib4z00D6HMmSGltKXXT0A5A65rWeJbBTMCyTx6hxy1MWaZ/reyZjhA7EWO pOooSTywtZiR6nJT0Pxnrmw+yq12er9NsEA9IMdn7W3vVscYgd3FVpKAN0vIBPoxwKLQIf2XMPP 3P/PteFVVCXk6DmaZ6923QjhKCKSJqmaDTrTye4lmnKxr54gHg== X-Google-Smtp-Source: AGHT+IFV3ulFf+m5ZjI8g4fEARGDtK4m4LqI7nge4TtHbiZKss3E1JUSfvDnMUV3/Rt6xsefcEb63Xex1gWo X-Received: by 2002:a05:6a00:1706:b0:77f:50df:df31 with SMTP id d2e1a72fcca58-793870523b6mr24711846b3a.20.1760439851762; Tue, 14 Oct 2025 04:04:11 -0700 (PDT) Received: from postal.iol.unh.edu (postal.iol.unh.edu. [2606:4100:3880:1234::84]) by smtp-relay.gmail.com with ESMTPS id d2e1a72fcca58-79930567c37sm1223143b3a.6.2025.10.14.04.04.11 (version=TLS1_2 cipher=ECDHE-ECDSA-AES128-GCM-SHA256 bits=128/128); Tue, 14 Oct 2025 04:04:11 -0700 (PDT) X-Relaying-Domain: iol.unh.edu Date: Tue, 14 Oct 2025 04:04:11 -0700 (PDT) Message-ID: <68ee2e2b.050a0220.1a8e80.c061SMTPIN_ADDED_MISSING@mx.google.com> Received: from [172.21.0.3] (unknown [172.18.0.240]) by postal.iol.unh.edu (Postfix) with ESMTP id 024F56051830; Tue, 14 Oct 2025 07:04:10 -0400 (EDT) Subject: |SUCCESS| pw157547 [PATCH] devtools: honor -n flag regardless of std From: dpdklab@iol.unh.edu To: Test Report Cc: dpdk-test-reports@iol.unh.edu In-Reply-To: <20251014074340.2364328-1-alialnu@nvidia.com> References: <20251014074340.2364328-1-alialnu@nvidia.com> Content-Type: text/plain X-BeenThere: test-report@dpdk.org X-Mailman-Version: 2.1.29 Precedence: list List-Id: automatic DPDK test reports List-Unsubscribe: , List-Archive: List-Post: List-Help: List-Subscribe: , Errors-To: test-report-bounces@dpdk.org Test-Label: iol-unit-amd64-testing Test-Status: SUCCESS http://dpdk.org/patch/157547 _Testing PASS_ Submitter: Ali Alnubani Date: Tuesday, October 14 2025 07:43:40 DPDK git baseline: Repo:dpdk Branch: master CommitID:2b403dd8fb37d0ba13723e44ffc7ee2c2795f838 157547 --> testing pass Upstream job id: Generic-VM-Unit-Test-DPDK#31774 Test environment and result as below: +-------------------------------+----------------+ | Environment | dpdk_unit_test | +===============================+================+ | CentOS Stream 10 | PASS | +-------------------------------+----------------+ | CentOS Stream 9 | PASS | +-------------------------------+----------------+ | Debian GNU/Linux 12 | PASS | +-------------------------------+----------------+ | Fedora Linux 40 | PASS | +-------------------------------+----------------+ | Fedora Linux 41 | PASS | +-------------------------------+----------------+ | Red Hat Enterprise Linux 8.10 | PASS | +-------------------------------+----------------+ | Fedora Linux 42 | PASS | +-------------------------------+----------------+ | Ubuntu 22.04 | PASS | +-------------------------------+----------------+ | Ubuntu 20.04 | PASS | +-------------------------------+----------------+ | Red Hat Enterprise Linux 9.5 | PASS | +-------------------------------+----------------+ | Ubuntu 24.04 | PASS | +-------------------------------+----------------+ | Windows Server 2022 | PASS | +-------------------------------+----------------+ CentOS Stream 10 Kernel: 5.15 Compiler: gcc gcc (GCC) 14.2.1 20250110 (Red Hat 14.2.1-8) CentOS Stream 9 Kernel: 5.15 Compiler: gcc gcc (GCC) 11.5.0 20240719 (Red Hat 11.5.0-11) Debian GNU/Linux 12 Kernel: 5.15 Compiler: gcc gcc (Debian 12.2.0-14+deb12u1) 12.2.0 Fedora Linux 40 Kernel: 5.15 Compiler: gcc gcc (GCC) 14.2.1 20240912 (Red Hat 14.2.1-3) Fedora Linux 41 Kernel: 5.15 Compiler: clang gcc (GCC) 14.3.1 20250523 (Red Hat 14.3.1-1) Red Hat Enterprise Linux 8.10 Kernel: 5.15 Compiler: gcc gcc (GCC) 8.5.0 20210514 (Red Hat 8.5.0-22) Fedora Linux 42 Kernel: 5.15 Compiler: gcc gcc (GCC) 15.2.1 20250808 (Red Hat 15.2.1-1) Ubuntu 22.04 Kernel: 5.15 Compiler: gcc gcc (Ubuntu 11.4.0-1ubuntu1~22.04) 11.4.0 Ubuntu 20.04 Kernel: 5.15 Compiler: gcc gcc (Ubuntu 9.4.0-1ubuntu1~20.04.2) 9.4.0 Red Hat Enterprise Linux 9.5 Kernel: 5.15 Compiler: gcc gcc (GCC) 11.5.0 20240719 (Red Hat 11.5.0-2) Ubuntu 24.04 Kernel: 5.15 Compiler: gcc gcc (Ubuntu 13.3.0-6ubuntu2~24.04) 13.3.0 Windows Server 2022 Kernel: 10.0.20348.2031 Compiler: clang 15.0.7, gcc 14.1.0 (MinGW), and MSVC VS 19.39.33521 To view detailed results, visit: https://lab.dpdk.org/results/dashboard/patchsets/34271/ UNH-IOL DPDK Community Lab To manage your email subscriptions, visit: https://lab.dpdk.org/results/dashboard/preferences/subscriptions/