From mboxrd@z Thu Jan 1 00:00:00 1970 Return-Path: Received: from mails.dpdk.org (mails.dpdk.org [217.70.189.124]) by inbox.dpdk.org (Postfix) with ESMTP id DB66648934 for ; Tue, 14 Oct 2025 13:12:08 +0200 (CEST) Received: from mails.dpdk.org (localhost [127.0.0.1]) by mails.dpdk.org (Postfix) with ESMTP id D72D7402AE; Tue, 14 Oct 2025 13:12:08 +0200 (CEST) Received: from mail-pf1-f227.google.com (mail-pf1-f227.google.com [209.85.210.227]) by mails.dpdk.org (Postfix) with ESMTP id 5EBE0402AE for ; Tue, 14 Oct 2025 13:12:07 +0200 (CEST) Received: by mail-pf1-f227.google.com with SMTP id d2e1a72fcca58-781997d195aso3700868b3a.3 for ; Tue, 14 Oct 2025 04:12:07 -0700 (PDT) DKIM-Signature: v=1; a=rsa-sha256; c=relaxed/relaxed; d=iol.unh.edu; s=unh-iol; t=1760440326; x=1761045126; darn=dpdk.org; h=references:in-reply-to:cc:to:from:subject:message-id:date:from:to :cc:subject:date:message-id:reply-to; bh=xAF487TTRTaycSB78GPGI8BMiykG8CZhEtEp+nOrbM8=; b=FG5KE3qMCNbZtsGKDTx8GxXLkPV8u8vu3fJ5rznlSDDI9zXTlM2xnukVbA5UnKzTQ8 EYmr2+6GtjQPmWpvaus+mzH0u3w+tL9sJECKBIYMOnz0s/0WJVlGQps5LD9H+F4Xjz1t Lb+4tbB524UQEGOaOVaqGG532nRALEIPGIhH4= X-Google-DKIM-Signature: v=1; a=rsa-sha256; c=relaxed/relaxed; d=1e100.net; s=20230601; t=1760440326; x=1761045126; h=references:in-reply-to:cc:to:from:subject:message-id:date :x-gm-message-state:from:to:cc:subject:date:message-id:reply-to; bh=xAF487TTRTaycSB78GPGI8BMiykG8CZhEtEp+nOrbM8=; b=gl4KCogOP8wk4Ob7hrRKGCZOIBKvjUbYMFpK85OZlKfR3lPsHI8DkhEaKMFseKeyle 47BFk4sByx3jmJ+jd4FkqcFQ2pfkOvMGu65DgCcur0kdn4hYzIialjJdXjYj/sAuFw0H RbnR3I1KNRVA8Fp2Lz4v4qlicFHMDPHMB3Xa8BQne0ABddpXiS5nibnTEsahyf6PVopX rPnkra0AxM89+l574dyawHl1kNfSShaZ5SZw2PjFcJLiPSr85TBqsCxuAolFLBQTQx+8 54xJbrHy/Ju364LT6jApxadIc/33NXk7QRkb0umnKX5U0QyYeaPBi0UMrLex4o/oXxoa bHoQ== X-Gm-Message-State: AOJu0YwzfWQLDQEAx+qNdoLZEQaYYFBNQDSUpq1kVuql2hr8cs/ElSyw 1eIfhSl3MepK3ruCg8IiT3XFp+5UI5P27t5i2Xt9Ez1LkbaW4ETGsIZnsSi3XiUeAorHVE6DeFX KZtjdoV186xH9frpEvBG421dW65P1ZqTbIMcowIZwGXD5 X-Gm-Gg: ASbGncvwreMknzwa3VUhDDq9K+K1gNF3huEYd80LITVKXE5BqCwuqXHIZo/G3N0NFvo pcVy5MBp8ar01a7bZ9EZyekFKRRb3VXWj96qITSMBnbS9nN1gTXlU0oTuLSGACWzePQxXe+6zCq kk7tQmwLuorqwRWHeo3pl37LaZu1doeHjCrOTKHl4Izne5r8yoNM8/SrPDDvDCuKTNMeU/sJC+m Bmm1WbHn1oCZ2TAw9FuWKl06Cw2S1OvrBo3cTKfU7rp4YTsLKR51JvIIybcfuxMqNBMKWbJv3Jx zNcsj/d0Op0sUZ+ndQ4lIpXmBWyhmda1GoDRyvulJRsFG8rExf7KNZ8gXoH8PcGtWRjcgd8U X-Google-Smtp-Source: AGHT+IH8LGYqjr/QfCZ0of3mxBh7mKkmKN++dZwZt3Rp9zOFHFFqNFVjc3E4oKJifYxo/9boMM6+d4OzgUe0 X-Received: by 2002:a17:903:38cf:b0:267:87be:505e with SMTP id d9443c01a7336-2902737c68bmr266191435ad.23.1760440326436; Tue, 14 Oct 2025 04:12:06 -0700 (PDT) Received: from postal.iol.unh.edu (postal.iol.unh.edu. [132.177.123.84]) by smtp-relay.gmail.com with ESMTPS id d9443c01a7336-29034df1257sm12081135ad.4.2025.10.14.04.12.06 (version=TLS1_2 cipher=ECDHE-ECDSA-AES128-GCM-SHA256 bits=128/128); Tue, 14 Oct 2025 04:12:06 -0700 (PDT) X-Relaying-Domain: iol.unh.edu Date: Tue, 14 Oct 2025 04:12:06 -0700 (PDT) Message-ID: <68ee3006.170a0220.32bd8.b3bdSMTPIN_ADDED_MISSING@mx.google.com> Received: from [172.21.0.2] (unknown [172.18.0.240]) by postal.iol.unh.edu (Postfix) with ESMTP id D8A726051830; Tue, 14 Oct 2025 07:12:05 -0400 (EDT) Subject: |SUCCESS| pw157547 [PATCH] devtools: honor -n flag regardless of std From: dpdklab@iol.unh.edu To: Test Report Cc: dpdk-test-reports@iol.unh.edu In-Reply-To: <20251014074340.2364328-1-alialnu@nvidia.com> References: <20251014074340.2364328-1-alialnu@nvidia.com> Content-Type: text/plain X-BeenThere: test-report@dpdk.org X-Mailman-Version: 2.1.29 Precedence: list List-Id: automatic DPDK test reports List-Unsubscribe: , List-Archive: List-Post: List-Help: List-Subscribe: , Errors-To: test-report-bounces@dpdk.org Test-Label: iol-unit-amd64-testing Test-Status: SUCCESS http://dpdk.org/patch/157547 _Testing PASS_ Submitter: Ali Alnubani Date: Tuesday, October 14 2025 07:43:40 DPDK git baseline: Repo:dpdk Branch: master CommitID:2b403dd8fb37d0ba13723e44ffc7ee2c2795f838 157547 --> testing pass Upstream job id: Generic-VM-Unit-Test-DPDK#31775 Test environment and result as below: +-------------------------------+----------------+ | Environment | dpdk_unit_test | +===============================+================+ | CentOS Stream 10 | PASS | +-------------------------------+----------------+ | CentOS Stream 9 | PASS | +-------------------------------+----------------+ | Debian GNU/Linux 12 | PASS | +-------------------------------+----------------+ | Fedora Linux 40 | PASS | +-------------------------------+----------------+ | Fedora Linux 41 | PASS | +-------------------------------+----------------+ | Red Hat Enterprise Linux 8.10 | PASS | +-------------------------------+----------------+ | Fedora Linux 42 | PASS | +-------------------------------+----------------+ | Ubuntu 22.04 | PASS | +-------------------------------+----------------+ | Ubuntu 20.04 | PASS | +-------------------------------+----------------+ | Red Hat Enterprise Linux 9.5 | PASS | +-------------------------------+----------------+ | Ubuntu 24.04 | PASS | +-------------------------------+----------------+ | Windows Server 2022 | PASS | +-------------------------------+----------------+ CentOS Stream 10 Kernel: 5.15 Compiler: gcc gcc (GCC) 14.2.1 20250110 (Red Hat 14.2.1-8) CentOS Stream 9 Kernel: 5.15 Compiler: gcc gcc (GCC) 11.5.0 20240719 (Red Hat 11.5.0-11) Debian GNU/Linux 12 Kernel: 5.15 Compiler: gcc gcc (Debian 12.2.0-14+deb12u1) 12.2.0 Fedora Linux 40 Kernel: 5.15 Compiler: gcc gcc (GCC) 14.2.1 20240912 (Red Hat 14.2.1-3) Fedora Linux 41 Kernel: 5.15 Compiler: clang gcc (GCC) 14.3.1 20250523 (Red Hat 14.3.1-1) Red Hat Enterprise Linux 8.10 Kernel: 5.15 Compiler: gcc gcc (GCC) 8.5.0 20210514 (Red Hat 8.5.0-22) Fedora Linux 42 Kernel: 5.15 Compiler: gcc gcc (GCC) 15.2.1 20250808 (Red Hat 15.2.1-1) Ubuntu 22.04 Kernel: 5.15 Compiler: gcc gcc (Ubuntu 11.4.0-1ubuntu1~22.04) 11.4.0 Ubuntu 20.04 Kernel: 5.15 Compiler: gcc gcc (Ubuntu 9.4.0-1ubuntu1~20.04.2) 9.4.0 Red Hat Enterprise Linux 9.5 Kernel: 5.15 Compiler: gcc gcc (GCC) 11.5.0 20240719 (Red Hat 11.5.0-2) Ubuntu 24.04 Kernel: 5.15 Compiler: gcc gcc (Ubuntu 13.3.0-6ubuntu2~24.04) 13.3.0 Windows Server 2022 Kernel: 10.0.20348.2031 Compiler: clang 15.0.7, gcc 14.1.0 (MinGW), and MSVC VS 19.39.33521 To view detailed results, visit: https://lab.dpdk.org/results/dashboard/patchsets/34271/ UNH-IOL DPDK Community Lab To manage your email subscriptions, visit: https://lab.dpdk.org/results/dashboard/preferences/subscriptions/