From mboxrd@z Thu Jan 1 00:00:00 1970 Return-Path: Received: from mails.dpdk.org (mails.dpdk.org [217.70.189.124]) by inbox.dpdk.org (Postfix) with ESMTP id 158AE48934 for ; Tue, 14 Oct 2025 13:44:00 +0200 (CEST) Received: from mails.dpdk.org (localhost [127.0.0.1]) by mails.dpdk.org (Postfix) with ESMTP id 116F9402AE; Tue, 14 Oct 2025 13:44:00 +0200 (CEST) Received: from mail-qk1-f225.google.com (mail-qk1-f225.google.com [209.85.222.225]) by mails.dpdk.org (Postfix) with ESMTP id 362D8402AE for ; Tue, 14 Oct 2025 13:43:58 +0200 (CEST) Received: by mail-qk1-f225.google.com with SMTP id af79cd13be357-86302b5a933so558268085a.0 for ; Tue, 14 Oct 2025 04:43:58 -0700 (PDT) DKIM-Signature: v=1; a=rsa-sha256; c=relaxed/relaxed; d=iol.unh.edu; s=unh-iol; t=1760442237; x=1761047037; darn=dpdk.org; h=references:in-reply-to:cc:to:from:subject:message-id:date:from:to :cc:subject:date:message-id:reply-to; bh=To5EG7qMJ1f8+QUjKCC4MnDBMFdlPGL1z9fCTsAxYwQ=; b=MDTIf3gqaodOXL6IFDj6MYg4dA46Xi1vllRsDXbvUba+ZDlM5fhtTDwgn0P4z3IJy7 i1b/ZjB+F/3UQbkrMn3Fz9sMON3WEzYv46UwGKitp4T2JGZWYyI2keTrwZuaYI8mEpKW Fqyt1g8LBP1aGaeyEvu6oISaa3m0dpIIq8Gtk= X-Google-DKIM-Signature: v=1; a=rsa-sha256; c=relaxed/relaxed; d=1e100.net; s=20230601; t=1760442237; x=1761047037; h=references:in-reply-to:cc:to:from:subject:message-id:date :x-gm-message-state:from:to:cc:subject:date:message-id:reply-to; bh=To5EG7qMJ1f8+QUjKCC4MnDBMFdlPGL1z9fCTsAxYwQ=; b=v2tzwBfU4q8C3NVgAa6Z0Ai90WrDr6UexyITXQZFWcq0BQAiwm0I4stsH4WNoXvPIM iOFaypDW9ddgTniBrIXgidRfYmIXb/ktL3e4TzHO+fMKP+/hhYD/doaej7ISZ+bJbbYc KiUraO7vXUNF2mesaULlrm5HhmWTa9X0g2Ir3mbiU0QfrTZOdd5v1NC8uT0FV2ldEivj hxSjEOBU5PciN4qW2CXLmWOSmHmSu222kj9NdpxUSKqFJfqKknl3x4PHy6xEPuuLa4ON HRrpx9dq8HIahCf7In2a5iAxJ2OBRcB/PFODfOnWYLjuIOevqPKCFtON8bJSLPh3K/cY bZ+g== X-Gm-Message-State: AOJu0Yy4yiyp8F9ycxqTIoZU5ixOHVrozTqTB63Cgmg/dVxxzncZij5/ XAKdEEYx5sfFj65ThIuv74kY264KpjxjOC3ufdSCIlIU4eoPNzBnVrPId7qN2yDm1dWpV61b78l ucq9ZxQmg2shsre7GemYPGgmp/DrYqhN63E+BypGAcUmkRcpT07pjmW+wWtwl X-Gm-Gg: ASbGnctZRl/F1QFEO3Dmd4pCAYRPv2bGohBYGfGazd4APDQg7IaVPCamhiVjGSA8EpT eiI55iM6v8AltJSTmFoY/VdxgpusH9BzOj6OTbF7aAeZKHjxPFUJ4OKdhMVNasY5aQQuCJPXN8Q Bj8bJTY85Fz1bQ2X5ga6uazHsZ/D2f1xSf5TshZZtbJFNp0wBhizCrnZfvL7UZN+L0GK7p74nS4 7Yh64IE587GsjWPTEnjmNhlSkdn12KT78iighWTtEc+YRvOY1k9AP1g84v/4l8zp/tpOp/0iV0Q SGtVazGFas+uanaLKZS4BazU4IexsT2hJ9lzqWozK8oIKRLCsQ== X-Google-Smtp-Source: AGHT+IG3Kb5GhepLHDfaP+yWb93xnmg0I4XbujEP/w3kw4AUOqQNso4YQiiHhVnLhu0YwlLzO/bxcbJPtTzu X-Received: by 2002:ac8:590e:0:b0:4b7:5de3:3046 with SMTP id d75a77b69052e-4e6ead54268mr361670271cf.49.1760442237475; Tue, 14 Oct 2025 04:43:57 -0700 (PDT) Received: from postal.iol.unh.edu (postal.iol.unh.edu. [2606:4100:3880:1234::84]) by smtp-relay.gmail.com with ESMTPS id 6a1803df08f44-87bc34652cdsm10867696d6.14.2025.10.14.04.43.57 (version=TLS1_2 cipher=ECDHE-ECDSA-AES128-GCM-SHA256 bits=128/128); Tue, 14 Oct 2025 04:43:57 -0700 (PDT) X-Relaying-Domain: iol.unh.edu Date: Tue, 14 Oct 2025 04:43:57 -0700 (PDT) Message-ID: <68ee377d.d40a0220.365a98.6b44SMTPIN_ADDED_MISSING@mx.google.com> Received: from [172.21.0.3] (unknown [172.18.0.240]) by postal.iol.unh.edu (Postfix) with ESMTP id 36F876051830; Tue, 14 Oct 2025 07:43:57 -0400 (EDT) Subject: |SUCCESS| pw157517-157531 [PATCH] [15/15] net/dpaa2: add Policer sta From: dpdklab@iol.unh.edu To: Test Report Cc: dpdk-test-reports@iol.unh.edu In-Reply-To: <20251014060045.1304694-16-prashant.gupta_3@nxp.com> References: <20251014060045.1304694-16-prashant.gupta_3@nxp.com> Content-Type: text/plain X-BeenThere: test-report@dpdk.org X-Mailman-Version: 2.1.29 Precedence: list List-Id: automatic DPDK test reports List-Unsubscribe: , List-Archive: List-Post: List-Help: List-Subscribe: , Errors-To: test-report-bounces@dpdk.org Test-Label: iol-compile-amd64-testing Test-Status: SUCCESS http://dpdk.org/patch/157531 _Testing PASS_ Submitter: Prashant Gupta Date: Tuesday, October 14 2025 06:00:45 DPDK git baseline: Repo:dpdk Branch: master CommitID:2b403dd8fb37d0ba13723e44ffc7ee2c2795f838 157517-157531 --> testing pass Upstream job id: Windows-Compile-DPDK-Native#31602 Test environment and result as below: +-------------------------------+--------------------+-------------------+------------------+-------------------+-------------------------+----------------------+ | Environment | dpdk_meson_compile | dpdk_compile_spdk | dpdk_compile_ovs | dpdk_msvc_compile | dpdk_llvm_clang_compile | dpdk_mingw64_compile | +===============================+====================+===================+==================+===================+=========================+======================+ | FreeBSD 14.2 | PASS | SKIPPED | SKIPPED | SKIPPED | SKIPPED | SKIPPED | +-------------------------------+--------------------+-------------------+------------------+-------------------+-------------------------+----------------------+ | Ubuntu 20.04 | PASS | SKIPPED | SKIPPED | SKIPPED | SKIPPED | SKIPPED | +-------------------------------+--------------------+-------------------+------------------+-------------------+-------------------------+----------------------+ | CentOS Stream 9 | PASS | PASS | SKIPPED | SKIPPED | SKIPPED | SKIPPED | +-------------------------------+--------------------+-------------------+------------------+-------------------+-------------------------+----------------------+ | CentOS Stream 10 | PASS | SKIPPED | SKIPPED | SKIPPED | SKIPPED | SKIPPED | +-------------------------------+--------------------+-------------------+------------------+-------------------+-------------------------+----------------------+ | Debian GNU/Linux 12 | PASS | PASS | SKIPPED | SKIPPED | SKIPPED | SKIPPED | +-------------------------------+--------------------+-------------------+------------------+-------------------+-------------------------+----------------------+ | Fedora Linux 42 | PASS | PASS | PASS | SKIPPED | SKIPPED | SKIPPED | +-------------------------------+--------------------+-------------------+------------------+-------------------+-------------------------+----------------------+ | Red Hat Enterprise Linux 8.10 | PASS | SKIPPED | SKIPPED | SKIPPED | SKIPPED | SKIPPED | +-------------------------------+--------------------+-------------------+------------------+-------------------+-------------------------+----------------------+ | openSUSE Leap 15.6 | PASS | SKIPPED | SKIPPED | SKIPPED | SKIPPED | SKIPPED | +-------------------------------+--------------------+-------------------+------------------+-------------------+-------------------------+----------------------+ | Red Hat Enterprise Linux 9.5 | PASS | SKIPPED | SKIPPED | SKIPPED | SKIPPED | SKIPPED | +-------------------------------+--------------------+-------------------+------------------+-------------------+-------------------------+----------------------+ | Alpine Linux 3.22.0 | PASS | SKIPPED | SKIPPED | SKIPPED | SKIPPED | SKIPPED | +-------------------------------+--------------------+-------------------+------------------+-------------------+-------------------------+----------------------+ | Ubuntu 24.04 | PASS | PASS | PASS | SKIPPED | SKIPPED | SKIPPED | +-------------------------------+--------------------+-------------------+------------------+-------------------+-------------------------+----------------------+ | Ubuntu 22.04 | PASS | PASS | SKIPPED | SKIPPED | SKIPPED | SKIPPED | +-------------------------------+--------------------+-------------------+------------------+-------------------+-------------------------+----------------------+ | Windows Server 2022 | SKIPPED | SKIPPED | SKIPPED | PASS | PASS | PASS | +-------------------------------+--------------------+-------------------+------------------+-------------------+-------------------------+----------------------+ FreeBSD 14.2 Kernel: 14.2-RELEASE Compiler: clang 18.1.6 Ubuntu 20.04 Kernel: 4.19 Compiler: gcc gcc (Ubuntu 9.4.0-1ubuntu1~20.04.2) 9.4.0 CentOS Stream 9 Kernel: 5.15 Compiler: gcc gcc (GCC) 11.5.0 20240719 (Red Hat 11.5.0-11) CentOS Stream 10 Kernel: 5.15 Compiler: gcc gcc (GCC) 14.2.1 20250110 (Red Hat 14.2.1-8) Debian GNU/Linux 12 Kernel: 5.15 Compiler: gcc gcc (Debian 12.2.0-14+deb12u1) 12.2.0 Fedora Linux 42 Kernel: 5.15 Compiler: clang gcc (GCC) 15.2.1 20250808 (Red Hat 15.2.1-1) Red Hat Enterprise Linux 8.10 Kernel: 5.15 Compiler: gcc gcc (GCC) 8.5.0 20210514 (Red Hat 8.5.0-22) openSUSE Leap 15.6 Kernel: 5.15 Compiler: gcc gcc (SUSE Linux) 7.5.0 Red Hat Enterprise Linux 9.5 Kernel: 5.15 Compiler: gcc gcc (GCC) 11.5.0 20240719 (Red Hat 11.5.0-2) Alpine Linux 3.22.0 Kernel: 5.15 Compiler: gcc gcc (Alpine 14.2.0) 14.2.0 Ubuntu 24.04 Kernel: 5.15 Compiler: gcc gcc (Ubuntu 13.3.0-6ubuntu2~24.04) 13.3.0 Ubuntu 22.04 Kernel: 5.15 Compiler: gcc gcc (Ubuntu 11.4.0-1ubuntu1~22.04) 11.4.0 Windows Server 2022 Kernel: 10.0.20348.2031 Compiler: clang 15.0.7, gcc 14.1.0 (MinGW), and MSVC VS 19.39.33521 To view detailed results, visit: https://lab.dpdk.org/results/dashboard/patchsets/34270/ UNH-IOL DPDK Community Lab To manage your email subscriptions, visit: https://lab.dpdk.org/results/dashboard/preferences/subscriptions/