From mboxrd@z Thu Jan 1 00:00:00 1970 Return-Path: Received: from mails.dpdk.org (mails.dpdk.org [217.70.189.124]) by inbox.dpdk.org (Postfix) with ESMTP id 972F848934 for ; Tue, 14 Oct 2025 13:49:39 +0200 (CEST) Received: from mails.dpdk.org (localhost [127.0.0.1]) by mails.dpdk.org (Postfix) with ESMTP id 92983402AE; Tue, 14 Oct 2025 13:49:39 +0200 (CEST) Received: from mail-yx1-f97.google.com (mail-yx1-f97.google.com [74.125.224.97]) by mails.dpdk.org (Postfix) with ESMTP id 62889402AE for ; Tue, 14 Oct 2025 13:49:38 +0200 (CEST) Received: by mail-yx1-f97.google.com with SMTP id 956f58d0204a3-635c9db8a16so4967797d50.0 for ; Tue, 14 Oct 2025 04:49:38 -0700 (PDT) DKIM-Signature: v=1; a=rsa-sha256; c=relaxed/relaxed; d=iol.unh.edu; s=unh-iol; t=1760442578; x=1761047378; darn=dpdk.org; h=references:in-reply-to:cc:to:from:subject:message-id:date:from:to :cc:subject:date:message-id:reply-to; bh=4x+w/n/Tq9u/0sbglEyYj38wUccZGNL2s8XeqLAnBlw=; b=is28+By4q9SvG+ShP2EppiPqOKacF7juUZw41Q1mbMzM6mG1s+FqfnvDEIMKzIVNve n8oHZcpOV4q8s6GTe2x7lCK0DvUh9ymEfoBZPWCf9//SjwhwIC7ejlhv0nsjEtWMUsmM +AvvZ+W8a+iosCxP/OkdIKi5ZfWwAeq9POzQQ= X-Google-DKIM-Signature: v=1; a=rsa-sha256; c=relaxed/relaxed; d=1e100.net; s=20230601; t=1760442578; x=1761047378; h=references:in-reply-to:cc:to:from:subject:message-id:date :x-gm-message-state:from:to:cc:subject:date:message-id:reply-to; bh=4x+w/n/Tq9u/0sbglEyYj38wUccZGNL2s8XeqLAnBlw=; b=kSDmzOT1o359PR7VJ+HjAXmBMye6kLYQd5yYbs7PR914NaD/qlzb6PfeEWCVfLoJxE sW0caKyFeIRPj0+erPsI972+eYl92ehcHg/kLj4CPDYVSDVlHSYee7ZFhWeuBuDY04lQ cf6kf+s+5REoiZ+zAGtheYmE50cO/GYzPO/8Jhj14Zbmx6FhfIMlZBl40GBMNb51lWcL 8B7YRU6I7bRa9QKRa6J8mQLbAqAaJBAGgv2EQUezdCS4DIdLDNRJ7K0DAEnVrsfJ/y5o QgAmY36oQi4Epvh5RqL2QizcjqD/NmCQESy+BB+l18Fd2e/wtFTaXWAjyTTSgkxE2Ctz oI1A== X-Gm-Message-State: AOJu0YyH/9o0dGGs8MmWYmbzFmlXAgNJx0oohsUaaw+fjAEjusomb6vE LY2TYR5rsT/aWhUEtFJHqolHv/i8XM5HC8ZVz4fQX2XH/jHXjb/GZ8oxsSs+sW8pGVgd5RtCU19 Gmo05pKuz3Swn+QnSuHfw79GGtGPBvlSLjEDqapEZbzvXP5OaerWUDm0n4Gv7 X-Gm-Gg: ASbGncv6nrL4e9Vm3c0GuX8BzUjkxlGs6UKaU1/RYny+/LzcvIaLdRlW+lY5Sjd+t9H A9SY2AkwBv/TnSIuu9ZWFmCwP+1VsnrSYVx7yR/+Y1FWDjPfUQ54dFqRd6mXv9lhSBZeAb0X2Iq qrE2uvCa+2PIYWC/Oqh3h3ADlcmcpwx4oTNgKjxTJj78gq492znwsf03TnxHTWFMq2Fj/DCLD1F c8pOrjqca6mXbEkVLenEXNmSV0HGB8vbvBukwa4yYD7vns7KSxIHZTbgJzjktMheiEDbuuP4YVL kewFRDj2BgKF4CNbVe1kCqVkUygYd6S2+il9RsTHUuUEZ2r30Q== X-Google-Smtp-Source: AGHT+IFueSSM4VQt74uv2j6vFlYZ1zZFg5kYtKcn62tJMX/rMfIv4PwVG43iMYizG/ReoIyvodMZuBImDw8V X-Received: by 2002:a53:c058:0:20b0:63c:f5a6:f2ff with SMTP id 956f58d0204a3-63cf5a706c5mr8175968d50.65.1760442577621; Tue, 14 Oct 2025 04:49:37 -0700 (PDT) Received: from postal.iol.unh.edu (postal.iol.unh.edu. [2606:4100:3880:1234::84]) by smtp-relay.gmail.com with ESMTPS id 956f58d0204a3-63ce9ff3ccbsm690315d50.4.2025.10.14.04.49.37 (version=TLS1_2 cipher=ECDHE-ECDSA-AES128-GCM-SHA256 bits=128/128); Tue, 14 Oct 2025 04:49:37 -0700 (PDT) X-Relaying-Domain: iol.unh.edu Date: Tue, 14 Oct 2025 04:49:37 -0700 (PDT) Message-ID: <68ee38d1.050a0220.2c0ecd.1f70SMTPIN_ADDED_MISSING@mx.google.com> Received: from [172.21.0.2] (unknown [172.18.0.240]) by postal.iol.unh.edu (Postfix) with ESMTP id 1EDEC6051830; Tue, 14 Oct 2025 07:49:37 -0400 (EDT) Subject: |SUCCESS| pw157557-157561 [PATCH] [v3,5/5] net/dpaa: fix resource le From: dpdklab@iol.unh.edu To: Test Report Cc: dpdk-test-reports@iol.unh.edu, Stephen Hemminger In-Reply-To: <20251014101716.2885563-6-g.singh@nxp.com> References: <20251014101716.2885563-6-g.singh@nxp.com> Content-Type: text/plain X-BeenThere: test-report@dpdk.org X-Mailman-Version: 2.1.29 Precedence: list List-Id: automatic DPDK test reports List-Unsubscribe: , List-Archive: List-Post: List-Help: List-Subscribe: , Errors-To: test-report-bounces@dpdk.org Test-Label: iol-unit-amd64-testing Test-Status: SUCCESS http://dpdk.org/patch/157561 _Testing PASS_ Submitter: Gagandeep Singh Date: Tuesday, October 14 2025 10:17:16 DPDK git baseline: Repo:dpdk-next-net Branch: master CommitID:c04bbd131b2c14b3049bf86d3ef367b34e6fdf1e 157557-157561 --> testing pass Upstream job id: Generic-Unit-Test-DPDK#381248 Test environment and result as below: +-------------------------------+----------------+ | Environment | dpdk_unit_test | +===============================+================+ | CentOS Stream 10 | PASS | +-------------------------------+----------------+ | CentOS Stream 9 | PASS | +-------------------------------+----------------+ | Debian GNU/Linux 12 | PASS | +-------------------------------+----------------+ | Fedora Linux 40 | PASS | +-------------------------------+----------------+ | Red Hat Enterprise Linux 8.10 | PASS | +-------------------------------+----------------+ | Fedora Linux 42 | PASS | +-------------------------------+----------------+ | Fedora Linux 41 | PASS | +-------------------------------+----------------+ | Ubuntu 20.04 | PASS | +-------------------------------+----------------+ | Red Hat Enterprise Linux 9.5 | PASS | +-------------------------------+----------------+ | Ubuntu 22.04 | PASS | +-------------------------------+----------------+ | Ubuntu 24.04 | PASS | +-------------------------------+----------------+ CentOS Stream 10 Kernel: 5.15 Compiler: gcc gcc (GCC) 14.2.1 20250110 (Red Hat 14.2.1-8) CentOS Stream 9 Kernel: 5.15 Compiler: gcc gcc (GCC) 11.5.0 20240719 (Red Hat 11.5.0-11) Debian GNU/Linux 12 Kernel: 5.15 Compiler: gcc gcc (Debian 12.2.0-14+deb12u1) 12.2.0 Fedora Linux 40 Kernel: 5.15 Compiler: clang gcc (GCC) 14.2.1 20240912 (Red Hat 14.2.1-3) Red Hat Enterprise Linux 8.10 Kernel: 5.15 Compiler: gcc gcc (GCC) 8.5.0 20210514 (Red Hat 8.5.0-22) Fedora Linux 42 Kernel: 5.15 Compiler: gcc gcc (GCC) 15.2.1 20250808 (Red Hat 15.2.1-1) Fedora Linux 41 Kernel: 5.15 Compiler: clang gcc (GCC) 14.3.1 20250523 (Red Hat 14.3.1-1) Ubuntu 20.04 Kernel: 5.15 Compiler: gcc gcc (Ubuntu 9.4.0-1ubuntu1~20.04.2) 9.4.0 Red Hat Enterprise Linux 9.5 Kernel: 5.15 Compiler: gcc gcc (GCC) 11.5.0 20240719 (Red Hat 11.5.0-2) Ubuntu 22.04 Kernel: 5.15 Compiler: gcc gcc (Ubuntu 11.4.0-1ubuntu1~22.04) 11.4.0 Ubuntu 24.04 Kernel: 5.15 Compiler: gcc gcc (Ubuntu 13.3.0-6ubuntu2~24.04) 13.3.0 To view detailed results, visit: https://lab.dpdk.org/results/dashboard/patchsets/34274/ UNH-IOL DPDK Community Lab To manage your email subscriptions, visit: https://lab.dpdk.org/results/dashboard/preferences/subscriptions/