From mboxrd@z Thu Jan 1 00:00:00 1970 Return-Path: Received: from mails.dpdk.org (mails.dpdk.org [217.70.189.124]) by inbox.dpdk.org (Postfix) with ESMTP id B200A48934 for ; Tue, 14 Oct 2025 13:50:33 +0200 (CEST) Received: from mails.dpdk.org (localhost [127.0.0.1]) by mails.dpdk.org (Postfix) with ESMTP id AB687402AE; Tue, 14 Oct 2025 13:50:33 +0200 (CEST) Received: from mail-pg1-f228.google.com (mail-pg1-f228.google.com [209.85.215.228]) by mails.dpdk.org (Postfix) with ESMTP id D2CBE402AE for ; Tue, 14 Oct 2025 13:50:31 +0200 (CEST) Received: by mail-pg1-f228.google.com with SMTP id 41be03b00d2f7-b551350adfaso4338351a12.3 for ; Tue, 14 Oct 2025 04:50:31 -0700 (PDT) DKIM-Signature: v=1; a=rsa-sha256; c=relaxed/relaxed; d=iol.unh.edu; s=unh-iol; t=1760442631; x=1761047431; darn=dpdk.org; h=references:in-reply-to:cc:to:from:subject:message-id:date:from:to :cc:subject:date:message-id:reply-to; bh=QlGRlxAVO6RvA5mZoYh7/QP312SaQ8fPucokn60rKuA=; b=bpZuEiN+d/OMkPPUHojTS6UOLkvaGSzPCJXLzeT6XCCLjOak1tcIRKzQYcQ72QZ/95 fVpiH3Za9OzzFI9TfVnKiND00q8hxBQXdKiODN5DpVDkEUG7sI4uN1IwFAuTWBdJY9H9 0kIAiHXsrpJKTtjhVVUpgs3r83tJyJtrTMrRU= X-Google-DKIM-Signature: v=1; a=rsa-sha256; c=relaxed/relaxed; d=1e100.net; s=20230601; t=1760442631; x=1761047431; h=references:in-reply-to:cc:to:from:subject:message-id:date :x-gm-message-state:from:to:cc:subject:date:message-id:reply-to; bh=QlGRlxAVO6RvA5mZoYh7/QP312SaQ8fPucokn60rKuA=; b=UzReNwS/oSU0uolMgmmF87uc6StGVdosrusI8U/ZpUUYzA8U2o3fIe+zUXZtm+vCAn MLh+UEjU0nu0Ek9iYdtGFCPsNC17MNphIL7undP180OGYnhEoi1W5EYJ56z91VEprN+u 8IRjn4saPecFDHvwY8Wkga2WwbwYrlb/n93u0viJ7AxmVW4W9dkmnVtXK+yTcwtpwyuV OAqi3LP4pOdfXaKvu655f4zbz7QI50/xjZF1poFDHkcwp1b97hzprbczyhwLYLH/18l+ 13huo4lzqb3mrIU0zqon39sTmKJDUki9pp5uFNNSYiiGZn3frl3e1sO8lHhuCfn8bql+ qQwg== X-Gm-Message-State: AOJu0Yy/ype3Oq8IkTw4PyX8AZ7zRd7QQMBvwy314rlPU3fGPE/NQLxH cSs6OIHmv6QbElPwSnXDEV3X3LNOSPuUTxG3QyL/+a8AbWAt2hOcmOnddcESEgA8Ix+SHuKYAws 48yn+61bovdW/YcYXqWOPISCdtVind5grWb6qjtzUt33f2qetpL+chz/QSr4t X-Gm-Gg: ASbGncvIC1TQexbnMSlJl94SuuEPFu2gn1jjDJMchgcKgRUFWa+Tg2t1Fy9cwW01+4f +Lw2eyrdF0uL4PuBaqT+VvUKvZiC4TlJIaIPEIzha0NW6aNl7kVzzRwtcspAWa33IlE/YNjfsBt jpjkpB4BrgtHbwFSiZ4vSI1qs2SD2zyaV8/Elk5/pkbJEJPRcJtaFHW3HMSyprqBukkzLN4s+Ke 5uZHHQGJLljx0js0ugBDqxHFDBGWwMsIen92p1t5N5whk4wwoKiIlsKCtkClSyuHtFZhyk1b+ul ERu4BAeTESONv6V7pOnyDYSWLUppOme/+k8VouHrktUKZ9Xp+g== X-Google-Smtp-Source: AGHT+IFhr2WuomMnWuXH2MRE36RWXyvnHayWSs61kmARLS84iJf67r0IRhuzcYE3pjB8A5/vcDKHJLoQpeXt X-Received: by 2002:a17:902:e785:b0:288:e46d:b32b with SMTP id d9443c01a7336-290273748d3mr331959605ad.17.1760442630869; Tue, 14 Oct 2025 04:50:30 -0700 (PDT) Received: from postal.iol.unh.edu (postal.iol.unh.edu. [2606:4100:3880:1234::84]) by smtp-relay.gmail.com with ESMTPS id d9443c01a7336-2904e9e0f2esm8985015ad.74.2025.10.14.04.50.30 (version=TLS1_2 cipher=ECDHE-ECDSA-AES128-GCM-SHA256 bits=128/128); Tue, 14 Oct 2025 04:50:30 -0700 (PDT) X-Relaying-Domain: iol.unh.edu Date: Tue, 14 Oct 2025 04:50:30 -0700 (PDT) Message-ID: <68ee3906.170a0220.1d852.bfe4SMTPIN_ADDED_MISSING@mx.google.com> Received: from [172.21.0.2] (unknown [172.18.0.240]) by postal.iol.unh.edu (Postfix) with ESMTP id 2391D6051830; Tue, 14 Oct 2025 07:50:30 -0400 (EDT) Subject: |SUCCESS| pw157557-157561 [PATCH] [v3,5/5] net/dpaa: fix resource le From: dpdklab@iol.unh.edu To: Test Report Cc: dpdk-test-reports@iol.unh.edu, Stephen Hemminger In-Reply-To: <20251014101716.2885563-6-g.singh@nxp.com> References: <20251014101716.2885563-6-g.singh@nxp.com> Content-Type: text/plain X-BeenThere: test-report@dpdk.org X-Mailman-Version: 2.1.29 Precedence: list List-Id: automatic DPDK test reports List-Unsubscribe: , List-Archive: List-Post: List-Help: List-Subscribe: , Errors-To: test-report-bounces@dpdk.org Test-Label: iol-compile-amd64-testing Test-Status: SUCCESS http://dpdk.org/patch/157561 _Testing PASS_ Submitter: Gagandeep Singh Date: Tuesday, October 14 2025 10:17:16 DPDK git baseline: Repo:dpdk-next-net Branch: master CommitID:c04bbd131b2c14b3049bf86d3ef367b34e6fdf1e 157557-157561 --> testing pass Upstream job id: Generic-DPDK-Compile-Meson#434091 Test environment and result as below: +-------------------------------+--------------------+-------------------+------------------+ | Environment | dpdk_meson_compile | dpdk_compile_spdk | dpdk_compile_ovs | +===============================+====================+===================+==================+ | Debian GNU/Linux 12 | PASS | PASS | SKIPPED | +-------------------------------+--------------------+-------------------+------------------+ | Ubuntu 20.04 | PASS | SKIPPED | SKIPPED | +-------------------------------+--------------------+-------------------+------------------+ | Fedora Linux 42 | PASS | PASS | PASS | +-------------------------------+--------------------+-------------------+------------------+ | Red Hat Enterprise Linux 9.5 | PASS | SKIPPED | SKIPPED | +-------------------------------+--------------------+-------------------+------------------+ | Red Hat Enterprise Linux 8.10 | PASS | SKIPPED | SKIPPED | +-------------------------------+--------------------+-------------------+------------------+ | openSUSE Leap 15.6 | PASS | SKIPPED | SKIPPED | +-------------------------------+--------------------+-------------------+------------------+ | CentOS Stream 10 | PASS | SKIPPED | SKIPPED | +-------------------------------+--------------------+-------------------+------------------+ | CentOS Stream 9 | PASS | PASS | SKIPPED | +-------------------------------+--------------------+-------------------+------------------+ | Ubuntu 22.04 | PASS | PASS | SKIPPED | +-------------------------------+--------------------+-------------------+------------------+ | Ubuntu 24.04 | PASS | PASS | PASS | +-------------------------------+--------------------+-------------------+------------------+ | FreeBSD 14.2 | PASS | SKIPPED | SKIPPED | +-------------------------------+--------------------+-------------------+------------------+ | Alpine Linux 3.22.0 | PASS | SKIPPED | SKIPPED | +-------------------------------+--------------------+-------------------+------------------+ Debian GNU/Linux 12 Kernel: 5.15 Compiler: gcc gcc (Debian 12.2.0-14+deb12u1) 12.2.0 Ubuntu 20.04 Kernel: 5.15 Compiler: gcc gcc (Ubuntu 9.4.0-1ubuntu1~20.04.2) 9.4.0 Fedora Linux 42 Kernel: 5.15 Compiler: gcc gcc (GCC) 15.2.1 20250808 (Red Hat 15.2.1-1) Red Hat Enterprise Linux 9.5 Kernel: 5.15 Compiler: gcc gcc (GCC) 11.5.0 20240719 (Red Hat 11.5.0-2) Red Hat Enterprise Linux 8.10 Kernel: 5.15 Compiler: gcc gcc (GCC) 8.5.0 20210514 (Red Hat 8.5.0-22) openSUSE Leap 15.6 Kernel: 5.15 Compiler: gcc gcc (SUSE Linux) 7.5.0 CentOS Stream 10 Kernel: 5.15 Compiler: gcc gcc (GCC) 14.2.1 20250110 (Red Hat 14.2.1-8) CentOS Stream 9 Kernel: 5.15 Compiler: gcc gcc (GCC) 11.5.0 20240719 (Red Hat 11.5.0-11) Ubuntu 22.04 Kernel: 5.15 Compiler: gcc gcc (Ubuntu 11.4.0-1ubuntu1~22.04) 11.4.0 Ubuntu 24.04 Kernel: 5.15 Compiler: gcc gcc (Ubuntu 13.3.0-6ubuntu2~24.04) 13.3.0 FreeBSD 14.2 Kernel: 14.2-RELEASE Compiler: clang 18.1.6 Alpine Linux 3.22.0 Kernel: 5.15 Compiler: gcc gcc (Alpine 14.2.0) 14.2.0 To view detailed results, visit: https://lab.dpdk.org/results/dashboard/patchsets/34274/ UNH-IOL DPDK Community Lab To manage your email subscriptions, visit: https://lab.dpdk.org/results/dashboard/preferences/subscriptions/