From mboxrd@z Thu Jan 1 00:00:00 1970 Return-Path: Received: from mails.dpdk.org (mails.dpdk.org [217.70.189.124]) by inbox.dpdk.org (Postfix) with ESMTP id 159A548934 for ; Tue, 14 Oct 2025 13:53:39 +0200 (CEST) Received: from mails.dpdk.org (localhost [127.0.0.1]) by mails.dpdk.org (Postfix) with ESMTP id ED4EB402AE; Tue, 14 Oct 2025 13:53:38 +0200 (CEST) Received: from mail-pg1-f226.google.com (mail-pg1-f226.google.com [209.85.215.226]) by mails.dpdk.org (Postfix) with ESMTP id F3FBB402AE for ; Tue, 14 Oct 2025 13:53:36 +0200 (CEST) Received: by mail-pg1-f226.google.com with SMTP id 41be03b00d2f7-b57d93ae3b0so3134298a12.1 for ; Tue, 14 Oct 2025 04:53:36 -0700 (PDT) DKIM-Signature: v=1; a=rsa-sha256; c=relaxed/relaxed; d=iol.unh.edu; s=unh-iol; t=1760442816; x=1761047616; darn=dpdk.org; h=references:in-reply-to:cc:to:from:subject:message-id:date:from:to :cc:subject:date:message-id:reply-to; bh=WYkC8JA1mDNiBus6Q9LxJvzmk9T+maWtP4XxJNqdhFs=; b=ePO53+Vnwl9NR9rlmSnPFf4OKwcXX6CnFn1dOFicSUhv/iWXT8Memr9ObAQuGblLoZ CzJD7FlNLztgk2Ens6B/pitk78IQbAxhMC3v/iskk8hfrS1DtRMqr703XhW5TgHN3zsP aRQft37GUPpu0DGkqGi+fmGfHHW+q1beRdR9M= X-Google-DKIM-Signature: v=1; a=rsa-sha256; c=relaxed/relaxed; d=1e100.net; s=20230601; t=1760442816; x=1761047616; h=references:in-reply-to:cc:to:from:subject:message-id:date :x-gm-message-state:from:to:cc:subject:date:message-id:reply-to; bh=WYkC8JA1mDNiBus6Q9LxJvzmk9T+maWtP4XxJNqdhFs=; b=XkE7tWeOsrtNZ9kL5EqhzKdNT8gwzeAX6RCzQBji8dE811ZRGH7rUIJItXBORM1lHh Wbp3joDFxHGdZ2jK2G6X8ANVRAxQnLffFcS6nTk7zKghoFc8EErHBGcorDbF2I906kEA ZuqKziXFDy8nCUX4qvn8mHy9RjqhU9AinLaEK0wAmMzpdz63jc84FWB31DJzvntlOyXJ rwZixZh8HIi6fk0clrTK+n3N6j5GG05Y0QWZ/cjW4sU71JICftV5Ji+fTuGtUACKqaTz rPtnLwYxeF1k1GFy4v1FxMA1j/Bv54RGxlkIJq8VsQvEZt2JLuTGujkGa8/en5nZTqY0 v7lw== X-Gm-Message-State: AOJu0YyrNYogg9jisKNr/DL1J6IVHu46Nhkk46EDPwXcPx2aZox2y8gJ 1wlRH7ucYpD5ERB20f0cI3prLl8kF6aJLh9uGpl8ljiBXUqP1WHNcxl5fYNfHH9rYJh3x+SWMLg UxuTv9gBT2JwgGCr3A97nXppJaAyToicYPqqqFl8RgfRaucv7G/uKW/9P5aVs X-Gm-Gg: ASbGnctH2ybl9GZ5zaOvKdWSsSnZNICCjJvUxGeOApDYyINhgiSRxCeh4J76KR3hoq4 xtrGchyOttAHh82DRlr/BoGG4676yEYgDPnMl1tAHnyPz29R3pSOYUOjlddhhQ1YU0GgLQqfqAC 2Q+snOSAp3AUfkX7cOwlsIreHXoXxigAO2Dd78ZDOyTM5qwY9hwLs8HqkQbL87Npa4jF9zUY2ty IppJ+deK/BRstitl4u1yH6Lk5Md8wPoWKYRlFhy1kNT4qkK5sE0PaE72WAtlU3mlvRnxLyI/5iB vkDFuG4hPnyUPyKZztYUfDQIAWZ01eSvQVrxx7/GyIoiP2dW3g== X-Google-Smtp-Source: AGHT+IE1ogGZ+qThopMEYulfBkjZIhqaHl5FLVejouWYlj/qpUmzmOiaEHwCgKKSEx9vwrx5w33wy/2ndqq8 X-Received: by 2002:a17:903:9cb:b0:28e:caee:40dc with SMTP id d9443c01a7336-29027237d65mr283834435ad.14.1760442815987; Tue, 14 Oct 2025 04:53:35 -0700 (PDT) Received: from postal.iol.unh.edu (postal.iol.unh.edu. [2606:4100:3880:1234::84]) by smtp-relay.gmail.com with ESMTPS id d9443c01a7336-29034df1257sm12144075ad.4.2025.10.14.04.53.35 (version=TLS1_2 cipher=ECDHE-ECDSA-AES128-GCM-SHA256 bits=128/128); Tue, 14 Oct 2025 04:53:35 -0700 (PDT) X-Relaying-Domain: iol.unh.edu Date: Tue, 14 Oct 2025 04:53:35 -0700 (PDT) Message-ID: <68ee39bf.170a0220.32bd8.b868SMTPIN_ADDED_MISSING@mx.google.com> Received: from [172.21.0.3] (unknown [172.18.0.240]) by postal.iol.unh.edu (Postfix) with ESMTP id 405986051830; Tue, 14 Oct 2025 07:53:35 -0400 (EDT) Subject: |SUCCESS| pw157548-157553 [PATCH] [6/6] net/ice: reformat the Rx pat From: dpdklab@iol.unh.edu To: Test Report Cc: dpdk-test-reports@iol.unh.edu, Bruce Richardson In-Reply-To: <20251014084517.1407407-7-ciara.loftus@intel.com> References: <20251014084517.1407407-7-ciara.loftus@intel.com> Content-Type: text/plain X-BeenThere: test-report@dpdk.org X-Mailman-Version: 2.1.29 Precedence: list List-Id: automatic DPDK test reports List-Unsubscribe: , List-Archive: List-Post: List-Help: List-Subscribe: , Errors-To: test-report-bounces@dpdk.org Test-Label: iol-unit-amd64-testing Test-Status: SUCCESS http://dpdk.org/patch/157553 _Testing PASS_ Submitter: Ciara Loftus Date: Tuesday, October 14 2025 08:45:17 DPDK git baseline: Repo:dpdk-next-net-intel Branch: master CommitID:b26049c00e3c452cb446d688a43c6c7eebbee32e 157548-157553 --> testing pass Upstream job id: Generic-VM-Unit-Test-DPDK#31776 Test environment and result as below: +-------------------------------+----------------+ | Environment | dpdk_unit_test | +===============================+================+ | CentOS Stream 10 | PASS | +-------------------------------+----------------+ | CentOS Stream 9 | PASS | +-------------------------------+----------------+ | Debian GNU/Linux 12 | PASS | +-------------------------------+----------------+ | Fedora Linux 40 | PASS | +-------------------------------+----------------+ | Fedora Linux 41 | PASS | +-------------------------------+----------------+ | Fedora Linux 42 | PASS | +-------------------------------+----------------+ | Ubuntu 20.04 | PASS | +-------------------------------+----------------+ | Red Hat Enterprise Linux 9.5 | PASS | +-------------------------------+----------------+ | Ubuntu 22.04 | PASS | +-------------------------------+----------------+ | Red Hat Enterprise Linux 8.10 | PASS | +-------------------------------+----------------+ | Ubuntu 24.04 | PASS | +-------------------------------+----------------+ | Windows Server 2022 | PASS | +-------------------------------+----------------+ CentOS Stream 10 Kernel: 5.15 Compiler: gcc gcc (GCC) 14.2.1 20250110 (Red Hat 14.2.1-8) CentOS Stream 9 Kernel: 5.15 Compiler: gcc gcc (GCC) 11.5.0 20240719 (Red Hat 11.5.0-11) Debian GNU/Linux 12 Kernel: 5.15 Compiler: gcc gcc (Debian 12.2.0-14+deb12u1) 12.2.0 Fedora Linux 40 Kernel: 5.15 Compiler: gcc gcc (GCC) 14.2.1 20240912 (Red Hat 14.2.1-3) Fedora Linux 41 Kernel: 5.15 Compiler: clang gcc (GCC) 14.3.1 20250523 (Red Hat 14.3.1-1) Fedora Linux 42 Kernel: 5.15 Compiler: gcc gcc (GCC) 15.2.1 20250808 (Red Hat 15.2.1-1) Ubuntu 20.04 Kernel: 5.15 Compiler: gcc gcc (Ubuntu 9.4.0-1ubuntu1~20.04.2) 9.4.0 Red Hat Enterprise Linux 9.5 Kernel: 5.15 Compiler: gcc gcc (GCC) 11.5.0 20240719 (Red Hat 11.5.0-2) Ubuntu 22.04 Kernel: 5.15 Compiler: gcc gcc (Ubuntu 11.4.0-1ubuntu1~22.04) 11.4.0 Red Hat Enterprise Linux 8.10 Kernel: 5.15 Compiler: gcc gcc (GCC) 8.5.0 20210514 (Red Hat 8.5.0-22) Ubuntu 24.04 Kernel: 5.15 Compiler: gcc gcc (Ubuntu 13.3.0-6ubuntu2~24.04) 13.3.0 Windows Server 2022 Kernel: 10.0.20348.2031 Compiler: clang 15.0.7, gcc 14.1.0 (MinGW), and MSVC VS 19.39.33521 To view detailed results, visit: https://lab.dpdk.org/results/dashboard/patchsets/34272/ UNH-IOL DPDK Community Lab To manage your email subscriptions, visit: https://lab.dpdk.org/results/dashboard/preferences/subscriptions/